Workbook

Sheet บัญชีสรุป
A1: บัญชีสรุปจำนวนโครงการและงบประมาณ
A2: แผนการดำเนินงาน ประจำปีงบประมาณ พ.ศ.2565
A3: องค์การบริหารส่วนตำบลวังหิน อำเภอบางขัน จังหวัดนครศรีธรรมราช
A4: ยุทธศาสตร์ / แนวทาง | B4: จำนวนโครงการ ที่ดำเนินงาน | C4: คิดเป็นร้อยละ ของโครงการทั้งหมด | D4: จำนวน งบประมาณ | E4: ร้อยละ ของงบประมาณ | F4: หน่วยงาน ที่ดำเนินงาน | G4: ปัญหา/อุปสรรค | H4: ข้อเสนอแนะ
A5: ยุทธศาสตร์ที่ 1 : ยุทธศาสตร์การพัฒนาด้านโครงสร้างพื้นฐาน | F5: กองช่าง | G5: ไม่มี | H5: ไม่มี
A6: - แผนงานอุตสาหกรรมและการโยธา | B6: 9 | C6: =B6*100/B37 -> 14.516129 | D6: ='ผด2 ( ย.1 )'!D39+'ผด2 ( ย.1 )'!D63 -> 5306000 | E6: =D6*100/D37 -> 22.281105
A7: รวม | B7: =SUM(B6:B6) -> 9 | C7: =C6 -> 14.516129 | D7: =D6 -> 5306000 | E7: =E6 -> 22.281105
A8: ยุทธศาสตร์ที่ 2 : การพัฒนาเศรษฐกิจและการท่องเที่ยว | B8: - | C8: - | D8: - | E8: - | G8: ไม่มีโครงการในด้าน | H8: ในการจัดทำงบประมาณ
G9: การพัฒนายุทธศาสตร์ | H9: ในทุกๆปี ต้องมีโครงการ
G10: ในด้านนี้ จึงทำให้ไม่มี | H10: ในยุทธศาสตร์ที่ 2 บรรจุ
G11: งบประมาณในการพัฒนา | H11: ในข้อบัญญัติงบประมาณ
H12: ของอบต.
A14: ยุทธศาสตร์ที่ 3 : ยุทธศาสตร์การพัฒนาด้านการศึกษา ศาสนา ศิลปวัฒนธรรม | F14: กอง การศึกษา | G14: ไม่มี | H14: ไม่มี
A15: - แผนงานการศึกษา | B15: 7 | C15: =B15*100/B37 -> 11.290323 | D15: ='ผด2 ( ย.3)'!D23 -> 3805900 | E15: =D15*100/D37 -> 15.981843
A16: - แผนงานการศาสนาวัฒนธรรมและนันทนาการ
A17: -- งานกีฬาและนันทนาการ | B17: 3 | C17: =B17*100/B37 -> 4.8387097 | D17: ='ผด2 ( ย.3)'!D47 -> 330000 | E17: =D17*100/D37 -> 1.3857453
A18: -- งานศาสนาวัฒนธรรมท้องถิ่น | B18: 8 | C18: =B18*100/B37 -> 12.903226 | D18: ='ผด2 ( ย.3)'!D82 -> 400000 | E18: =D18*100/D37 -> 1.6796913
A19: รวม | B19: =B15+B17+B18 -> 18 | C19: =B19*100/B37 -> 29.032258 | D19: =D15+D17+D18 -> 4535900 | E19: =D19*100/D37 -> 19.047279
A20: ยุทธศาสตร์ที่ 4 : ยุทธศาสตร์การพัฒนาด้านสิ่งแวดล้อมและ การจัดการทรัพยากรธรรมชาติ | F20: สำนักงาน ปลัด อบต. | G20: ไม่มี | H20: ไม่มี
A21: - แผนงานสาธารณสุข | B21: 1 | C21: =B21*10/B37 -> 0.16129032 | D21: ='ผด2 ( ย.4) '!D10 -> 30000 | E21: =D21*100/D37 -> 0.12597685
A22: - แผนงานการเกษตร | B22: 1 | C22: =B22:B23/B37 -> 0.016129032 | D22: ='ผด2 ( ย.4) '!D30 -> 20000 | E22: =D22*100/D37 -> 0.083984564
A23: รวม | B23: =B21+B22 -> 2 | C23: =B23*100/B37 -> 3.2258065 | D23: =D21+D22 -> 50000 | E23: =D23*100/D37 -> 0.20996141
A24: ยุทธศาสตร์ที่ 5 : ยุทธศาสตร์การพัฒนาด้านคุณภาพชีวิตและสังคม | F24: สำนักงาน ปลัด อบต. | G24: ไม่มี | H24: ไม่มี
A25: - แผนงานการรักษาความสงบภายใน | B25: 4 | C25: =B25*100/B37 -> 6.4516129 | D25: ='ผด2 ( ย.5) '!D15 -> 170000 | E25: =D25*100/D37 -> 0.71386879
A26: - แผนงานสาธารณสุข | B26: 15 | C26: =B26*100/B37 -> 24.193548 | D26: ='ผด2 ( ย.5) '!D51 -> 410000 | E26: =D26*100/D37 -> 1.7216836
A27: - แผนงานสร้างความเข้มแข็งของชุมชน | B27: 3 | C27: =B27*100/B37 -> 4.8387097 | D27: ='ผด2 ( ย.5) '!D62 -> 290000 | E27: =D27*100/D37 -> 1.2177762
A28: - แผนงานงบกลาง | B28: 3 | C28: =B28*100/B37 -> 4.8387097 | D28: ='ผด2 ( ย.5) '!D84 -> 12042000 | E28: =D28*100/D37 -> 50.567106
A29: รวม | B29: =B25+B26+B27+B28 -> 25 | C29: =B29*100/B37 -> 40.322581 | D29: =SUM(D25:D28) -> 12912000 | E29: =D29*100/D37 -> 54.220434
A31: ยุทธศาสตร์ / แนวทาง | B31: จำนวนโครงการ ที่ดำเนินงาน | C31: คิดเป็นร้อยละ ของโครงการทั้งหมด | D31: จำนวน งบประมาณ | E31: ร้อยละ ของงบประมาณ | F31: หน่วยงาน ที่ดำเนินงาน
A32: ยุทธศาสตร์ที่ 6: ยุทธศาสตร์การพัฒนาด้านการเมืองการปกครอง การบริหารจัดการองค์กรภายใต้ระบบธรรมาภิบาล | F32: สำนักงาน ปลัด อบต./ กองคลัง | G32: ไม่มี | H32: ไม่มี
A33: - แผนงานบริหารทั่วไป | B33: 5 | C33: =B33*100/B37 -> 8.0645161 | D33: ='ผด2 ( ย.6) '!D22 -> 660000 | E33: =D33*100/D37 -> 2.7714906
A34: - แผนงานบริหารงานคลัง | B34: 2 | C34: =B34*100/B37 -> 3.2258065 | D34: ='ผด2 ( ย.6) '!D48 -> 330000 | E34: =D34*100/D37 -> 1.3857453
A35: - แผนงานสร้างความเข้มแข็งของชุมชน | B35: 1 | C35: =B35*100/B37 -> 1.6129032 | D35: ='ผด2 ( ย.6) '!D70 -> 20000 | E35: =D35*100/D37 -> 0.083984564
A36: รวม | B36: =B33+B34+B35 -> 8 | C36: =C33+C34+C16 -> 11.290323 | D36: =SUM(D33:D35) -> 1010000 | E36: =D36*100/D37 -> 4.2412205
A37: รวมทั้งหมด | B37: =B7+B19+B29+B36+B23 -> 62 | C37: =B37*100/B37 -> 100 | D37: =D36+D29+D23+D19+D7 -> 23813900 | E37: =D37*100/D37 -> 100

Sheet ผด2 ( ย.1 )
A1: บัญชีโครงการ / กิจกรรม / งบประมาณ
A2: แผนการดำเนินงาน ประจำปีงบประมาณ พ.ศ.2565
A3: องค์การบริหารส่วนตำบลวังหิน อำเภอบางขัน จังหวัดนครศรีธรรมราช
A4: ภายใต้ยุทธศาสตร์ ที่ 1 ด้านโครงสร้างพื้นฐาน
A5: แผนงาน อุตสาหกรรมและการโยธา
A6: งาน ก่อสร้าง ( ค่าก่อสร้างสิ่งสาธารณูปการ)
A7: ที่ | B7: โครงการ / กิจกรรม | C7: รายละเอียดของโครงการ / กิจกรรม | D7: งบประมาณ ( บาท) | E7: สถานที่ ดำเนินการ | F7: หน่วย ดำเนินการ | G7: 2564 | J7: 2565
G8: ต.ค. | H8: พ.ย | I8: ธ.ค. | J8: ม.ค. | K8: ก.พ. | L8: มี.ค. | M8: เม.ย. | N8: พ.ค. | O8: มิ.ย. | P8: ก.ค. | Q8: ส.ค. | R8: ก.ย.
A9: 1 | B9: โครงการก่อสร้างถนนคอนกรีต เสริมเหล็ก สายโคกหมอ - หนองกก หมู่ที่ 9 | C9: เพื่อจ่ายเป็นค่าก่อสร้างถนนคอนกรีต เสริมเหล็ก สายโคกหมอ - หนองกก หมู่ที่ 9 - ระยะทางยาว 250 เมตร ถนนกว้าง 4 เมตร หนา 0.15 เมตร ไหล่ทางตามสภาพพื้นที่ รายละเอียดแบบแปลนเป็นไปตาม อบต.วังหินกำหนด | D9: 729000 | E9: หมู่ที่ 9 | F9: กองช่าง
A10: 2 | B10: โครงการก่อสร้างถนนคอนกรีต เสริมเหล็ก สายบ้านสวน - ทุ่งทับควาย (เชื่อมต่อ ม.6-ม.8) ช่วงหมู่ที่ 6 | C10: เพื่อจ่ายเป็นค่าก่อสร้างถนนคอนกรีต เสริมเหล็ก สายบ้านสวน - ทุ่งทับควาย (เชื่อมต่อ ม.6-ม.8) ช่วงหมู่ที่ 6 - ระยะทางยาว 200 เมตร ถนนกว้าง 5 เมตร หนา 0.15 เมตร ไหล่ทางตามสภาพพื้นที่ รายละเอียดแบบแปลนเป้นไปตาม อบต.วังหินกำหนด | D10: 729000 | E10: หมู่ที่ 6 | F10: กองช่าง
A14: ที่ | B14: โครงการ / กิจกรรม | C14: รายละเอียดของโครงการ / กิจกรรม | D14: งบประมาณ ( บาท) | E14: สถานที่ ดำเนินการ | F14: หน่วย ดำเนินการ | G14: 2564 | J14: 2565
G15: ต.ค. | H15: พ.ย | I15: ธ.ค. | J15: ม.ค. | K15: ก.พ. | L15: มี.ค. | M15: เม.ย. | N15: พ.ค. | O15: มิ.ย. | P15: ก.ค. | Q15: ส.ค. | R15: ก.ย.
A16: 3 | B16: โครงการก่อสร้างถนนลาดยางแบบแอสฟัลท์ติกคอนกรีต สายหนองเจ - สามพันไร่ ( ตอนที่ 6 ) หมู่ที่ 1 | C16: เพื่อจ่ายเป็นค่าก่อสร้างถนนยางแบบแอสฟัลท์ติกคอนกรีต สายหนองเจ - สามพันไร่ ( ตอนที่ 6 ) หมู่ที่ 1 - ระยะทางยาว 220 เมตร ถนนกว้าง 5 เมตร ผิวจราจร 5 เมตร หนา 0.05 เมตร รายละเอียดแบบแปลนเป็นไปตาม อบต.วังหินกำหนด | D16: 663000 | E16: หมู่ที่ 1 | F16: กองช่าง
A17: 4 | B17: โครงการก่อสร้างถนนลาดยางแบบแอสฟัลท์ติกคอนกรีตถนนสายหลัก หมู่ที่ 3-4-6-13 หมู่ที่ 4 | C17: เพื่อจ่ายเป็นค่าก่อสร้างถนนยางแบบแอสฟัลท์ติกคอนกรีตถนนสายหลัก หมู่ที่ 3-4-6-13 หมู่ที่ 4 - ระยะทางยาว 68 เมตร ถนนกว้าง 5 เมตร ผิวจราจร 5 เมตร หนา 0.05 เมตร รายละเอียดแบบแปลนเป็นไปตาม อบต.วังหินกำหนด | D17: 219000 | E17: หมู่ที่ 4 | F17: กองช่าง
A25: ที่ | B25: โครงการ / กิจกรรม | C25: รายละเอียดของโครงการ / กิจกรรม | D25: งบประมาณ ( บาท) | E25: สถานที่ ดำเนินการ | F25: หน่วย ดำเนินการ | G25: 2564 | J25: 2565
G26: ต.ค. | H26: พ.ย | I26: ธ.ค. | J26: ม.ค. | K26: ก.พ. | L26: มี.ค. | M26: เม.ย. | N26: พ.ค. | O26: มิ.ย. | P26: ก.ค. | Q26: ส.ค. | R26: ก.ย.
A27: 5 | B27: โครงการก่อสร้างถนนลาดยาง แบบแอสฟัลท์ติกคอนกรีต สายน้ำหัก - บนควน (ตอนที่ 4) หมู่ที่ 11 | C27: เพื่อจ่ายเป็นค่าก่อสร้างถนนลาดยาง แบบแอสฟัลท์ติกคอนกรีตสายน้ำหัก - บนควน (ตอนที่ 4) หมู่ที่ 11 - ระยะทางยาว 220 เมตร ถนนกว้าง 5 เมตร ผิวจราจร 5 เมตร หนา 0.05 เมตร รายละเอียดแบบแปลนเป็นไปตาม อบต.วังหินกำหนด | D27: 663000 | E27: หมู่ที่ 11 | F27: กองช่าง
A28: 6 | B28: โครงการก่อสร้างถนนลาดยาง แบบแอสฟัลท์ติกคอนกรีต สายไสปง - ทุ่งอินทนิน (ตอนที่ 4) หมู่ที่ 7 | C28: เพื่อจ่ายเป็นค่าก่อสร้างถนนลาดยาง แบบแอสฟัลท์ติกคอนกรีตสายไสปง - ทุ่งอินทนิน (ตอนที่ 4) หมู่ที่ 7 - ระยะทางยาว 220 เมตร ถนนกว้าง 5 เมตร ผิวจราจร 5 เมตร หนา 0.05 เมตร รายละเอียดแบบแปลนเป็นไปตาม อบต.วังหินกำหนด | D28: 663000 | E28: หมู่ที่ 7 | F28: กองช่าง
A36: ที่ | B36: โครงการ / กิจกรรม | C36: รายละเอียดของโครงการ / กิจกรรม | D36: งบประมาณ ( บาท) | E36: สถานที่ ดำเนินการ | F36: หน่วย ดำเนินการ | G36: 2564 | J36: 2565
G37: ต.ค. | H37: พ.ย | I37: ธ.ค. | J37: ม.ค. | K37: ก.พ. | L37: มี.ค. | M37: เม.ย. | N37: พ.ค. | O37: มิ.ย. | P37: ก.ค. | Q37: ส.ค. | R37: ก.ย.
A38: 7 | B38: โครงการปรับปรุงถนนสายวังหิน-ช้างตาย-ห้างส้าน หมู่ที่ 3 | C38: เพื่อจ่ายเป็นค่าปรับปรุงถนนสายวังหิน-ช้างตาย - ห้างส้าน หมู่ที่ 3 - ระยะทางยาว 2,500 เมตร ปรับถนนกว้างโดยเฉลี่ย 4.50 เมตร ผิวจราจรหินคลุกพื้นที่โดยเฉลี่ย 11,250 เมตร รายละเอียดแบบแปลนเป็นไปตาม อบต.วังหินกำหนด | D38: 700000 | E38: หมู่ที่ 3 | F38: กองช่าง
A39: รวม ( แผนงานอุสาหกรรมการโยธา / งานก่อสร้างสิ่งสาธารณูปการ ) | D39: =D9+D10+D16+D17+D27+D28+D38 -> 4366000 | E39: =BAHTTEXT(D39) -> สี่ล้านสามแสนหกหมื่นหกพันบาทถ้วน
A53: บัญชีโครงการ / กิจกรรม / งบประมาณ
A54: แผนการดำเนินงาน ประจำปีงบประมาณ พ.ศ.2565
A55: องค์การบริหารส่วนตำบลวังหิน อำเภอบางขัน จังหวัดนครศรีธรรมราช
A56: ภายใต้ยุทธศาสตร์ ที่ 1 ด้านโครงสร้างพื้นฐาน
A57: แผนงาน อุตสาหกรรมและการโยธา
A58: งาน ก่อสร้าง ( ค่าก่อสร้างสิ่งสาธารณูปโภค)
A59: ที่ | B59: โครงการ / กิจกรรม | C59: รายละเอียดของโครงการ / กิจกรรม | D59: งบประมาณ ( บาท) | E59: สถานที่ ดำเนินการ | F59: หน่วย ดำเนินการ | G59: 2564 | J59: 2565
G60: ต.ค. | H60: พ.ย | I60: ธ.ค. | J60: ม.ค. | K60: ก.พ. | L60: มี.ค. | M60: เม.ย. | N60: พ.ค. | O60: มิ.ย. | P60: ก.ค. | Q60: ส.ค. | R60: ก.ย.
A61: 1 | B61: โครงการก่อสร้างถังประปาพร้อมท่อเมนต์ (คลองแม่น้ำตรัง) หมู่ที่ 2 | C61: เพื่อจ่ายเป็นค่าก่อสร้าง ถังประปาพร้อมท่อเมนต์ (คลองแม่น้ำตรัง) หมู่ที่ 2 - ก่อสร้างถังประปา ขนาด 20 ลบ.ม.พร้อมท่อเมนต์ระยะทาง 1,000 เมตร รายละเอียดแบบแปลนเป็นไปตาม อบต.วังหินกำหนด | D61: 620000 | E61: หมู่ที่ 2 | F61: กองช่าง
A62: 2 | B62: โครงการปรับปรุงระบบประปา หมู่ที่ 10 | C62: เพื่อจ่ายเป็นค่าปรับปรุงระบบประปา โดยการเปลี่ยนท่อเมนต์ PVC ขนาด 2 นิ้ว ชั้น 8.5 (พร้อมข้อต่อ) ระยะทาง 3,560 เมตร รายละเอียดแบบแปลนเป็นไปตาม อบต.วังหินกำหนด | D62: 320000 | E62: หมู่ที่ 10 | F62: กองช่าง
A63: รวม ( แผนงานอุสาหกรรมการโยธา / งานก่อสร้างสิ่งสาธารณูปโภค) | D63: =D61+D62 -> 940000 | E63: =BAHTTEXT(D63) -> เก้าแสนสี่หมื่นบาทถ้วน

Sheet ผด2 ( ย .2 )

Sheet ผด2 ( ย.3)
A1: บัญชีโครงการ / กิจกรรม / งบประมาณ
A2: แผนการดำเนินงาน ประจำปีงบประมาณ พ.ศ.2565
A3: องค์การบริหารส่วนตำบลวังหิน อำเภอบางขัน จังหวัดนครศรีธรรมราช
A4: ภายใต้ยุทธศาสตร์ ที่ 3 ด้านการศึกษา ศาสนา ศิลปวัฒนธรรม
A5: แผนงาน การศึกษา
A6: งาน ระดับก่อนวัยเรียนและประถมศึกษา
A7: ที่ | B7: โครงการ / กิจกรรม | C7: รายละเอียดของโครงการ / กิจกรรม | D7: งบประมาณ ( บาท) | E7: สถานที่ ดำเนินการ | F7: หน่วย ดำเนินการ | G7: 2564 | J7: 2565
G8: ต.ค. | H8: พ.ย | I8: ธ.ค. | J8: ม.ค. | K8: ก.พ. | L8: มี.ค. | M8: เม.ย. | N8: พ.ค. | O8: มิ.ย. | P8: ก.ค. | Q8: ส.ค. | R8: ก.ย.
A9: 1 | B9: โครงการกิจกรรมเพื่อเด็กและเยาวชน | C9: เพื่อจ่ายเป็นค่าใช้จ่ายตามโครงการกิจกรรมเพื่อเด็กและเยาวชน ฯลฯ | D9: 80000 | E9: อบต.วังหิน | F9: กองการศึกษา
A10: 2 | B10: โครงการกีฬาอนุบาลสัมพันธ์ | C10: เพื่อจ่ายเป็นค่าใช้จ่ายตามโครงการกีฬาอนุบาลสัมพันธ์ ฯลฯ | D10: 40000 | E10: สนามกีฬากลาง หมู่ที่ 8 ต.วังหิน | F10: กองการศึกษา
A11: 3 | B11: โครงการแข่งขันทักษะทางวิชาการ | C11: เพื่อจ่ายเป็นค่าใช้จ่ายตามโครงการแข่งขันทักษะทางวิชาการ ฯลฯ | D11: 25000 | E11: ศูนย์ ประชาสัมพันธ์ | F11: กองการศึกษา
A12: 4 | B12: โครงการสนับสนุนค่าใช้จ่ายการ บริหารสถานศึกษา ( เงินอุดหนุน สำหรับสนับสนุนค่าใช้จ่ายในการ จัดการศึกษาสำหรับ ศพด.) | C12: เพื่อจ่ายเป็นค่าสนับสนุนค่าใช้จ่ายการ บริหารสถานศึกษา ( เงินอุดหนุน สำหรับสนับสนุนค่าใช้จ่ายในการ จัดการศึกษาสำหรับ ศพด.) | D12: 149160 | E12: อบต.วังหิน | F12: กองการศึกษา
A13: 5 | B13: โครงการสนับสนุนค่าใช้จ่ายการ บริหารสถานศึกษา ( เงินอุดหนุน สำหรับสนับสนุนค่าจัดการเรียนการสอนของ ศพด. (รายหัว ) | C13: เพื่อจ่ายเป็นค่าสนับสนุนค่าใช้จ่ายการ บริหารสถานศึกษา ( เงินอุดหนุน สำหรับสนับสนุนค่าจัดการเรียนการสอนของ ศพด. (รายหัว ) | D13: 224400 | E13: อบต.วังหิน | F13: กองการศึกษา
A19: ที่ | B19: โครงการ / กิจกรรม | C19: รายละเอียดของโครงการ / กิจกรรม | D19: งบประมาณ ( บาท) | E19: สถานที่ ดำเนินการ | F19: หน่วย ดำเนินการ | G19: 2564 | J19: 2565
G20: ต.ค. | H20: พ.ย | I20: ธ.ค. | J20: ม.ค. | K20: ก.พ. | L20: มี.ค. | M20: เม.ย. | N20: พ.ค. | O20: มิ.ย. | P20: ก.ค. | Q20: ส.ค. | R20: ก.ย.
A21: 6 | B21: โครงการสนับสนุนค่าใช้จ่ายในการ บริหารสถานศึกษา (อุดหนุนอาหาร กลางวัน ศพด.) | C21: เพื่อจ่ายเป็นค่าสนับสนุนค่าใช้จ่าย ในการบริหารสถานศึกษา (อุดหนุนอาหารกลางวัน ศพด.) | D21: 679140 | E21: อบต.วังหิน | F21: กองการศึกษา
A22: 7 | B22: อุดหนุนค่าอาหารกลางวันสำหรับนักเรียนในสถานศึกษาสังกัด สพฐ. ในเขต อบต.วังหิน | C22: เพื่ออุดหนุนค่าอาหารกลางวันสำหรับนักเรียนในสถานศึกษา สังกัด สพฐ. ในเขต อบต.วังหิน จำนวน 4 โรงเรียน | D22: 2608200 | E22: อบต.วังหิน | F22: กองการศึกษา
A23: รวม ( แผนงานการศึกษา) | D23: =D9+D10+D11+D12+D13+D21+D22 -> 3805900 | E23: =BAHTTEXT(D23) -> สามล้านแปดแสนห้าพันเก้าร้อยบาทถ้วน
A39: ภายใต้ยุทธศาสตร์ ที่ 3 ด้านการศึกษา ศาสนา ศิลปวัฒนธรรม
A40: แผนงาน การศาสนาวัฒนธรรมและนันทนาการ
A41: งาน กีฬาและนันทนาการ
A42: ที่ | B42: โครงการ / กิจกรรม | C42: รายละเอียดของโครงการ / กิจกรรม | D42: งบประมาณ ( บาท) | E42: สถานที่ ดำเนินการ | F42: หน่วย ดำเนินการ | G42: 2564 | J42: 2565
G43: ต.ค. | H43: พ.ย | I43: ธ.ค. | J43: ม.ค. | K43: ก.พ. | L43: มี.ค. | M43: เม.ย. | N43: พ.ค. | O43: มิ.ย. | P43: ก.ค. | Q43: ส.ค. | R43: ก.ย.
A44: 1 | B44: ค่าใช้จ่ายในการส่งนักกีฬาเข้าร่วมการแข่งขัน | C44: เพื่อจ่ายเป็นค่าใช้จ่ายในการส่งนักกีฬาเข้าร่วมการแข่งขัน ที่ อปท.จัดเองหรือ อปท.อื่นเป็นผู้จัด ฯลฯ | D44: 10000 | E44: - | F44: กองการศึกษา
A45: 2 | B45: โครงการจัดการแข่งขันกีฬาและส่งเสริมการออกกำลังกาย | C45: เพื่อจ่ายเป็นค่าใช้จ่ายในการจัดการแข่งขันกีฬาและส่งเสริมการออกกำลังกาย ฯลฯ | D45: 280000 | E45: สนามกีฬากลาง | F45: กองการศึกษา
A46: 3 | B46: โครงการส่งเสริมศักยภาพและความสามาถด้านดนตรีและกีฬา | C46: เพื่อจ่ายเป็นค่าใช้จ่ายในการจัดกิจกรรมส่งเสริมความสามารถด้านดนตรีและกีฬา | D46: 40000 | E46: ศูนย์ประชาสัมพันธ์ | F46: กองการศึกษา
A47: รวม ( แผนงาน การศาสนาวัฒนธรรมและนันทนาการ ) งาน กีฬาและนันทนาการ | D47: =D44+D45+D46 -> 330000 | E47: =BAHTTEXT(D47) -> สามแสนสามหมื่นบาทถ้วน
A59: ภายใต้ยุทธศาสตร์ ที่ 3 ด้านการศึกษา ศาสนา ศิลปวัฒนธรรม
A60: แผนงาน การศาสนาวัฒนธรรมและนันทนาการ
A61: งาน ศาสนาวัฒนธรรมท้องถิ่น
A62: ที่ | B62: โครงการ / กิจกรรม | C62: รายละเอียดของโครงการ / กิจกรรม | D62: งบประมาณ ( บาท) | E62: สถานที่ ดำเนินการ | F62: หน่วย ดำเนินการ | G62: 2564 | J62: 2565
G63: ต.ค. | H63: พ.ย | I63: ธ.ค. | J63: ม.ค. | K63: ก.พ. | L63: มี.ค. | M63: เม.ย. | N63: พ.ค. | O63: มิ.ย. | P63: ก.ค. | Q63: ส.ค. | R63: ก.ย.
A64: 1 | B64: โครงการทำนุบำรุงศาสนา | C64: เพื่อจ่ายเป็นค่าใช้จ่ายตามโครงการทำนุบำรุงศาสนา ฯลฯ | D64: 40000 | E64: ตำบลวังหิน | F64: กองการศึกษา
A65: 2 | B65: โครงการวันเข้าพรรษา - วันออกพรรษา | C65: เพื่อจ่ายเป็นค่าใช้จ่ายตามโครงการเข้าพรรษา - ออกพรรษา ฯลฯ | D65: 30000 | E65: ตำบลวังหิน | F65: กองการศึกษา
A66: 3 | B66: โครงการส่งเสริมประเพณีลอยกระทง | C66: เพื่อจ่ายเป็นค่าใช้จ่ายตามโครงการส่งเสริมประเพณีลอยกระทง ฯลฯ | D66: 100000 | E66: อุทยาน บ่อน้ำร้อน | F66: กองการศึกษา
A67: 4 | B67: โครงการอบรมคุณธรรมจริยธรรมและศาสนพิธีแก่ประชาชน | C67: เพื่อจ่ายเป็นค่าใช้จ่ายตามโครงการอบรมคุณธรรมจริยธรรมและศาสนพิธีแก่ประชาชน ฯลฯ | D67: 20000 | E67: อุทยาน บ่อน้ำร้อน | F67: กองการศึกษา
A68: 5 | B68: โครงการอาบน้ำผู้สูงอายุ | C68: เพื่อจ่ายเป็นค่าใช้จ่ายตามโครงการอาบน้ำผู้สูงอายุ ฯลฯ | D68: 100000 | E68: อุทยาน บ่อน้ำร้อน | F68: กองการศึกษา
A69: 6 | B69: โครงการส่งเสริมและอนุรักษ์ประเพณีชักพระอำเภอบางขัน | C69: เพื่ออุดหนุนงบประมาณ ให้แก่สภาวัฒนธรรมอำเภอบางขัน ตามโครงการส่งเสริมสนับและอนุรักษ์ประเพณีชักพระอำเภอบางขัน | D69: 40000 | E69: อำเภอบางขัน | F69: กองการศึกษา
A78: ที่ | B78: โครงการ / กิจกรรม | C78: รายละเอียดของโครงการ / กิจกรรม | D78: งบประมาณ ( บาท) | E78: สถานที่ ดำเนินการ | F78: หน่วย ดำเนินการ | G78: 2564 | J78: 2565
G79: ต.ค. | H79: พ.ย | I79: ธ.ค. | J79: ม.ค. | K79: ก.พ. | L79: มี.ค. | M79: เม.ย. | N79: พ.ค. | O79: มิ.ย. | P79: ก.ค. | Q79: ส.ค. | R79: ก.ย.
A80: 7 | B80: โครงการส่งเสริมศาสนาวัฒนธรรมและประเพณีเทศกาลเดือนสิบ | C80: เพื่ออุดหนุนงบประมาณให้แก่ ที่ทำการอำเภอบางขัน ตามโครงการส่งเสริมศาสนาวัฒนธรรมและประเพณีเทศกาลเดือนสิบ ประจำปี 2564 | D80: 30000 | E80: ตำบลวังหิน | F80: กองการศึกษา
A81: 8 | B81: โครงการส่งเสริมศาสนาวัฒนธรรมและประเพณีเทศกาลวันมาฆบูชาแห่ผ้าขึ้นธาตุนครศรีธรรมราช และแห่ผ้าห่มพระพุทธลีลาศิริธรรมนครมหามิ่งมงคล อำเภอบางขัน | C81: เพื่ออุดหนุนงบประมาณ ให้แก่ที่ทำการอำเภอบางขัน โครงการส่งเสริมศาสนาวัฒนธรรมและประเพณีเทศกาลวันมาฆบูชาแห่ผ้าขึ้นธาตุนครศรีธรรมราช และแห่ผ้าห่มพระพุทธลีลาศิริธรรมนครมหามิ่งมงคล อำเภอบางขัน | D81: 40000 | E81: อำเภอบางขัน | F81: กองการศึกษา
A82: รวม (แผนงานการศาสนาวัฒนธรรมและนันทนาการ) งานศาสนาวัฒนธรรมท้องถิ่น | D82: =D64+D65+D66+D67+D68+D69+D80+D81 -> 400000 | E82: =BAHTTEXT(D82) -> สี่แสนบาทถ้วน

Sheet ผด2 ( ย.4) 
A1: บัญชีโครงการ / กิจกรรม / งบประมาณ
A2: แผนการดำเนินงาน ประจำปีงบประมาณ พ.ศ.2565
A3: องค์การบริหารส่วนตำบลวังหิน อำเภอบางขัน จังหวัดนครศรีธรรมราช
A4: ภายใต้ยุทธศาสตร์ ที่ 4 ด้านสิ่งแวดล้อมและการจัดการทรัพยากรธรรมชาติ
A5: แผนงาน สาธารณสุข
A6: งาน บริการสาธารณสุขและงานสาธารณสุขอื่น
A7: ที่ | B7: โครงการ / กิจกรรม | C7: รายละเอียดของโครงการ / กิจกรรม | D7: งบประมาณ ( บาท) | E7: สถานที่ ดำเนินการ | F7: หน่วย ดำเนินการ | G7: 2563 | J7: 2564
G8: ต.ค. | H8: พ.ย | I8: ธ.ค. | J8: ม.ค. | K8: ก.พ. | L8: มี.ค. | M8: เม.ย. | N8: พ.ค. | O8: มิ.ย. | P8: ก.ค. | Q8: ส.ค. | R8: ก.ย.
A9: 1 | B9: โครงการบริหารจัดการขยะในชุมชนของตำบลวังหิน | C9: เพื่อจ่ายเป็นค่าใช้จ่ายตามโครงการบริหารจัดการขยะในชุมชนของ ตำบลวังหิน | D9: 30000 | E9: ตำบลวังหิน | F9: สำนักงาน ปลัด อบต.
A10: รวม ( แผนงานสาธารณสุข ) | D10: =D9 -> 30000 | E10: =BAHTTEXT(D10) -> สามหมื่นบาทถ้วน
A24: ภายใต้ยุทธศาสตร์ ที่ 4 ด้านสิ่งแวดล้อมและการจัดการทรัพยากรธรรมชาติ
A25: แผนงาน การเกษตร
A26: งาน อนุรักษ์แหล่งน้ำและป่าไม้
A27: ที่ | B27: โครงการ / กิจกรรม | C27: รายละเอียดของโครงการ / กิจกรรม | D27: งบประมาณ ( บาท) | E27: สถานที่ ดำเนินการ | F27: หน่วย ดำเนินการ | G27: 2564 | J27: 2565
G28: ต.ค. | H28: พ.ย | I28: ธ.ค. | J28: ม.ค. | K28: ก.พ. | L28: มี.ค. | M28: เม.ย. | N28: พ.ค. | O28: มิ.ย. | P28: ก.ค. | Q28: ส.ค. | R28: ก.ย.
A29: 1 | B29: โครงการปลูกหญ้าแฝกเฉลิมพระเกียรติเพื่ออนุรักษ์ดินและน้ำ | C29: เพื่อจ่ายเป็นค่าใช้จ่ายตามโครงการปลูกหญ้าแฝกเฉลิมพระเกียรติเพื่อการอนุรักษ์ดินและน้ำ | D29: 20000 | E29: - | F29: สำนักงาน ปลัด อบต.
A30: รวม ( แผนงานการเกษตร ) | D30: =D29 -> 20000 | E30: =BAHTTEXT(D30) -> สองหมื่นบาทถ้วน

Sheet ผด2 ( ย.5) 
A2: บัญชีโครงการ / กิจกรรม / งบประมาณ
A3: แผนการดำเนินงาน ประจำปีงบประมาณ พ.ศ.2565
A4: องค์การบริหารส่วนตำบลวังหิน อำเภอบางขัน จังหวัดนครศรีธรรมราช
A6: ภายใต้ยุทธศาสตร์ ที่ 5 ด้านพัฒนาคุณภาพชีวิตและสังคม
A7: แผนงาน การรักษาความสงบภายใน
A8: งาน ป้องกันภัยฝ่ายพลเรือนและระงับอัคคีภัย
A9: ที่ | B9: โครงการ / กิจกรรม | C9: รายละเอียดของโครงการ / กิจกรรม | D9: งบประมาณ ( บาท) | E9: สถานที่ ดำเนินการ | F9: หน่วย ดำเนินการ | G9: 2564 | J9: 2565
G10: ต.ค. | H10: พ.ย | I10: ธ.ค. | J10: ม.ค. | K10: ก.พ. | L10: มี.ค. | M10: เม.ย. | N10: พ.ค. | O10: มิ.ย. | P10: ก.ค. | Q10: ส.ค. | R10: ก.ย.
A11: 1 | B11: โครงการกิจกรรมถนนปลอดภัย | C11: เพื่อจ่ายเป็นค่าใช้จ่ายตามโครงการกิจกรรมถนนปลอดภัย | D11: 20000 | E11: ตำบลวังหิน | F11: สำนักงาน ปลัด อบต.
A12: 2 | B12: โครงการฝึกอบรมชุดปฎิบัติการจิตอาสาภัยพิบัติประจำองค์กรปกครองส่วนท้องถิ่น | C12: เพื่อจ่ายเป็นค่าใช้จ่ายตามโครงการ ฝึกอบรมชุดปฎิบัติการจิตอาสาภัยพิบัติประจำองค์กรปกครองส่วนท้องถิ่น | D12: 120000 | E12: อุทยาน บ่อน้ำร้อน | F12: สำนักงาน ปลัด อบต.
A13: 3 | B13: โครงการฝึกอบรมอาสาสมัครป้องกันภัยฝ้ายพลเรือน ( อปพร.) "หลักสูตรจัดตั้ง"ประจำปีงบประมาณ พ.ศ.2565 | C13: เพื่อจ่ายเป็นค่าใช้จ่ายตามโครงการ ฝึกอบรมอาสาสมัครป้องกันภัยฝ้ายพลเรือน ( อปพร.) "หลักสูตรจัดตั้ง"ประจำปีงบประมาณ พ.ศ.2565 | D13: 120000 | E13: อุทยาน บ่อน้ำร้อน | F13: สำนักงาน ปลัด อบต.
A14: 4 | B14: โครงการอบรมให้ความรู้เตรียมความพร้อมในการป้องกันและบรรเทาสาธารณภัย | C14: เพื่อจ่ายเป็นค่าใช้จ่ายตามโครงการ อบรมให้ความรู้เตรียมความพร้อมในการป้องกันและบรรเทาสาธารณภัย | D14: 30000 | E14: อุทยาน บ่อน้ำร้อน | F14: สำนักงาน ปลัด อบต.
A15: รวม ( แผนงาน การรักษาความสงบภายใน) | D15: =D11+D12+D14 -> 170000
A18: ภายใต้ยุทธศาสตร์ ที่ 5 ด้านพัฒนาคุณภาพชีวิตและสังคม
A19: แผนงาน สาธารณสุข
A20: งาน บริการสาธารณสุขและงานสาธารณสุขอื่น
A21: ที่ | B21: โครงการ / กิจกรรม | C21: รายละเอียดของโครงการ / กิจกรรม | D21: งบประมาณ ( บาท) | E21: สถานที่ ดำเนินการ | F21: หน่วย ดำเนินการ | G21: 2564 | J21: 2565
G22: ต.ค. | H22: พ.ย | I22: ธ.ค. | J22: ม.ค. | K22: ก.พ. | L22: มี.ค. | M22: เม.ย. | N22: พ.ค. | O22: มิ.ย. | P22: ก.ค. | Q22: ส.ค. | R22: ก.ย.
A23: 1 | B23: โครงการจัดการและบริการด้านสุขภาพเชิงรุกตลอดจนอบรมประชาสัมพันธ์รวมถึงการป้องกันยาเสพติด | C23: เพื่อจ่ายเป็นค่าใช้จ่ายตามโครงการ จัดการและบริการด้านสุขภาพเชิงรุกตลอดจนอบรมประชาสัมพันธ์รวมถึงการป้องกันยาเสพติด | D23: 30000 | F23: สำนักงาน ปลัด อบต.
A24: 2 | B24: โครงการสัตว์ปลอดโรค คนปลอดภัย จากโรคพิษสุนัขบ้า | C24: เพื่อจ่ายเป็นค่าใช้จ่ายตามโครงการ สัตว์ปลอดโรค คนปลอดภัย จากโรคพิษสุนัขบ้า | D24: 120000 | F24: สำนักงาน ปลัด อบต.
A25: 3 | B25: โครงการตามแนวพระราชดำริด้านสาธารณสุข หมู่ที่ 10 | C25: เพื่ออุดหนุนแก่คณะกรรมการหมู่บ้าน หมู่ที่ 10 สำหรับขับเคลื่อนโครงการตามแนวพระราชดำริด้านสาธารณสุข จำนวน 3 โครงการ | D25: 20000 | E25: หมู่ที่ 10 | F25: สำนักงาน ปลัด อบต.
A26: 4 | B26: โครงการตามแนวพระราชดำริด้านสาธารณสุข หมู่ที่ 11 | C26: เพื่ออุดหนุนแก่คณะกรรมการหมู่บ้าน หมู่ที่ 11 สำหรับขับเคลื่อนโครงการตามแนวพระราชดำริด้านสาธารณสุข จำนวน 3 โครงการ | D26: 20000 | E26: หมู่ที่ 11 | F26: สำนักงาน ปลัด อบต.
A27: 5 | B27: โครงการตามแนวพระราชดำริด้านสาธารณสุข หมู่ที่ 12 | C27: เพื่ออุดหนุนแก่คณะกรรมการหมู่บ้าน หมู่ที่ 12 สำหรับขับเคลื่อนโครงการตามแนวพระราชดำริด้านสาธารณสุข | D27: 20000 | E27: หมู่ที่ 12 | F27: สำนักงาน ปลัด อบต.
A32: ที่ | B32: โครงการ / กิจกรรม | C32: รายละเอียดของโครงการ / กิจกรรม | D32: งบประมาณ ( บาท) | E32: สถานที่ ดำเนินการ | F32: หน่วย ดำเนินการ | G32: 2564 | J32: 2565
G33: ต.ค. | H33: พ.ย | I33: ธ.ค. | J33: ม.ค. | K33: ก.พ. | L33: มี.ค. | M33: เม.ย. | N33: พ.ค. | O33: มิ.ย. | P33: ก.ค. | Q33: ส.ค. | R33: ก.ย.
A34: 6 | B34: โครงการตามแนวพระราชดำริด้านสาธารณสุข หมู่ที่ 13 | C34: เพื่ออุดหนุนแก่คณะกรรมการหมู่บ้าน หมู่ที่ 13 สำหรับขับเคลื่อนโครงการตามแนวพระราชดำริด้านสาธารณสุข จำนวน 3 โครงการ | D34: 20000 | E34: หมู่ที่ 13 | F34: สำนักงาน ปลัด อบต.
A35: 7 | B35: โครงการตามแนวพระราชดำริด้านสาธารณสุข หมู่ที่ 3 | C35: เพื่ออุดหนุนแก่คณะกรรมการหมู่บ้าน หมู่ที่ 3 สำหรับขับเคลื่อนโครงการตามแนวพระราชดำริด้านสาธารณสุข | D35: 20000 | E35: หมู่ที่ 3 | F35: สำนักงาน ปลัด อบต.
A36: 8 | B36: โครงการตามแนวพระราชดำริด้านสาธารณสุข หมู่ที่ 4 | C36: เพื่ออุดหนุนแก่คณะกรรมการหมู่บ้าน หมู่ที่ 4 สำหรับขับเคลื่อนโครงการตามแนวพระราชดำริด้านสาธารณสุข | D36: 20000 | E36: หมู่ที่ 4 | F36: สำนักงาน ปลัด อบต.
A37: 9 | B37: โครงการตามแนวพระราชดำริด้านสาธารณสุข หมู่ที่ 5 | C37: เพื่ออุดหนุนแก่คณะกรรมการหมู่บ้าน หมู่ที่ 5 สำหรับขับเคลื่อนโครงการตามแนวพระราชดำริด้านสาธารณสุข | D37: 20000 | E37: หมู่ที่ 5 | F37: สำนักงาน ปลัด อบต.
A38: 10 | B38: โครงการตามแนวพระราชดำริด้านสาธารณสุข หมู่ที่ 6 | C38: เพื่ออุดหนุนแก่คณะกรรมการหมู่บ้าน หมู่ที่ 6 สำหรับขับเคลื่อนโครงการตามแนวพระราชดำริด้านสาธารณสุข | D38: 20000 | E38: หมู่ที่ 6 | F38: สำนักงาน ปลัด อบต.
A44: ที่ | B44: โครงการ / กิจกรรม | C44: รายละเอียดของโครงการ / กิจกรรม | D44: งบประมาณ ( บาท) | E44: สถานที่ ดำเนินการ | F44: หน่วย ดำเนินการ | G44: 2564 | J44: 2565
G45: ต.ค. | H45: พ.ย | I45: ธ.ค. | J45: ม.ค. | K45: ก.พ. | L45: มี.ค. | M45: เม.ย. | N45: พ.ค. | O45: มิ.ย. | P45: ก.ค. | Q45: ส.ค. | R45: ก.ย.
A46: 11 | B46: โครงการตามแนวพระราชดำริด้านสาธารณสุข หมู่ที่ 7 | C46: เพื่ออุดหนุนแก่คณะกรรมการหมู่บ้าน หมู่ที่ 7 สำหรับขับเคลื่อนโครงการตามแนวพระราชดำริด้านสาธารณสุข | D46: 20000 | E46: หมู่ที่ 7 | F46: สำนักงาน ปลัด อบต.
A47: 12 | B47: โครงการตามแนวพระราชดำริด้านสาธารณสุข หมู่ที่ 8 | C47: เพื่ออุดหนุนแก่คณะกรรมการหมู่บ้าน หมู่ที่ 8 สำหรับขับเคลื่อนโครงการตามแนวพระราชดำริด้านสาธารณสุข | D47: 20000 | E47: หมู่ที่ 8 | F47: สำนักงาน ปลัด อบต.
A48: 13 | B48: โครงการตามแนวพระราชดำริด้านสาธารณสุข หมู่ที่ 9 | C48: เพื่ออุดหนุนแก่คณะกรรมการหมู่บ้าน หมู่ที่ 9 สำหรับขับเคลื่อนโครงการตามแนวพระราชดำริด้านสาธารณสุข | D48: 20000 | E48: หมู่ที่ 9 | F48: สำนักงาน ปลัด อบต.
A49: 14 | B49: โครงการตามแนวพระราชดำริด้านสาธารณสุข หมู่ที่ 1 | C49: เพื่ออุดหนุนแก่คณะกรรมการหมู่บ้าน หมู่ที่ 1 สำหรับขับเคลื่อนโครงการตามแนวพระราชดำริด้านสาธารณสุข | D49: 20000 | E49: หมู่ที่ 1 | F49: สำนักงาน ปลัด อบต.
A50: 15 | B50: โครงการตามแนวพระราชดำริด้านสาธารณสุข หมู่ที่ 2 | C50: เพื่ออุดหนุนแก่คณะกรรมการหมู่บ้าน หมู่ที่ 2 สำหรับขับเคลื่อนโครงการตามแนวพระราชดำริด้านสาธารณสุข | D50: 20000 | E50: หมู่ที่ 2 | F50: สำนักงาน ปลัด อบต.
A51: รวม ( แผนงานสาธารณสุข ) | D51: =D23+D24+D25+D26+D27+D34+D35+D36+D37+D38+D46+D47+D48+D49+D50 -> 410000 | E51: =BAHTTEXT(D51) -> สี่แสนหนึ่งหมื่นบาทถ้วน
A54: ภายใต้ยุทธศาสตร์ ที่ 5 ด้านพัฒนาคุณภาพชีวิตและสังคม
A55: แผนงาน สร้างความเข้มแข็งของชุมชน
A56: งาน ส่งเสริมและสนับสนุนความเข้มแข็งชุมชน
A57: ที่ | B57: โครงการ / กิจกรรม | C57: รายละเอียดของโครงการ / กิจกรรม | D57: งบประมาณ ( บาท) | E57: สถานที่ ดำเนินการ | F57: หน่วย ดำเนินการ | G57: 2564 | J57: 2565
G58: ต.ค. | H58: พ.ย | I58: ธ.ค. | J58: ม.ค. | K58: ก.พ. | L58: มี.ค. | M58: เม.ย. | N58: พ.ค. | O58: มิ.ย. | P58: ก.ค. | Q58: ส.ค. | R58: ก.ย.
A59: 1 | B59: โครงการฝึกอบรม/ สัมมนา/ ศึกษาดูงาน | C59: เพื่อจ่ายเป็นค่าใช้จ่ายตามโครงการฝึกอบรม /สัมมนา / ศึกษาดูงาน | D59: 200000 | F59: สำนักงาน ปลัด อบต.
A60: 2 | B60: โครงการพัฒนาบทบาทสตรี | C60: เพื่อจ่ายเป็นค่าใช้จ่ายตามโครงการพัฒนาบทบาทสตรี | D60: 50000 | F60: สำนักงาน ปลัด อบต.
A61: 3 | B61: โครงการสนับสนุนศูนย์พัฒนาครอบครัว | C61: เพื่อจ่ายเป็นค่าใช้จ่ายตามโครงการสนับสนุนศูนย์พัฒนาครอบครัว | D61: 40000 | F61: สำนักงาน ปลัด อบต.
A62: รวม ( แผนงานสร้างความเข้มแข็งของชุมชน) | D62: =SUM(D59:D61) -> 290000 | E62: =BAHTTEXT(D62) -> สองแสนเก้าหมื่นบาทถ้วน
A76: ภายใต้ยุทธศาสตร์ ที่ 5 ด้านพัฒนาคุณภาพชีวิตและสังคม
A77: แผนงาน งบกลาง
A78: งาน งบกลาง
A79: ที่ | B79: โครงการ / กิจกรรม | C79: รายละเอียดของโครงการ / กิจกรรม | D79: งบประมาณ ( บาท) | E79: สถานที่ ดำเนินการ | F79: หน่วย ดำเนินการ | G79: 2564 | J79: 2565
G80: ต.ค. | H80: พ.ย | I80: ธ.ค. | J80: ม.ค. | K80: ก.พ. | L80: มี.ค. | M80: เม.ย. | N80: พ.ค. | O80: มิ.ย. | P80: ก.ค. | Q80: ส.ค. | R80: ก.ย.
A81: 1 | B81: เบี้ยยังชีพผู้สูงอายุ | C81: เพื่อจ่ายเป็นเงินค่าเบี้ยยังชีพผู้สูงอายุในพื้นที่ อบต.วังหิน | D81: 9300000 | E81: อบต.วังหิน | F81: สำนักงาน ปลัด อบต.
A82: 2 | B82: เบี้ยยังชีพคนพิการ | C82: เพื่อจ่ายเป็นเงินค่าเบี้ยยังชีพคนพิการในเขตพื้นที่ อบต.วังหิน | D82: 2592000 | E82: อบต.วังหิน | F82: สำนักงาน ปลัด อบต.
A83: 3 | B83: เบี้ยยังชีพผู้ป่วยเอดส์ | C83: เพื่อจ่ายเป็นเงินสค่าเบี้ยยังชีพผู้สูงป่วยเอดส์ในเขตพื้นที่ อบต.วังหิน | D83: 150000 | E83: อบต.วังหิน | F83: สำนักงาน ปลัด อบต.
A84: รวม (แผนงานงบกลาง) | D84: =D81+D82+D83 -> 12042000 | E84: =BAHTTEXT(D84) -> สิบสองล้านสี่หมื่นสองพันบาทถ้วน

Sheet ผด2 ( ย.6) 
A1: บัญชีโครงการ / กิจกรรม / งบประมาณ
A2: แผนการดำเนินงาน ประจำปีงบประมาณ พ.ศ.2565
A3: องค์การบริหารส่วนตำบลวังหิน อำเภอบางขัน จังหวัดนครศรีธรรมราช
A4: ภายใต้ยุทธศาสตร์ ที่ 6 ด้านการเมืองการปกครองการบริหารจัดการองค์กรภายใต้ระบบธรรมาภิบาล
A5: แผนงาน บริหารงานทั่วไป
A6: งาน บริหารทั่วไป
A7: ที่ | B7: โครงการ / กิจกรรม | C7: รายละเอียดของโครงการ / กิจกรรม | D7: งบประมาณ ( บาท) | E7: สถานที่ ดำเนินการ | F7: หน่วย ดำเนินการ | G7: 2564 | J7: 2565
G8: ต.ค. | H8: พ.ย | I8: ธ.ค. | J8: ม.ค. | K8: ก.พ. | L8: มี.ค. | M8: เม.ย. | N8: พ.ค. | O8: มิ.ย. | P8: ก.ค. | Q8: ส.ค. | R8: ก.ย.
A9: 1 | B9: ค่าใช้จ่ายในการเลือกตั้งสมาชิกสภาองค์การบริหารส่วนตำบล และ นายกองค์การบริหารส่วนตำบล | C9: เพื่อจ่ายเป็นค่าใช้จ่ายในการเลือกตั้งสมาชิกสภาองค์การบริหารส่วนตำบล และ นายกองค์การบริหารส่วนตำบล | D9: 450000 | E9: ตำบลวังหิน | F9: สำนักงาน ปลัด อบต.
A10: 2 | B10: ค่าใช้จ่ายสำหรับวันสำคัญของทางราชการ และสถาบันพระมหากษัตริย์ | C10: เพื่อจ่ายเป็นค่าใช้จ่ายสำหรับวันสำคัญของทางราชการ และสถาบันพระมหากษัตริย์ | D10: 50000 | E10: อบต.วังหิน / อำเภอบางขัน | F10: สำนักงาน ปลัด อบต.
A11: 3 | B11: วันท้องถิ่นไทย | C11: เพื่อจ่ายเป็นค่าใช้จ่ายตามโครงการวันท้องถิ่นไทย | D11: 20000 | E11: อำเภอบางขัน | F11: สำนักงาน ปลัด อบต.
A12: 4 | B12: โครงการอบรมสัมมนา / ศึกษาดูงาน เพื่อพัฒนาความรู้ให้แก่ คณะผู้บริหาร ส.อบต. พนักงานส่วนตำบล , ลูกจ้างประจำ และพนักงานจ้าง | C12: เพื่อจ่ายเป็นค่าใช้จ่ายตามโครงการอบรมสัมมนา / ศึกษาดูงาน เพื่อพัฒนาความรู้ให้แก่ คณะผู้บริหาร ส.อบต. พนักงานส่วนตำบล , ลูกจ้างประจำ และพนักงานจ้าง | D12: 120000 | E12: ยังไม่กำหนด | F12: สำนักงาน ปลัด อบต.
A19: ที่ | B19: โครงการ / กิจกรรม | C19: รายละเอียดของโครงการ / กิจกรรม | D19: งบประมาณ ( บาท) | E19: สถานที่ ดำเนินการ | F19: หน่วย ดำเนินการ | G19: 2564 | J19: 2565
G20: ต.ค. | H20: พ.ย | I20: ธ.ค. | J20: ม.ค. | K20: ก.พ. | L20: มี.ค. | M20: เม.ย. | N20: พ.ค. | O20: มิ.ย. | P20: ก.ค. | Q20: ส.ค. | R20: ก.ย.
A21: 5 | B21: โครงการอบรมให้ความรู้ด้านกฎหมาย แก่ บุคลากร สมาชิกสภาท้องถิ่น ผู้นำชุมชนและประชาชน | C21: เพื่อจ่ายเป็นค่าใช้จ่ายตามโครงการอบรมให้ความรู้ด้านกฎหมาย แก่ บุคลากร สมาชิกสภาท้องถิ่น ผู้นำชุมชนและประชาชน | D21: 20000 | F21: สำนักงาน ปลัด อบต.
A22: รวม ( งานบริหารทั่วไป ) | D22: =D9+D10+D11+D12+D21 -> 660000 | E22: =BAHTTEXT(D22) -> หกแสนหกหมื่นบาทถ้วน
A41: ภายใต้ยุทธศาสตร์ ที่ 6 ด้านการเมืองการปกครองการบริหารจัดการองค์กรภายใต้ระบบธรรมาภิบาล
A42: แผนงาน บริหารงานทั่วไป
A43: งาน บริหารงานคลัง
A44: ที่ | B44: โครงการ / กิจกรรม | C44: รายละเอียดของโครงการ / กิจกรรม | D44: งบประมาณ ( บาท) | E44: สถานที่ ดำเนินการ | F44: หน่วย ดำเนินการ | G44: 2564 | J44: 2565
G45: ต.ค. | H45: พ.ย | I45: ธ.ค. | J45: ม.ค. | K45: ก.พ. | L45: มี.ค. | M45: เม.ย. | N45: พ.ค. | O45: มิ.ย. | P45: ก.ค. | Q45: ส.ค. | R45: ก.ย.
A46: 1 | B46: โครงการจัดทำแผนที่ภาษีและทะเบียนทรัพย์สิน | C46: เพื่อจ่ายเป็นค่าใช้จ่ายตามโครงการจัดทำแผนที่ภาษีและทะเบียนทรัพย์สิน | D46: 300000 | E46: ตำบลวังหิน | F46: กองคลัง อบต.วังหิน
A47: 2 | B47: โครงการส่งเสริมและประชาสัมพันธ์การจัดเก็บรายได้ | C47: เพื่อจ่ายเป็นค่าใช้จ่ายตามโครงการ ส่งเสริมและประชาสัมพันธ์การจัดเก็บรายได้ | D47: 30000 | E47: ตำบลวังหิน | F47: กองคลัง อบต.วังหิน
A48: รวม ( แผนงานบริหารงานคลัง) | D48: =D46+D47 -> 330000 | E48: =BAHTTEXT(D48) -> สามแสนสามหมื่นบาทถ้วน
A64: ภายใต้ยุทธศาสตร์ ที่ 6 ด้านการเมืองการปกครองการบริหารจัดการองค์กรภายใต้ระบบธรรมาภิบาล
A65: แผนงาน สร้างความเข้มแข็งของชุมชน
A66: งาน ส่งเสริมและสนับสนุนความเข้มแข็งของชุมชน
A67: ที่ | B67: โครงการ / กิจกรรม | C67: รายละเอียดของโครงการ / กิจกรรม | D67: งบประมาณ ( บาท) | E67: สถานที่ ดำเนินการ | F67: หน่วย ดำเนินการ | G67: 2564 | J67: 2565
G68: ต.ค. | H68: พ.ย | I68: ธ.ค. | J68: ม.ค. | K68: ก.พ. | L68: มี.ค. | M68: เม.ย. | N68: พ.ค. | O68: มิ.ย. | P68: ก.ค. | Q68: ส.ค. | R68: ก.ย.
A69: 1 | B69: โครงการส่งเสริมและสนับสนุนการจัดทำแผนพัฒนาหมู่บ้าน แผนชุมชน และแผนพัฒนาตำบลวังหิน | C69: เพื่อจ่ายเป็นค่าใช้จ่ายตามโครงการส่งเสริมและสนับสนุนการจัดทำแผนพัฒนาหมู่บ้าน แผนชุมชน และแผนพัฒนาตำบลวังหิน | D69: 20000 | E69: อุทยาน บ่อน้ำร้อน | F69: สำนักงาน ปลัด อบต.
A70: รวม ( แผนงานสร้างความเข้มแข็งของชุมชน ) | D70: =D69 -> 20000 | E70: =BAHTTEXT(D70) -> สองหมื่นบาทถ้วน

Sheet ผด02.1( ครุภัณฑ์ )
A1: บัญชีจำนวนครุภัณฑ์สำหรับที่ไม่ได้ดำเนินการตามโครงการพัฒนาท้องถิ่น
A2: แผนการดำเนินงาน ประจำปีงบประมาณ พ.ศ.2565
A3: องค์การบริหารส่วนตำบลวังหิน อำเภอบางขัน จังหวัดนครศรีธรรมราช
A4: ประเภทครุภัณฑ์ : ครุภัณฑ์สำนักงาน
A5: แผนงาน บริหารงานทั่วไป
A6: งาน บริหารทั่วไป
A7: ที่ | B7: ครุภัณฑ์ | C7: รายละเอียดของครุภัณฑ์ | D7: งบประมาณ ( บาท) | E7: สถานที่ ดำเนินการ | F7: หน่วย ดำเนินการ | G7: 2564 | J7: 2565
G8: ต.ค. | H8: พ.ย | I8: ธ.ค. | J8: ม.ค. | K8: ก.พ. | L8: มี.ค. | M8: เม.ย. | N8: พ.ค. | O8: มิ.ย. | P8: ก.ค. | Q8: ส.ค. | R8: ก.ย.
A9: 1 | B9: เก้าอี้สำนักงาน | C9: - จัดซื้อเก้าอี้สำนักงานโดยมีรายละเอียดดังนี้ 1.เก้าอี้ผู้บริหารระดับสูง 2ตัว 2. เก้าอี้ผู้อำนวยการ 2 ตัว 3. เก้าอี้สำหรับพนักงาน 2 ตัว | D9: 25200 | E9: อบต.วังหิน | F9: สำนักงาน ปลัด อบต.
A10: 2 | B10: เครื่องปรับอากาศ | C10: - จัดซื้อเครื่องปรับอากาศแบบติดผนัง (ระบบ Inverter ) ชนาด 12,000 บีทียู จำนวน 3 เครื่อง | D10: 58500 | E10: อบต.วังหิน | F10: สำนักงาน ปลัด อบต.
B12: แผนงาน การศึกษา
B13: งาน บริหารทั่วไปเกี่ยวกับการศึกษา
A14: ที่ | B14: ครุภัณฑ์ | C14: รายละเอียดของครุภัณฑ์ | D14: งบประมาณ ( บาท) | E14: สถานที่ ดำเนินการ | F14: หน่วย ดำเนินการ | G14: 2564 | J14: 2565
G15: ต.ค. | H15: พ.ย | I15: ธ.ค. | J15: ม.ค. | K15: ก.พ. | L15: มี.ค. | M15: เม.ย. | N15: พ.ค. | O15: มิ.ย. | P15: ก.ค. | Q15: ส.ค. | R15: ก.ย.
A16: 1 | B16: เก้าอี้สำนักงาน | C16: - จัดซื้อเก้าอี้สำนักงานสำหรับพนักงาน จำนวน 2 ตัว | D16: 3200 | E16: อบต.วังหิน | F16: กองการศึกษา
B23: แผนงาน อุตสาหกรรมและการโยธา
B24: งาน บริหารทั่วไปเกี่ยวกับอุตสาหกรรมและการโยธา
A25: ที่ | B25: ครุภัณฑ์ | C25: รายละเอียดของครุภัณฑ์ | D25: งบประมาณ ( บาท) | E25: สถานที่ ดำเนินการ | F25: หน่วย ดำเนินการ | G25: 2564 | J25: 2565
G26: ต.ค. | H26: พ.ย | I26: ธ.ค. | J26: ม.ค. | K26: ก.พ. | L26: มี.ค. | M26: เม.ย. | N26: พ.ค. | O26: มิ.ย. | P26: ก.ค. | Q26: ส.ค. | R26: ก.ย.
A27: 1 | B27: เก้าอี้สำนักงาน | C27: - จัดซื้อเก้าอี้สำนักงานตามรายละเอียดังนี้ 1. สำหรับผู้อำนวยการ จำนวน 1 ตัว 2.สำหรับพนักงาน จำนวน 2 ตัว | D27: 10400 | E27: อบต.วังหิน | F27: กองช่าง
A48: ประเภทครุภัณฑ์ : ครุภัณฑ์คอมพิวเตอร์หรืออิเล็กทรอนิกส์
A49: แผนงาน บริหารงานทั่วไป
A50: งาน บริหารงานคลัง
A51: ที่ | B51: ครุภัณฑ์ | C51: รายละเอียดของครุภัณฑ์ | D51: งบประมาณ ( บาท) | E51: สถานที่ ดำเนินการ | F51: หน่วย ดำเนินการ | G51: 2564 | J51: 2565
G52: ต.ค. | H52: พ.ย | I52: ธ.ค. | J52: ม.ค. | K52: ก.พ. | L52: มี.ค. | M52: เม.ย. | N52: พ.ค. | O52: มิ.ย. | P52: ก.ค. | Q52: ส.ค. | R52: ก.ย.
A53: 1 | B53: จัดซื้อเครื่องพิมพ์ | C53: - จัดซื้อเครื่องพิมพ์ Multifunction เลเซอร์ LED สี จำนวน 1 เครื่อง | D53: 15000 | E53: อบต.วังหิน | F53: สำนักงาน ปลัด อบต.
A55: แผนงาน การศึกษา
A56: งาน บริหารทั่วไปเกี่ยวกับการศึกษา
A57: ที่ | B57: ครุภัณฑ์ | C57: รายละเอียดของครุภัณฑ์ | D57: งบประมาณ ( บาท) | E57: สถานที่ ดำเนินการ | F57: หน่วย ดำเนินการ | G57: 2564 | J57: 2565
G58: ต.ค. | H58: พ.ย | I58: ธ.ค. | J58: ม.ค. | K58: ก.พ. | L58: มี.ค. | M58: เม.ย. | N58: พ.ค. | O58: มิ.ย. | P58: ก.ค. | Q58: ส.ค. | R58: ก.ย.
A59: 1 | B59: เครื่องคอมพิวเตอร์ | C59: - จัดซื้อเครื่องคอมพิวเตอร์ สำหรับงานประมวลผล แบบ ที่ 1 จำนวน 1 เครื่อง | D59: 22000 | E59: อบต.วังหิน | F59: กองการศึกษา
A60: 2 | B60: เครื่องพิมพ์ | C60: - จัดซื้อเครื่องพิมพ์แบบฉีดหมึกพร้อมติดตั้งถังหมึกพิมพ์ ( Ink Tank Printer) | D60: 4300 | E60: อบต.วังหิน | F60: กองการศึกษา
A61: 3 | B61: เครื่องสำรองไฟ | C61: - จัดซื้อเครื่องสำรองไฟขนาด 800VA จำนวน 3 เครื่อง | D61: 7500 | E61: อบต.วังหิน | F61: กองการศึกษา
A69: แผนงาน อุตสาหกรรมและการโยธา
A70: งาน บริหารทั่วไปเกี่ยวกับอุตสาหกรรมและการโยธา
A71: ที่ | B71: ครุภัณฑ์ | C71: รายละเอียดของครุภัณฑ์ | D71: งบประมาณ ( บาท) | E71: สถานที่ ดำเนินการ | F71: หน่วย ดำเนินการ | G71: 2564 | J71: 2565
G72: ต.ค. | H72: พ.ย | I72: ธ.ค. | J72: ม.ค. | K72: ก.พ. | L72: มี.ค. | M72: เม.ย. | N72: พ.ค. | O72: มิ.ย. | P72: ก.ค. | Q72: ส.ค. | R72: ก.ย.
A73: 1 | B73: เครื่องคอมพิวเตอร์ | C73: - จัดซื้อเครื่องคอมพิวเตอร์ All In One สำหรับงานประมวลผล แบบ ที่ 1 จำนวน 1 เครื่อง | D73: 23000 | E73: อบต.วังหิน | F73: กองช่าง
A74: 2 | B74: เครื่องพิมพ์ | C74: - จัดซื้อเครื่องพิมพ์ Multifunction เลเซอร์ LED ขาว ดำ จำนวน 1 เครื่อง | D74: 10000 | E74: อบต.วังหิน | F74: กองช่าง
A93: ประเภทครุภัณฑ์ : ครุภัณฑ์ก่อสร้าง
A94: แผนงาน อุตสาหกรรมและการโยธา
A95: งาน บริหารทั่วไปเกี่ยวกับอุตสาหกรรมและการโยธา
A96: ที่ | B96: ครุภัณฑ์ | C96: รายละเอียดของครุภัณฑ์ | D96: งบประมาณ ( บาท) | E96: สถานที่ ดำเนินการ | F96: หน่วย ดำเนินการ | G96: 2564 | J96: 2565
G97: ต.ค. | H97: พ.ย | I97: ธ.ค. | J97: ม.ค. | K97: ก.พ. | L97: มี.ค. | M97: เม.ย. | N97: พ.ค. | O97: มิ.ย. | P97: ก.ค. | Q97: ส.ค. | R97: ก.ย.
A98: 1 | B98: เครื่องเจาะ ( Coring) | C98: - จัดซื้อเครื่องเจาะ (Coring) พร้อมดอกเจาะ เพื่อใช้ทดสอบความหนาของผิวจราจร จำนวน 1 เครื่อง | D98: 61000 | E98: อบต.วังหิน | F98: กองช่าง

Sheet Sheet2

Sheet Sheet3
