Workbook

Sheet บัญชีสรุป
A1: บัญชีสรุปจำนวนโครงการและงบประมาณ
A2: แผนการดำเนินงาน ประจำปีงบประมาณ พ.ศ.2563
A3: องค์การบริหารส่วนตำบลวังหิน อำเภอบางขัน จังหวัดนครศรีธรรมราช
A5: ยุทธศาสตร์ / แนวทาง | B5: จำนวนโครงการ ที่ดำเนินงาน | C5: คิดเป็นร้อยละ ของโครงการทั้งหมด | D5: จำนวน งบประมาณ | E5: ร้อยละ ของงบประมาณ | F5: หน่วยงาน ที่ดำเนินงาน
A6: 1. ยุทธศาสตร์การพัฒนาด้านโครงสร้างพื้นฐาน | F6: กองช่าง
A7: 1.1 แผนงานอุตสาหกรรมการโยธา | B7: ='ผด2 ( ย.1 )'!A55 -> 14 | C7: =B7*100/B43 -> 9.0322581 | D7: ='ผด2 ( ย.1 )'!D57 -> 8112000 | E7: =D7*100/D43 -> 15.84375
A8: 1.2 แผนงานเคหะและชุมชน | B8: ='ผด2 ( ย.1 )'!A85 -> 17 | C8: =B8*100/B43 -> 10.967742 | D8: ='ผด2 ( ย.1 )'!D88 -> 2445160 | E8: =D8*100/D43 -> 4.7757031
A9: รวม | B9: =SUM(B7:B8) -> 31 | C9: =C7+C8 -> 20 | D9: =D7+D8 -> 10557160 | E9: =E7+E8 -> 20.619453
A10: 2. ยุทธศาสตร์การพัฒนาด้านเศรษฐกิจและการท่องเที่ยว | F10: สำนักงานปลัดฯ
A11: 2.1 แผนงานการศาสนาวัฒนธรรมและนันทนาการ | B11: ='ผด2 ( ย .2 )'!A10 -> 1 | C11: =B11*100/B43 -> 0.64516129 | D11: ='ผด2 ( ย .2 )'!D12 -> 250000 | E11: =D11*100/D43 -> 0.48828125
A12: รวม | B12: =B11 -> 1 | C12: =C11 -> 0.64516129 | D12: =D11 -> 250000 | E12: =E11 -> 0.48828125
A13: 3. ยุทธศาสตร์การพัฒนาด้านการศึกษา ศาสนา ศิลปวัฒนธรรม | F13: สำนักงานปลัดฯ
A14: 3.1 แผนงานการศึกษา | B14: ='ผด2 ( ย.3)'!A32+'ผด2 ( ย.3)'!A57 -> 20 | C14: =B14*100/B43 -> 12.903226 | D14: ='ผด2 ( ย.3)'!D60 -> 11666503 | E14: =D14*100/D43 -> 22.786139
A15: 3.2 แผนงานการศาสนาวัฒนธรรมและนันทนาการ | B15: ='ผด2 ( ย .2 )'!A10 -> 1 | C15: =B15*100/B43 -> 0.64516129 | D15: ='ผด2 ( ย.3)'!D113 -> 695000 | E15: =D15*100/D43 -> 1.3574219
A16: รวม | B16: =B14+B15 -> 21 | C16: =C14+C15 -> 13.548387 | D16: =D14+D15 -> 12361503 | E16: =E14+E15 -> 24.143561
A17: 4. ยุทธศาสตร์การพัฒนาด้านสิ่งแวดล้อมและการจัดการทรัพยากรธรรมชาติ | F17: สำนักงานปลัด ฯ
A18: 4.1 แผนงานการเกษตร | B18: 3 | C18: =B18*10/B32 -> 1.6666667 | D18: ='ผด2 ( ย.4) '!D35 -> 50000 | E18: =D18*100/D32 -> 10
A19: 4.2 แผนงานสาธารณสุข | B19: 1 | C19: =B19*100/B43 -> 0.64516129 | D19: ='ผด2 ( ย.4) '!D58 -> 60000 | E19: =D19*100/D43 -> 0.1171875
A20: รวม | B20: =B18+B19 -> 4 | C20: =C18+C19 -> 2.311828 | D20: =D18+D19 -> 110000 | E20: =E18+E19 -> 10.117188
A25: บัญชีสรุปจำนวนโครงการและงบประมาณ
A26: แผนการดำเนินงาน ประจำปีงบประมาณ พ.ศ.2563
A27: องค์การบริหารส่วนตำบลวังหิน อำเภอบางขัน จังหวัดนครศรีธรรมราช
A29: ยุทธศาสตร์ / แนวทาง | B29: จำนวนโครงการ ที่ดำเนินงาน | C29: คิดเป็นร้อยละ ของโครงการทั้งหมด | D29: จำนวน งบประมาณ | E29: ร้อยละ ของงบประมาณ | F29: หน่วยงาน ที่ดำเนินงาน
A30: 5. ยุทธศาสตร์การพัฒนาด้านคุณภาพชีวิตและสังคม | F30: สำนักงานปลัด ฯ
A31: 5.1 แผนงานการรักษาความสงบภายใน | B31: ='ผด2 ( ย.5) '!A23 -> 8 | C31: =B31*100/B43 -> 5.1612903 | D31: ='ผด2 ( ย.5) '!D25 -> 215000 | E31: =D31*10/D43 -> 0.041992188
A32: 5.2 แผนงานสาธารณสุข | B32: ='ผด2 ( ย.5) '!A83 -> 18 | C32: =B32*100/B43 -> 11.612903 | D32: ='ผด2 ( ย.5) '!D86 -> 500000 | E32: =D32*100/D43 -> 0.9765625
A33: 5.3 แผนงานสังคมสงเคราะห์ | B33: ='ผด2 ( ย.5) '!A107 -> 2 | C33: =B33*100/B43 -> 1.2903226 | D33: ='ผด2 ( ย.5) '!D110 -> 40000 | E33: =D33*100/D43 -> 0.078125
A34: 5.4 แผนงานสร้างความเข้มแข็งของชุมชน | B34: ='ผด2 ( ย.5) '!A132 -> 4 | C34: =B34*100/B43 -> 2.5806452 | D34: ='ผด2 ( ย.5) '!D135 -> 480000 | E34: =D34*100/D43 -> 0.9375
A35: 5.5 แผนงานงบกลาง | B35: ='ผด2 ( ย.5) '!A150 -> 4 | C35: =B35*100/B43 -> 2.5806452 | D35: ='ผด2 ( ย.5) '!D153 -> 11056200 | E35: =D35*100/D43 -> 21.594141
A36: รวม | B36: =B31+B32+B33+B34+B35 -> 36 | C36: =C31+C32+C33+C34+C35 -> 23.225806 | D36: =SUM(D31:D35) -> 12291200 | E36: =E31+E32+E33+E34+E35 -> 23.62832
A37: 6. ยุทธศาสตร์การพัฒนาด้านการเมืองการปกครอง การบริหารจัดการองค์กรภายใต้ระบบธรรมาภิบาล | F37: สำนักงานปลัด ฯ กองคลัง กองช่าง
A38: 6.1 แผนงานบริหารทั่วไป | B38: ='ผด2 ( ย.6) '!A63 -> 37 | C38: =B38*100/B43 -> 23.870968 | D38: ='ผด2 ( ย.6) '!D65 -> 11200100 | E38: =D38*100/D43 -> 21.875195
A39: 6.2 แผนงานบริหารงานคลัง | B39: ='ผด2 ( ย.6) '!A95 -> 17 | C39: =B39*100/B43 -> 10.967742 | D39: ='ผด2 ( ย.6) '!D97 -> 2614380 | E39: =D39*100/D43 -> 5.1062109
A40: 6.2 แผนงานสร้างความเข้มแข็งของชุมชน | B40: ='ผด2 ( ย.6) '!A109 -> 2 | C40: =B40*100/B43 -> 1.2903226 | D40: ='ผด2 ( ย.6) '!D112 -> 45000 | E40: =D40*100/D43 -> 0.087890625
A41: 6.3 แผนงานงบกลาง | B41: ='ผด2 ( ย.6) '!A135 -> 6 | C41: =B41*100/B43 -> 3.8709677 | D41: ='ผด2 ( ย.6) '!D138 -> 1770657 | E41: =D41*100/D43 -> 3.4583145
A42: รวม | B42: =B38+B39+B40+B41 -> 62 | C42: =C38+C39+C40+C41 -> 40 | D42: =SUM(D38:D41) -> 15630137 | E42: =D42*100/D43 -> 30.527611
A43: รวมทั้งหมด | B43: =B42+B36+B20+B16+B12+B9 -> 155 | C43: =B43*100/B43 -> 100 | D43: =D42+D36+D20+D16+D12+D9 -> 51200000 | E43: =D43*100/D43 -> 100

Sheet ผด2 ( ย.1 )
A1: บัญชีโครงการ / กิจกรรม / งบประมาณ
A2: แผนการดำเนินงาน ประจำปีงบประมาณ พ.ศ.2563
A3: องค์การบริหารส่วนตำบลวังหิน อำเภอบางขัน จังหวัดนครศรีธรรมราช
A4: ภายใต้ยุทธศาสตร์ ที่ 1 ด้านโครงสร้างพื้นฐาน
A5: แผนงาน อุตสาหกรรมการโยธา
A6: งาน ก่อสร้างโครงสร้างพื้นฐาน
A7: ที่ | B7: โครงการ / กิจกรรม | C7: รายละเอียดของโครงการ / กิจกรรม | D7: งบประมาณ ( บาท) | E7: สถานที่ ดำเนินการ | F7: หน่วย ดำเนินการ | G7: 2562 | J7: 2563
G8: ต.ค. | H8: พ.ย | I8: ธ.ค. | J8: ม.ค. | K8: ก.พ. | L8: มี.ค. | M8: เม.ย. | N8: พ.ค. | O8: มิ.ย. | P8: ก.ค. | Q8: ส.ค. | R8: ก.ย.
A9: 1 | B9: โครงการก่อสร้างถนนคอนกรีต เสริมเหล็ก สายซอย 3/5 หมู่ที่ 3 | C9: เพื่อจ่ายเป็นค่าก่อสร้างถนนคอนกรีต เสริมเหล็ก สายซอย 3/5 หมู่ที่ 3 - ระยะทางถนนยาว 250 เมตร กว้าง 4 เมตร หนา 0.15 เมตร ไหล่ทางตามสภาพของพื้นที่ หรือ มีพื้นที่ คอนกรีตไม่น้อยกว่า 1,000 ตารางเมตร จำนวน 1 สาย พร้อมป้ายโครงการ จำนวน 1 ป้าย รายละเอียดแบบแปลน เป็นไปตาม อบต.วังหิน กำหนด | D9: 729000 | E9: หมู่ที่ 3 | F9: กองช่าง
A10: 2 | B10: โครงการก่อสร้างถนนคอนกรีต เสริมเหล็ก สายบ้านสวน - ป่าแก่ หมู่ที่ 6 | C10: เพื่อจ่ายเป็นค่าก่อสร้างถนนคอนกรีต เสริมเหล็ก สายบ้านสวน - ป่าแก่ หมู่ที่ 6 - ระยะทางถนนยาว 200 เมตร ถนนกว้าง 5 เมตร หนา 0.15 เมตร ไหล่ทางข้างละ 0.50 เมตร หรือ มีพื้นที่ คอนกรีตไม่น้อยกว่า 1,000 ตารางเมตร จำนวน 1 สาย พร้อมป้ายโครงการ จำนวน 1 ป้าย รายละเอียดแบบแปลน เป็นไปตาม อบต.วังหิน กำหนด | D10: 682000 | E10: หมู่ที่ 6 | F10: กองช่าง
A11: รวม | D11: =D9+D10 -> 1411000
A14: ที่ | B14: โครงการ / กิจกรรม | C14: รายละเอียดของโครงการ / กิจกรรม | D14: งบประมาณ ( บาท) | E14: สถานที่ ดำเนินการ | F14: หน่วย ดำเนินการ | G14: 2562 | J14: 2563
G15: ต.ค. | H15: พ.ย | I15: ธ.ค. | J15: ม.ค. | K15: ก.พ. | L15: มี.ค. | M15: เม.ย. | N15: พ.ค. | O15: มิ.ย. | P15: ก.ค. | Q15: ส.ค. | R15: ก.ย.
A16: 3 | B16: โครงการก่อสร้างถนนคอนกรีต เสริมเหล็ก สายหนองเจ - บนควน (ตอนที่ 3 ) หมู่ที่ 1 | C16: เพื่อจ่ายเป็นค่าก่อสร้างถนนคอนกรีต เสริมเหล็ก สายหนองเจ - บนควน (ตอนที่ 3 ) หมู่ที่ 1 - ระยะทางถนนยาว 200 เมตร ถนนกว้าง 5 เมตร หนา 0.15 เมตร ไหล่ทางข้างละ 0.50 เมตร หรือ มีพื้นที่ คอนกรีตไม่น้อยกว่า 1,000 ตารางเมตร จำนวน 1 สาย พร้อมป้ายโครงการ จำนวน 1 ป้าย รายละเอียดแบบแปลน เป็นไปตาม อบต.วังหิน กำหนด | D16: 682000 | E16: หมู่ที่ 1 | F16: กองช่าง
A17: 4 | B17: โครงการก่อสร้างถนนลาดยาง แบบแอสฟัลท์ติกคอนกรีต ถนนสายทับควาย -ไสยาสน์ หมู่ที่ 8 | C17: เพื่อจ่ายเป็นค่าก่อสร้างถนนลาดยาง แบบแอสฟัลท์ติกคอนกรีต ถนนสายทับควาย -ไสยาสน์ หมู่ที่ 8 - ระยะทางถนนยาว 220 เมตร ถนนกว้าง 5 เมตร ผิวจราจร 5 เมตรหนา 0.05 เมตร หรือ มีพื้นที่ลาดยาง ไม่น้อยกว่า 1,100 ตารางเมตร จำนวน 1 สาย พร้อมป้ายโครงการ จำนวน 1 ป้าย รายละเอียดแบบแปลน เป็นไปตาม อบต.วังหิน กำหนด | D17: 609000 | E17: หมู่ที่ 8 | F17: กองช่าง
A18: รวม | D18: =D16+D17 -> 1291000
A22: ที่ | B22: โครงการ / กิจกรรม | C22: รายละเอียดของโครงการ / กิจกรรม | D22: งบประมาณ ( บาท) | E22: สถานที่ ดำเนินการ | F22: หน่วย ดำเนินการ | G22: 2562 | J22: 2563
G23: ต.ค. | H23: พ.ย | I23: ธ.ค. | J23: ม.ค. | K23: ก.พ. | L23: มี.ค. | M23: เม.ย. | N23: พ.ค. | O23: มิ.ย. | P23: ก.ค. | Q23: ส.ค. | R23: ก.ย.
A24: 5 | B24: โครงการก่อสร้างถนนลาดยาง แบบแอสฟัลท์ติกคอนกรีต ถนนสายสี่แยกสวนป่า - ด่านปริง หมู่ที่ 7 | C24: เพื่อจ่ายเป็นค่าก่อสร้างถนนลาดยาง แบบแอสฟัลท์ติกคอนกรีต ถนนสายสี่แยกสวนป่า-ด่านปริง หมู่ที่ 7 - ระยะทางถนนยาว 220 เมตร ถนนกว้าง 5 เมตร ผิวจราจร 5 เมตรหนา 0.05 เมตร หรือ มีพื้นที่ลาดยาง ไม่น้อยกว่า 1,100 ตารางเมตร จำนวน 1 สาย พร้อมป้ายโครงการ จำนวน 1 ป้าย รายละเอียดแบบแปลน เป็นไปตาม อบต.วังหิน กำหนด | D24: 609000 | E24: หมู่ที่ 7 | F24: กองช่าง
A25: 6 | B25: โครงการก่อสร้างถนนลาดยาง แบบแอสฟัลท์ติกคอนกรีต ถนนสายไสปง - ไสกรูด หมู่ที่ 9 | C25: เพื่อจ่ายเป็นค่าก่อสร้างถนนลาดยาง แบบแอสฟัลท์ติกคอนกรีต ถนนสายไสปง - ไสกรูด หมู่ที่ 9 - ระยะทางถนนยาว 220 เมตร ถนนกว้าง 5 เมตร ผิวจราจร 5 เมตรหนา 0.05 เมตร หรือ มีพื้นที่ลาดยาง ไม่น้อยกว่า 1,100 ตารางเมตร จำนวน 1 สาย พร้อมป้ายโครงการ จำนวน 1 ป้าย รายละเอียดแบบแปลน เป็นไปตาม อบต.วังหิน กำหนด | D25: 609000 | E25: หมู่ที่ 9 | F25: กองช่าง
A26: รวม | D26: =D24+D25 -> 1218000
A30: ที่ | B30: โครงการ / กิจกรรม | C30: รายละเอียดของโครงการ / กิจกรรม | D30: งบประมาณ ( บาท) | E30: สถานที่ ดำเนินการ | F30: หน่วย ดำเนินการ | G30: 2562 | J30: 2563
G31: ต.ค. | H31: พ.ย | I31: ธ.ค. | J31: ม.ค. | K31: ก.พ. | L31: มี.ค. | M31: เม.ย. | N31: พ.ค. | O31: มิ.ย. | P31: ก.ค. | Q31: ส.ค. | R31: ก.ย.
A32: 7 | B32: โครงการก่อสร้างถนนลาดยาง แบบแอสฟัลท์ติกคอนกรีต ถนนสายหลัก หมู่ที่ 3-4-6-13 ช่วงหมู่ที่ 4 | C32: เพื่อจ่ายเป็นค่าก่อสร้างถนนลาดยาง แบบแอสฟัลท์ติกคอนกรีต ถนนสายหลัก หมู่ที่ 3-4-6-13 ช่วงหมู่ที่ 4 - ระยะทางถนนยาว 220 เมตร ถนนกว้าง 5 เมตร ผิวจราจร 5 เมตรหนา 0.05 เมตร หรือ มีพื้นที่ลาดยาง ไม่น้อยกว่า 1,100 ตารางเมตร จำนวน 1 สาย พร้อมป้ายโครงการ จำนวน 1 ป้าย รายละเอียดแบบแปลน เป็นไปตาม อบต.วังหิน กำหนด | D32: 609000 | E32: หมู่ที่ 4 | F32: กองช่าง
A33: 8 | B33: โครงการก่อสร้างถนนลาดยาง แบบแอสฟัลท์ติกคอนกรีต ถนนสายสามแยกบ้านลุงเท่ง - หมู่ที่ 3 บ้านวังหิน | C33: เพื่อจ่ายเป็นค่าก่อสร้างถนนลาดยาง แบบแอสฟัลท์ติกคอนกรีต ถนนสายสามแยกบ้านลุงเท่ง - หมู่ที่ 3 บ้านวังหิน - ระยะทางถนนยาว 220 เมตร ถนนกว้าง 5 เมตร ผิวจราจร 5 เมตรหนา 0.05 เมตร หรือ มีพื้นที่ลาดยาง ไม่น้อยกว่า 1,100 ตารางเมตร จำนวน 1 สาย พร้อมป้ายโครงการ จำนวน 1 ป้าย รายละเอียดแบบแปลน เป็นไปตาม อบต.วังหิน กำหนด | D33: 609000 | E33: หมู่ที่ 13 | F33: กองช่าง
A34: รวม | D34: =D32+D33 -> 1218000
A37: ที่ | B37: โครงการ / กิจกรรม | C37: รายละเอียดของโครงการ / กิจกรรม | D37: งบประมาณ ( บาท) | E37: สถานที่ ดำเนินการ | F37: หน่วย ดำเนินการ | G37: 2562 | J37: 2563
G38: ต.ค. | H38: พ.ย | I38: ธ.ค. | J38: ม.ค. | K38: ก.พ. | L38: มี.ค. | M38: เม.ย. | N38: พ.ค. | O38: มิ.ย. | P38: ก.ค. | Q38: ส.ค. | R38: ก.ย.
A39: 9 | B39: โครงการก่อสร้างถนนลาดยาง แบบแอสฟัลท์ติกคอนกรีต ถนนสายหนองเจ - บางพงษ์ หมู่ที่ 10 | C39: เพื่อจ่ายเป็นค่าก่อสร้างถนนลาดยาง แบบแอสฟัลท์ติกคอนกรีต ถนนสายหนองเจ - บางพงษ์ หมู่ที่ 10 - ระยะทางถนนยาว 220 เมตร ถนนกว้าง 5 เมตร ผิวจราจร 5 เมตรหนา 0.05 เมตร หรือ มีพื้นที่ลาดยาง ไม่น้อยกว่า 1,100 ตารางเมตร จำนวน 1 สาย พร้อมป้ายโครงการ จำนวน 1 ป้าย รายละเอียดแบบแปลน เป็นไปตาม อบต.วังหิน กำหนด | D39: 609000 | E39: หมู่ที่ 10 | F39: กองช่าง
A40: 10 | B40: โครงการก่อสร้างถนนลาดยาง แบบแอสฟัลท์ติกคอนกรีต ถนนสายหน้าควน - ไสปง หมู่ที่ 12 | C40: เพื่อจ่ายเป็นค่าก่อสร้างถนนลาดยาง แบบแอสฟัลท์ติกคอนกรีต ถนนสายหน้าควน - ไสปง หมู่ที่ 12 - ระยะทางถนนยาว 220 เมตร ถนนกว้าง 5 เมตร ผิวจราจร 5 เมตรหนา 0.05 เมตร หรือ มีพื้นที่ลาดยาง ไม่น้อยกว่า 1,100 ตารางเมตร จำนวน 1 สาย พร้อมป้ายโครงการ จำนวน 1 ป้าย รายละเอียดแบบแปลน เป็นไปตาม อบต.วังหิน กำหนด | D40: 609000 | E40: หมู่ที่ 12 | F40: กองช่าง
A41: รวม | D41: =D39+D40 -> 1218000
A45: ที่ | B45: โครงการ / กิจกรรม | C45: รายละเอียดของโครงการ / กิจกรรม | D45: งบประมาณ ( บาท) | E45: สถานที่ ดำเนินการ | F45: หน่วย ดำเนินการ | G45: 2562 | J45: 2563
G46: ต.ค. | H46: พ.ย | I46: ธ.ค. | J46: ม.ค. | K46: ก.พ. | L46: มี.ค. | M46: เม.ย. | N46: พ.ค. | O46: มิ.ย. | P46: ก.ค. | Q46: ส.ค. | R46: ก.ย.
A47: 11 | B47: โครงการก่อสร้างถนนลาดยาง แบบแอสฟัลท์ติกคอนกรีต ถนนสายบางพงศ์-สะพานคลองลำตัง(ตอนที่ 3 ) เชื่อมต่อหมู่ที่ 13 ตำบลบ้านนิคม หมู่ที่ 2 | C47: เพื่อจ่ายเป็นค่าก่อสร้างถนนลาดยาง แบบแอสฟัลท์ติกคอนกรีต ถนนสายบางพงศ์ - สะพานคลองลำตัง (ตอนที่ 3 ) เชื่อมต่อหมู่ที่ 13 ตำบลบ้านนิคม หมู่ที่ 2 - ระยะทางถนนยาว 220 เมตร ถนนกว้าง 5 เมตร ผิวจราจร 5 เมตรหนา 0.05 เมตร หรือ มีพื้นที่ลาดยาง ไม่น้อยกว่า 1,100 ตารางเมตร จำนวน 1 สาย พร้อมป้ายโครงการ จำนวน 1 ป้าย รายละเอียดแบบแปลน เป็นไปตาม อบต.วังหิน กำหนด | D47: 609000 | E47: หมู่ที่ 2 | F47: กองช่าง
A48: 12 | B48: โครงการปรับปรุงขยายไหล่ทางยกระดับตามสภาพถนน สายวังเนียง - หน้าวัด หมู่ที่ 5 | C48: เพื่อจ่ายเป็นค่าปรับปรุงขยายไหล่ทางยกระดับตามสภาพถนนสายวังเนียง - หน้าวัด หมู่ที่ 5 - ระยะทางถนนยาว 720 เมตร ถนนกว้างโดยเฉลี่ย 6.40 เมตร พร้อม ฝังท่อระบายน้ำ คสล. มอก.3 ขนาด 0.80 เมตร จำนวน 3 จุด จุดละ 8 ท่อน จำนวน 1 สาย พร้อมป้ายโครงการ จำนวน 1 ป้าย รายละเอียดแบบแปลน เป็นไปตาม อบต.วังหิน กำหนด | D48: 738000 | E48: หมู่ที่ 5 | F48: กองช่าง
A49: รวม | D49: =D47+D48 -> 1347000
A52: ที่ | B52: โครงการ / กิจกรรม | C52: รายละเอียดของโครงการ / กิจกรรม | D52: งบประมาณ ( บาท) | E52: สถานที่ ดำเนินการ | F52: หน่วย ดำเนินการ | G52: 2562 | J52: 2563
G53: ต.ค. | H53: พ.ย | I53: ธ.ค. | J53: ม.ค. | K53: ก.พ. | L53: มี.ค. | M53: เม.ย. | N53: พ.ค. | O53: มิ.ย. | P53: ก.ค. | Q53: ส.ค. | R53: ก.ย.
A54: 13 | B54: โครงการยกระดับถนนสายไสใคร หมู่ที่ 11 | C54: เพื่อจ่ายเป็นค่ายกระดับถนนสายไสไคร หมู่ที่ 11 - ระยะทางรวม 275 เมตร ถนนกว้างโดยเฉลี่ย 5 เมตร พร้อม ฝังท่อระบายน้ำ คสล. มอก.3 จำนวน 4 จุด จุดละ 2 ท่อน จำนวน 1 สาย พร้อมป้ายโครงการ จำนวน 1 ป้าย รายละเอียดแบบแปลน เป็นไปตาม อบต.วังหิน กำหนด | D54: 200000 | E54: หมู่ที่ 11 | F54: กองช่าง
A55: 14 | B55: โครงการยกระดับถนนสาย หินครกเบือ จำนวน 2 จุด | C55: เพื่อจ่ายเป็นค่ายกระดับถนนสายหินครกเบือ จำนวน 2 จุด ดังนี้ จุดที่ 1 - ระยะทางยาว 75 เมตร ถนนกว้างโดยเฉลี่ย 5 เมตร พร้อมฝังท่อระบายน้ำ คสล. มอก.3ขนาด 0.80 x 1.00 เมตร จำนวน 1 จุด จุดละ 8 ท่อน จุดที่ 2 - ระยะทางยาว 200 เมตร ถนนกว้างโดยเฉลี่ย 5 เมตร พร้อมฝังท่อระบายน้ำ คสล. มอก.3 ขนาด 0.80 x 1.00 เมตร จำนวน 2 จุด จุดละ 8 ท่อน | D55: 209000 | E55: หมู่ที่ 11 | F55: กองช่าง
A56: รวม | D56: =D54+D55 -> 409000
A57: รวม ( แผนงานอุสาหกรรมการโยธา ) | D57: =D56+D49+D41+D34+D26+D18+D11 -> 8112000 | E57: =BAHTTEXT(D57) -> แปดล้านหนึ่งแสนหนึ่งหมื่นสองพันบาทถ้วน
A58: ภายใต้ยุทธศาสตร์ ที่ 1 ด้านโครงสร้างพื้นฐาน
A59: แผนงาน เคหะและชุมชน
A60: งาน บริหารทั่วไปเกี่ยวกับเคหะและชุมชน
A61: ที่ | B61: โครงการ / กิจกรรม | C61: รายละเอียดของโครงการ / กิจกรรม | D61: งบประมาณ ( บาท) | E61: สถานที่ ดำเนินการ | F61: หน่วย ดำเนินการ | G61: 2562 | J61: 2563
G62: ต.ค. | H62: พ.ย | I62: ธ.ค. | J62: ม.ค. | K62: ก.พ. | L62: มี.ค. | M62: เม.ย. | N62: พ.ค. | O62: มิ.ย. | P62: ก.ค. | Q62: ส.ค. | R62: ก.ย.
A63: 1 | B63: เงินเดือนพนักงาน | C63: เพื่อจ่ายเป็นเงินเดือนและเงินปรับปรุงเงินเดือนให้แก่พนักงานส่วนตำบล สังกัดกองช่าง | D63: 966480 | F63: กองช่าง
A64: 2 | B64: เงินเพิ่มต่าง ๆ ของพนักงาน | C64: เพื่อจ่ายเป็นเงินเพิ่มต่างๆ ของพนักงานส่วนตำบลที่มีสิทธิได้รับเงินเพิ่ม | D64: 24000 | F64: กองช่าง
A65: 3 | B65: เงินประจำตำแหน่ง | C65: เพื่อจ่ายเป็นเงินประจำตำแหน่งให้แก่ผู้อำนวยการกองช่าง | D65: 42000 | F65: กองช่าง
A66: 4 | B66: ค่าตอบแทนพนักงานจ้าง | C66: เพื่อจ่ายเป็นค่าตอบแทนพนักงานจ้าง | D66: 382680 | F66: กองช่าง
A67: 5 | B67: เงินเพิ่มต่าง ๆ ของพนักงานจ้าง | C67: เพื่อจ่ายเป็นเงินเพิ่มต่างๆ ของพนักงานจ้าง | D67: 72000 | F67: กองช่าง
A68: 6 | B68: ค่าตอบแทนผู้ปฎิบัติราชการอันเป็นประโยชน์แก่องค์กรปกครองส่วนท้องถิ่น | C68: เพื่อจ่ายเป็นค่าตอบแทนผู้ปฎิบัติราชการอันเป็นประโยชน์แก่องค์กรปกครองส่วนท้องถิ่น | D68: 113000 | F68: กองช่าง
A69: 7 | B69: ค่าตอบแทนการปฎิบัติงานนอกเวลาราชการ | C69: เพื่อจ่ายเป็นค่าตอบแทนการปฎิบัติงานนอกเวลาราชการ | D69: 5000 | F69: กองช่าง
A70: 8 | B70: ค่าเช่าบ้าน | C70: เพื่อจ่ายเป็นค่าเช่าบ้าน ให้แก่ พนักงานส่วนตำบลที่มีสิทธิเบิกได้ | D70: 15000 | F70: กองช่าง
A71: 9 | B71: เงินช่วยเหลือการศึกษาบุตร | C71: เพื่อจ่ายเป็นค่าเงินช่วยเหลือการศึกษาบุตร ให้แก่พนักงานส่วนตำบล | D71: 10000 | F71: กองช่าง
A72: รวม | D72: =SUM(D63:D71) -> 1630160
A76: ที่ | B76: โครงการ / กิจกรรม | C76: รายละเอียดของโครงการ / กิจกรรม | D76: งบประมาณ ( บาท) | E76: สถานที่ ดำเนินการ | F76: หน่วย ดำเนินการ | G76: 2562 | J76: 2563
G77: ต.ค. | H77: พ.ย | I77: ธ.ค. | J77: ม.ค. | K77: ก.พ. | L77: มี.ค. | M77: เม.ย. | N77: พ.ค. | O77: มิ.ย. | P77: ก.ค. | Q77: ส.ค. | R77: ก.ย.
A78: 10 | B78: รายจ่ายเพื่อให้ได้มาซึ่งบริการ | C78: เพื่อจ่ายเป็นค่ารายจ่ายเพื่อให้ได้มาซึ่งบริการ | D78: 50000 | F78: กองช่าง
A79: 11 | B79: ค่าใช้จ่ายในการเดินทางไปราชการในและนอกราชอาณาจักร | C79: เพื่อจ่ายเป็นค่าใช้จ่ายในการเดินทางไปราชการในและนอกราชอาณาจักร | D79: 50000 | F79: กองช่าง
A80: 12 | B80: ค่าบำรุงรักษาและซ่อมแซม | C80: เพื่อจ่ายเป็นค่าบำรุงรักษาและซ่อมแซม | D80: 500000 | F80: กองช่าง
A81: 13 | B81: วัสดุสำนักงาน | C81: เพื่อจ่ายเป็นค่าจัดซื้อวัสดุสำนักงาน | D81: 30000 | F81: กองช่าง
A82: 14 | B82: วัสดุไฟฟ้าและวิทยุ | C82: เพื่อจ่ายเป็นค่าจัดซื้อวัสดุไฟฟ้าและวิทยุ | D82: 115000 | F82: กองช่าง
A83: 15 | B83: วัสดุก่อสร้าง | C83: เพื่อจ่ายเป็นค่าจัดซื้อวัสดุก่อสร้าง | D83: 20000 | F83: กองช่าง
A84: 16 | B84: วัสดุโฆษณาและเผยแพร่ | C84: เพื่อจ่ายเป็นค่าจัดซื้อวัสดุโฆษณาและเผยแพร่ | D84: 10000 | F84: กองช่าง
A85: 17 | B85: วัสดุคอมพิวเตอร์ | C85: เพื่อจ่ายเป็นค่าจัดซื้อวัสดุคอมพิวเตอร์ | D85: 40000 | F85: กองช่าง
A86: รวม | D86: =D78+D79+D80+D81+D82+D83+D84+D85 -> 815000
A87: รวม ( งานบริหารทั่วไปเกี่ยวกับเคหะและชุมชน) | D87: =D86+D72 -> 2445160
A88: รวม ( แผนงานเคหะและชุมชน ) | D88: =D87 -> 2445160 | E88: =BAHTTEXT(D88) -> สองล้านสี่แสนสี่หมื่นห้าพันหนึ่งร้อยหกสิบบาทถ้วน

Sheet ผด2 ( ย .2 )
A1: บัญชีโครงการ / กิจกรรม / งบประมาณ
A2: แผนการดำเนินงาน ประจำปีงบประมาณ พ.ศ.2563
A3: องค์การบริหารส่วนตำบลวังหิน อำเภอบางขัน จังหวัดนครศรีธรรมราช
A5: ภายใต้ยุทธศาสตร์ ที่ 2 ด้านการพัฒนาเศรษฐกิจและการท่องเที่ยว
A6: แผนงาน การศาสนาวัฒนธรรมและนันทนาการ
A7: งาน วิชาการวางแผนและส่งเสริมการท่องเที่ยว
A8: ที่ | B8: โครงการ / กิจกรรม | C8: รายละเอียดของโครงการ / กิจกรรม | D8: งบประมาณ ( บาท) | E8: สถานที่ ดำเนินการ | F8: หน่วย ดำเนินการ | G8: 2562 | J8: 2563
G9: ต.ค. | H9: พ.ย | I9: ธ.ค. | J9: ม.ค. | K9: ก.พ. | L9: มี.ค. | M9: เม.ย. | N9: พ.ค. | O9: มิ.ย. | P9: ก.ค. | Q9: ส.ค. | R9: ก.ย.
A10: 1 | B10: โครงการส่งเสริมและสนับสนุนการท่องเที่ยว | C10: เพื่อจ่ายเป็นค่าใช้จ่ายตามโครงการส่งเสริมและสนับสนุนการท่องเที่ยว | D10: 250000 | E10: อุทยาน บ่อน้ำร้อน | F10: สำนักงาน ปลัด อบต.
A11: รวม | D11: =D10 -> 250000
A12: รวม ( แผนงานการศาสนาวัฒนธรรมและนันทนาการ ) | D12: =D11 -> 250000 | E12: =BAHTTEXT(D12) -> สองแสนห้าหมื่นบาทถ้วน

Sheet ผด2 ( ย.3)
A1: บัญชีโครงการ / กิจกรรม / งบประมาณ
A2: แผนการดำเนินงาน ประจำปีงบประมาณ พ.ศ.2563
A3: องค์การบริหารส่วนตำบลวังหิน อำเภอบางขัน จังหวัดนครศรีธรรมราช
A5: ภายใต้ยุทธศาสตร์ ที่ 3 ด้านการศึกษา ศาสนา ศิลปวัฒนธรรม
A6: แผนงาน การศึกษา
A7: งาน บริหารทั่วไปเกี่ยวกับการศึกษา
A8: ที่ | B8: โครงการ / กิจกรรม | C8: รายละเอียดของโครงการ / กิจกรรม | D8: งบประมาณ ( บาท) | E8: สถานที่ ดำเนินการ | F8: หน่วย ดำเนินการ | G8: 2562 | J8: 2563
G9: ต.ค. | H9: พ.ย | I9: ธ.ค. | J9: ม.ค. | K9: ก.พ. | L9: มี.ค. | M9: เม.ย. | N9: พ.ค. | O9: มิ.ย. | P9: ก.ค. | Q9: ส.ค. | R9: ก.ย.
A10: 1 | B10: เงินเดือนพนักงาน | C10: เพื่อจ่ายเป็นค่าเงินเดือนและเงินปรับปรุงเงินเดือนให้แก่พนักงานครู สังกัด อบต.วังหิน จำนวน 12 อัตรา | D10: 3471540 | E10: - | F10: สำนักงาน ปลัด อบต.
A11: 2 | B11: เงินวิทยะฐานะ | C11: เพื่อจ่ายเป็นเงินวิทยะฐานะชำนาญการ ให้แก่พนักงานครู สังกัด อบต.วังหิน | D11: 587300 | E11: - | F11: สำนักงาน ปลัด อบต.
A12: 3 | B12: ค่าตอบแทนพนักงานจ้าง | C12: เพื่อจ่ายเป็นเงินค่าตอบแทนพนักงานจ้าง ตามภารกิจตำแหน่ง ผู้ดูแลเด็ก (ทักษะ) จำนวน 5 อัตรา | D12: 793680 | E12: - | F12: สำนักงาน ปลัด อบต.
A13: 4 | B13: เงินเพิ่มต่างๆ ของพนักงานจ้าง | C13: เพื่อจ่ายเป็นเงินเพิ่มค่าครองชีพและเงิน เพิ่มต่างๆ ของพนักงานจ้าง ให้แก่ พนักงานจ้าง ตำแหน่ง ผู้ดูแลเด็ก(ทักษะ) สังกัด อบต.วังหิน | D13: 20280 | E13: - | F13: สำนักงาน ปลัด อบต.
A14: รวม | D14: =SUM(D10:D13) -> 4872800
A20: ที่ | B20: โครงการ / กิจกรรม | C20: รายละเอียดของโครงการ / กิจกรรม | D20: งบประมาณ ( บาท) | E20: สถานที่ ดำเนินการ | F20: หน่วย ดำเนินการ | G20: 2562 | J20: 2563
G21: ต.ค. | H21: พ.ย | I21: ธ.ค. | J21: ม.ค. | K21: ก.พ. | L21: มี.ค. | M21: เม.ย. | N21: พ.ค. | O21: มิ.ย. | P21: ก.ค. | Q21: ส.ค. | R21: ก.ย.
A22: 5 | B22: ค่าตอบแทนผู้ปฎิบัติราชการ อันเป็นประโยชน์แก่องค์กรปกครอง ส่วนท้องถิ่น | C22: เพื่อจ่ายเป็นค่าตอบแทนผู้ปฎิบัติราชการอันเป็นประโยชน์แก่องค์การบริหารส่วนตำบล ตามระเบียบกำหนด เช่น กรรมการสอบ คณะกรรมการประเมินบุคคล ค่าเงินประโยชน์ตอบแทนอื่น เป็นกรณีพิเศษ ( เงินรางวัลประจำปี ) สำหรับพนักงานส่วนท้องถิ่น | D22: 361000 | E22: - | F22: สำนักงาน ปลัด อบต.
A23: 6 | B23: ค่าตอบแทนการปฎิบัติงานนอกเวลาราชการ | C23: เพื่อจ่ายเป็นค่าตอบแทนการปฎิบัติงานนอกเวลาราชการ ให้แก่ พนักงานส่วนตำบล ลูกจ้างประจำ พนักงานจ้าง และบุคคลที่ได้รับการแต่งตั้งให้มาปฎิบัติงานนอกเวลาราชการ | D23: 10000 | E23: - | F23: สำนักงาน ปลัด อบต.
A24: 7 | B24: เงินช่วยเหลือการศึกษาบุตร | C24: เพื่อจ่ายเป็นเงินช่วยเหลือการศึกษาบุตรของพนักงานส่วนตำบล และผู้มีสิทธิได้รับเงินค่าช่วยเหลือการศึกษาบุตร ตามระเบียบกำหนด | D24: 80000 | E24: - | F24: สำนักงาน ปลัด อบต.
A25: 8 | B25: ค่าใช้จ่ายสำหรับการจัดงานราชพิธี หรือวันสำคัญของสถาบันพระมหากษัตริย์ | C25: เพื่อจ่ายเป็นค่าใช้จ่ายสำหรับการจัดงานราชพิธี หรือวันสำคัญของสถาบันพระมหากษัตริย์ และวันสำคัญทางราชการ เช่น ค่าจ้างทำพานพุ่ม ค่าเช่าเต็นท์ โต๊ะ เก้าอี้ ค่าเวทีพร้อมเครื่องเสียง ค่าตกแต่งสถานที่ ค่าป้ายไวนิล ฯลฯ | D25: 50000 | E25: ที่ทำการ อำเภอบางขัน | F25: สำนักงาน ปลัด อบต.
A26: รวม | D26: =SUM(D22:D25) -> 501000
A29: ที่ | B29: โครงการ / กิจกรรม | C29: รายละเอียดของโครงการ / กิจกรรม | D29: งบประมาณ ( บาท) | E29: สถานที่ ดำเนินการ | F29: หน่วย ดำเนินการ | G29: 2562 | J29: 2563
G30: ต.ค. | H30: พ.ย | I30: ธ.ค. | J30: ม.ค. | K30: ก.พ. | L30: มี.ค. | M30: เม.ย. | N30: พ.ค. | O30: มิ.ย. | P30: ก.ค. | Q30: ส.ค. | R30: ก.ย.
A31: 9 | B31: โครงการวันท้องถิ่นไทย | C31: เพื่อจ่ายเป็นค่าใช้จ่ายตามโครงการ วันท้องถิ่นไทย ฯลฯ | D31: 20000 | E31: ที่ทำการ อำเภอบางขัน | F31: สำนักงาน ปลัด อบต.
A32: 10 | B32: ค่าบำรุงรักษาและซ่อมแซม | C32: - เพื่อจ่ายเป็นรายจ่ายให้มาซึ่งของที่มีลักษณะโดยสภาพไม่คงทนถาวร หรือ ตามปกติ ที่มีอายุการใช้งานไม่ยืนนาน สิ้นเปลืองหมดไป หรือ เปลี่ยนสภาพไปในระยะเวลาอันสั้น - เพื่อจ่ายเป็นรายจ่ายให้มาซึ่งการจัดหาโปรแกรมคอมพิวเตอร์ที่มีราคาต่อหน่วยหรือ ต่อชุดไม่เกิน 20,0000 บาท - เพื่อจ่ายเป็นรายจ่ายให้มาซึ่งการจัดหาสิ่งของที่ใช้ในการซ่อมแซมบำรุงรักษาทรัพย์สินให้สามารถใช้งาน ได้ตามปกติ - เพื่อจ่ายเป็นรายจ่ายให้มาซึ่งการบำรุงรักษาซ่อมแซมครุภัณฑ์ เครื่องปรับอากาศ เครื่องคอมพิวเตอร์ เครื่องถ่ายเอกสาร ครุภัณฑ์สำนักงาน ฯลฯ | D32: 100000 | E32: - | F32: สำนักงาน ปลัด อบต.
A33: รวม | D33: =D31+D32 -> 120000
A34: รวม (งาน บริหารทั่วไปเกี่ยวกับการศึกษา ) | D34: =D33+D26+D14 -> 5493800 | E34: =BAHTTEXT(D34) -> ห้าล้านสี่แสนเก้าหมื่นสามพันแปดร้อยบาทถ้วน
A37: ภายใต้ยุทธศาสตร์ ที่ 3 ด้านการศึกษา ศาสนา ศิลปวัฒนธรรม
A38: แผนงาน การศึกษา
A39: งาน ระดับก่อนวัยเรียนและประถมศึกษา
A40: ที่ | B40: โครงการ / กิจกรรม | C40: รายละเอียดของโครงการ / กิจกรรม | D40: งบประมาณ ( บาท) | E40: สถานที่ ดำเนินการ | F40: หน่วย ดำเนินการ | G40: 2562 | J40: 2563
G41: ต.ค. | H41: พ.ย | I41: ธ.ค. | J41: ม.ค. | K41: ก.พ. | L41: มี.ค. | M41: เม.ย. | N41: พ.ค. | O41: มิ.ย. | P41: ก.ค. | Q41: ส.ค. | R41: ก.ย.
A42: 1 | B42: โครงการสนับสนุนค่าใช้จ่ายในการบริหารสถานศึกษา ( อุดหนุนอาหารกลางวัน ศพด.) | C42: เพื่อจ่ายเป็นค่าใช้จ่ายตามโครงการสนับสนุนค่าใช้จ่ายการบริหารสถานศึกษา(อุดหนุนอาหารกลางวัน ศพด.) | D42: 950600 | E42: - | F42: สำนักงาน ปลัด อบต.
A43: 2 | B43: โครงการกิจกรรมเพื่อเด็กและเยาวชน | C43: เพื่อจ่ายเป็นค่าใช้จ่ายตามโครงการกิจกรรมเพื่อเด็กและเยาวชน ฯลฯ | D43: 40000 | E43: - | F43: สำนักงาน ปลัด อบต.
A44: 3 | B44: โครงการกีฬาอนุบาลสัมพันธ์ | C44: เพื่อจ่ายเป็นค่าใช้จ่ายตามโครงการกีฬาอนุบาลสัมพันธ์ ฯลฯ | D44: 40000 | E44: สนามกีฬากลาง หมู่ที่ 8 ต.วังหิน | F44: สำนักงาน ปลัด อบต.
A45: 4 | B45: โครงการแข่งขันทักษะทางวิชาการ | C45: เพื่อจ่ายเป็นค่าใช้จ่ายตามโครงการแข่งขันทักษะทางวิชาการ ฯลฯ | D45: 30000 | E45: ศูนย์ ประชาสัมพันธ์ อุทยานบ่อน้ำร้อน | F45: สำนักงาน ปลัด อบต.
A46: 5 | B46: โครงการสนับสนุนค่าใช้จ่ายการ บริหารสถานศึกษา ( เงินอุดหนุน สำหรับสนับสนุนค่าใช้จ่ายในการ จัดการศึกษาสำหรับ ศพด.) | C46: เพื่อจ่ายเป็นค่าสนับสนุนค่าใช้จ่ายการ บริหารสถานศึกษา ( เงินอุดหนุน สำหรับสนับสนุนค่าใช้จ่ายในการ จัดการศึกษาสำหรับ ศพด.) | D46: 219220 | E46: - | F46: สำนักงาน ปลัด อบต.
A47: 6 | B47: โครงการสนับสนุนค่าใช้จ่ายการ บริหารสถานศึกษา ( เงินอุดหนุน สำหรับสนับสนุนค่าจัดการเรียนการสอนของ ศพด. (รายหัว ) | C47: เพื่อจ่ายเป็นค่าสนับสนุนค่าใช้จ่ายการ บริหารสถานศึกษา ( เงินอุดหนุน สำหรับสนับสนุนค่าจัดการเรียนการสอนของ ศพด. (รายหัว ) | D47: 329800 | E47: - | F47: สำนักงาน ปลัด อบต.
A48: รวม | D48: =SUM(D42:D47) -> 1609620
A52: ที่ | B52: โครงการ / กิจกรรม | C52: รายละเอียดของโครงการ / กิจกรรม | D52: งบประมาณ ( บาท) | E52: สถานที่ ดำเนินการ | F52: หน่วย ดำเนินการ | G52: 2562 | J52: 2563
G53: ต.ค. | H53: พ.ย | I53: ธ.ค. | J53: ม.ค. | K53: ก.พ. | L53: มี.ค. | M53: เม.ย. | N53: พ.ค. | O53: มิ.ย. | P53: ก.ค. | Q53: ส.ค. | R53: ก.ย.
A54: 7 | B54: ค่าวัสดุไฟฟ้าและวิทยุ | C54: เพื่อจ่ายเป็นค่าจัดซื้อวัสดุไฟฟ้าและวิทยุ เช่น สายไฟ ปลั๊กไฟ หลอดไฟ ฯลฯ | D54: 10000 | E54: - | F54: สำนักงาน ปลัด อบต.
A55: 8 | B55: วัสดุงานบ้านงานครัว | C55: เพื่อจ่ายเป็นค่าจัดซื้อวัสดุงานบ้าน งานครัวเช่น แปรง ไม้กวาด สบู่ ซักฟอก ฯลฯ | D55: 40000 | E55: - | F55: สำนักงาน ปลัด อบต.
A56: 9 | B56: ค่าอาหารเสริม ( นม ) | C56: เพื่อจ่ายเป็นค่าอาหารเสริม (นม ) สำหรับเด็กเล็กศูนย์พัฒนาเด็กเล็ก สังกัด อบต.วังหิน และโรงเรียนในเขตพื้นที่ ตำบลวังหิน | D56: 1713083 | E56: - | F56: สำนักงาน ปลัด อบต.
A57: 10 | B57: อุดหนุนค่าอาหารกลางวันสำหรับนักเรียนในสถานศึกษา สังกัด สพฐ. ในเขต อบต.วังหิน | C57: เพื่ออุดหนุนเป็นค่าอาหารกลางวัน สำหรับนักเรียนในสถานศึกษา สังกัด สพฐ.ในเขต อบต.วังหิน | D57: 2800000 | E57: - | F57: สำนักงาน ปลัด อบต.
A58: รวม | D58: =D54+D55+D56+D57 -> 4563083
A59: รวม ( งานระดับก่อนวัยเรียนและประถมศึกษา ) | D59: =D58+D48 -> 6172703
A60: รวม ( แผนงานการศึกษา ) | D60: =D59+D34 -> 11666503 | E60: =BAHTTEXT(D60) -> สิบเอ็ดล้านหกแสนหกหมื่นหกพันห้าร้อยสามบาทถ้วน
A69: ภายใต้ยุทธศาสตร์ ที่ 3 ด้านการศึกษา ศาสนา ศิลปวัฒนธรรม
A70: แผนงาน การศาสนาวัฒนธรรมและนันทนาการ
A71: งาน กีฬาและนันทนาการ
A72: ที่ | B72: โครงการ / กิจกรรม | C72: รายละเอียดของโครงการ / กิจกรรม | D72: งบประมาณ ( บาท) | E72: สถานที่ ดำเนินการ | F72: หน่วย ดำเนินการ | G72: 2562 | J72: 2563
G73: ต.ค. | H73: พ.ย | I73: ธ.ค. | J73: ม.ค. | K73: ก.พ. | L73: มี.ค. | M73: เม.ย. | N73: พ.ค. | O73: มิ.ย. | P73: ก.ค. | Q73: ส.ค. | R73: ก.ย.
A74: 1 | B74: ค่าใช้จ่ายในการส่งนักกีฬาเข้าร่วมการแข่งขัน | C74: เพื่อจ่ายเป็นค่าใช้จ่ายในการส่งนักกีฬาเข้าร่วมการแข่งขัน ที่ อปท.จัดเองหรือ อปท.อื่นเป็นผู้จัด ฯลฯ | D74: 20000 | E74: - | F74: สำนักงาน ปลัด อบต.
A75: 2 | B75: โครงการจัดการแข่งขันกีฬาและส่งเสริมการออกกำลังกาย | C75: เพื่อจ่ายเป็นค่าใช้จ่ายในการจัดการแข่งขันกีฬาและส่งเสริมการออกกำลังกาย ฯลฯ | D75: 250000 | E75: สนามกีฬากลาง หมู่ที่ 8 ต.วังหิน | F75: สำนักงาน ปลัด อบต.
A76: 3 | B76: โครงการส่งเสริมศักยภาพและความสามาถด้านดนตรีและกีฬา | C76: เพื่อจ่ายเป็นค่าใช้จ่ายในการจัดกิจกรรมส่งเสริมความสามารถด้านดนตรีและกีฬา | D76: 60000 | E76: ศูนย์ประชาสัมพันธ์ อุทยานบ่อน้ำร้อน | F76: สำนักงาน ปลัด อบต.
A77: รวม | D77: =D74+D75+D76 -> 330000
A78: รวม ( งานกีฬาและนันทนาการ ) | D78: =D77 -> 330000 | E78: =BAHTTEXT(D78) -> สามแสนสามหมื่นบาทถ้วน
A89: ภายใต้ยุทธศาสตร์ ที่ 3 ด้านการศึกษา ศาสนา ศิลปวัฒนธรรม
A90: แผนงาน การศาสนาวัฒนธรรมและนันทนาการ
A91: งาน ศาสนาวัฒนธรรมท้องถิ่น
A92: ที่ | B92: โครงการ / กิจกรรม | C92: รายละเอียดของโครงการ / กิจกรรม | D92: งบประมาณ ( บาท) | E92: สถานที่ ดำเนินการ | F92: หน่วย ดำเนินการ | G92: 2562 | J92: 2563
G93: ต.ค. | H93: พ.ย | I93: ธ.ค. | J93: ม.ค. | K93: ก.พ. | L93: มี.ค. | M93: เม.ย. | N93: พ.ค. | O93: มิ.ย. | P93: ก.ค. | Q93: ส.ค. | R93: ก.ย.
A94: 1 | B94: โครงการทำนุบำรุงศาสนา | C94: เพื่อจ่ายเป็นค่าใช้จ่ายตามโครงการทำนุบำรุงศาสนา ฯลฯ | D94: 50000 | F94: สำนักงาน ปลัด อบต.
A95: 2 | B95: โครงการวันเข้าพรรษา - วันออกพรรษา | C95: เพื่อจ่ายเป็นค่าใช้จ่ายตามโครงการเข้าพรรษา - ออกพรรษา ฯลฯ | D95: 30000 | F95: สำนักงาน ปลัด อบต.
A96: 3 | B96: โครงการส่งเสริมประเพณีลอยกระทง | C96: เพื่อจ่ายเป็นค่าใช้จ่ายตามโครงการส่งเสริมประเพณีลอยกระทง ฯลฯ | D96: 40000 | F96: สำนักงาน ปลัด อบต.
A97: 4 | B97: โครงการอบรมคุณธรรมจริยธรรมและศาสนพิธีแก่ประชาชน | C97: เพื่อจ่ายเป็นค่าใช้จ่ายตามโครงการอบรมคุณธรรมจริยธรรมและศาสนพิธีแก่ประชาชน ฯลฯ | D97: 20000 | F97: สำนักงาน ปลัด อบต.
A98: 5 | B98: โครงการอาบน้ำผู้สูงอายุ | C98: เพื่อจ่ายเป็นค่าใช้จ่ายตามโครงการอาบน้ำผู้สูงอายุ ฯลฯ | D98: 100000 | E98: อุทยาน บ่อน้ำร้อน | F98: สำนักงาน ปลัด อบต.
A99: 6 | B99: โครงการส่งเสริมสนับสนุนการอนุรักษ์ฟื้นฟูประเพณีชักพระ | C99: เพื่ออุดหนุนงบประมาณ ให้แก่สภาวัฒนธรรมอำเภอบางขัน ตามโครงการส่งเสริมสนับสนุนอนุรักษฺฟื้นฟูประเพณีชักพระอำเภอบางขัน ประจำปี พ.ศ. 2562 | D99: 40000 | F99: สำนักงาน ปลัด อบต.
A100: รวม | D100: =D94+D95+D96+D97+D98+D99 -> 280000
A107: ที่ | B107: โครงการ / กิจกรรม | C107: รายละเอียดของโครงการ / กิจกรรม | D107: งบประมาณ ( บาท) | E107: สถานที่ ดำเนินการ | F107: หน่วย ดำเนินการ | G107: 2562 | J107: 2563
G108: ต.ค. | H108: พ.ย | I108: ธ.ค. | J108: ม.ค. | K108: ก.พ. | L108: มี.ค. | M108: เม.ย. | N108: พ.ค. | O108: มิ.ย. | P108: ก.ค. | Q108: ส.ค. | R108: ก.ย.
A109: 7 | B109: โครงการอุดหนุนประเพณีบุญสารทเดือนสิบอำเภอบางขัน | C109: เพื่ออุดหนุนงบประมาณให้แก่ ที่ทำการอำเภอบางขัน ตามโครงการอุดหนุนประเพณีบุญสารทเดือนสิบอำเภอบางขัน | D109: 30000 | F109: สำนักงาน ปลัด อบต.
A110: 8 | B110: โครงการอุดหนุนประเพณีมาฆะบูชา แห่ผ้าพระบฎ อำเภอบางขัน | C110: เพื่ออุดหนุนงบประมาณ ให้แก่ที่ทำการอำเภอบางขัน ตามโครงการอุดหนุนประเพณีมาฆะบูชา แห่ผ้าพระบฎ อำเภอบางขัน | D110: 55000 | F110: สำนักงาน ปลัด อบต.
A111: รวม | D111: =D109+D110 -> 85000
A112: รวม ( งานศาสนาวัฒนธรรมท้องถิ่น ) | D112: =D111+D100 -> 365000
A113: รวม ( แผนงานการศาสนาวัฒนธรรมและนันทนาการ ) | D113: =D112+D78 -> 695000 | E113: =BAHTTEXT(D113) -> หกแสนเก้าหมื่นห้าพันบาทถ้วน

Sheet ผด2 ( ย.4) 
A1: บัญชีโครงการ / กิจกรรม / งบประมาณ
A2: แผนการดำเนินงาน ประจำปีงบประมาณ พ.ศ.2563
A3: องค์การบริหารส่วนตำบลวังหิน อำเภอบางขัน จังหวัดนครศรีธรรมราช
A4: ภายใต้ยุทธศาสตร์ ที่ 4 ด้านสิ่งแวดล้อมและการจัดการทรัพยากรธรรมชาติ
A5: แผนงาน การเกษตร
A6: งาน อนุรักษ์แหล่งน้ำและป่าไม้
A7: ที่ | B7: โครงการ / กิจกรรม | C7: รายละเอียดของโครงการ / กิจกรรม | D7: งบประมาณ ( บาท) | E7: สถานที่ ดำเนินการ | F7: หน่วย ดำเนินการ | G7: 2562 | J7: 2563
G8: ต.ค. | H8: พ.ย | I8: ธ.ค. | J8: ม.ค. | K8: ก.พ. | L8: มี.ค. | M8: เม.ย. | N8: พ.ค. | O8: มิ.ย. | P8: ก.ค. | Q8: ส.ค. | R8: ก.ย.
A9: 1 | B9: โครงการปลูกหญ้าแฝกเฉลิมพระเกียรติเพื่ออนุรักษ์ดินและน้ำ | C9: เพื่อจ่ายเป็นค่าใช้จ่ายตามโครงการปลูกหญ้าแฝกเฉลิมพระเกียรติเพื่อการอนุรักษ์ดินและน้ำ | D9: 20000 | E9: - | F9: สำนักงาน ปลัด อบต.
A10: 2 | B10: โครงการพัฒนาแหล่งเรียนรู้ ทางการเกษตรเชิงอนุรักษ์ | C10: เพื่อจ่ายเป็นค่าใช้จ่ายตามโครงการพัฒนาแหล่งเรียนรู้ทางการเกษตรเชิงอนุรักษ์ | D10: 20000 | E10: - | F10: สำนักงาน ปลัด อบต.
A11: รวม | D11: =D9+D10 -> 40000
A12: รวม ( งานอนุรักษ์แหล่งน้ำและป่าไม้ ) | D12: =D9+D10 -> 40000
A27: ภายใต้ยุทธศาสตร์ ที่ 4 ด้านสิ่งแวดล้อมและการจัดการทรัพยากรธรรมชาติ
A28: แผนงาน การเกษตร
A29: งาน ส่งเสริมการเกษตร
A30: ที่ | B30: โครงการ / กิจกรรม | C30: รายละเอียดของโครงการ / กิจกรรม | D30: งบประมาณ ( บาท) | E30: สถานที่ ดำเนินการ | F30: หน่วย ดำเนินการ | G30: 2562 | J30: 2563
G31: ต.ค. | H31: พ.ย | I31: ธ.ค. | J31: ม.ค. | K31: ก.พ. | L31: มี.ค. | M31: เม.ย. | N31: พ.ค. | O31: มิ.ย. | P31: ก.ค. | Q31: ส.ค. | R31: ก.ย.
A32: 1 | B32: โครงการปรับปรุงและสนับสนุนการดำเนินงานของศูนย์บริการถ่ายทอดเทคโนโลยีการเกษตร | C32: เพื่อจ่ายเป็นค่าใช้จ่ายตามโครงการปรับปรุงและสนับสนุนการดำเนินงานของศูนย์บริการถ่ายทอดเทคโนโลยีการเกษตร | D32: 10000 | F32: สำนักงาน ปลัด อบต.
A33: รวม | D33: =D32 -> 10000
A34: รวม ( ส่งเสริมการเกษตร ) | D34: =D33 -> 10000
A35: รวม ( แผนงานการเกษตร ) | D35: =D34+D12 -> 50000 | E35: =BAHTTEXT(D35) -> ห้าหมื่นบาทถ้วน
A50: ภายใต้ยุทธศาสตร์ ที่ 4 ด้านสิ่งแวดล้อมและการจัดการทรัพยากรธรรมชาติ
A51: แผนงาน สาธารณสุข
A52: งาน บริการสาธารณสุขและงานสาธารณสุขอื่น
A53: ที่ | B53: โครงการ / กิจกรรม | C53: รายละเอียดของโครงการ / กิจกรรม | D53: งบประมาณ ( บาท) | E53: สถานที่ ดำเนินการ | F53: หน่วย ดำเนินการ | G53: 2562 | J53: 2563
G54: ต.ค. | H54: พ.ย | I54: ธ.ค. | J54: ม.ค. | K54: ก.พ. | L54: มี.ค. | M54: เม.ย. | N54: พ.ค. | O54: มิ.ย. | P54: ก.ค. | Q54: ส.ค. | R54: ก.ย.
A55: 1 | B55: โครงการบริหารจัดการขยะในชุมชนของตำบลวังหิน | C55: เพื่อจ่ายเป็นค่าใช้จ่ายตามโครงการบริหารจัดการขยะในชุมชนของตำบล วังหิน | D55: 60000 | F55: สำนักงาน ปลัด อบต.
A56: รวม | D56: =D55 -> 60000
A57: รวม ( งานบริการสาธารณสุขและงานสาธารณสุขอื่น ) | D57: =D56 -> 60000
A58: รวม ( แผนงานสาธารณสุข ) | D58: =D57+D41 -> 60000 | E58: =BAHTTEXT(D58) -> หกหมื่นบาทถ้วน

Sheet ผด2 ( ย.5) 
A1: บัญชีโครงการ / กิจกรรม / งบประมาณ
A2: แผนการดำเนินงาน ประจำปีงบประมาณ พ.ศ.2563
A3: องค์การบริหารส่วนตำบลวังหิน อำเภอบางขัน จังหวัดนครศรีธรรมราช
A5: ภายใต้ยุทธศาสตร์ ที่ 5 ด้านพัฒนาคุณภาพชีวิตและสังคม
A6: แผนงาน การรักษาความสงบภายใน
A7: งาน ป้องกันภัยฝ่ายพลเรือนและระงับอัคคีภัย
A8: ที่ | B8: โครงการ / กิจกรรม | C8: รายละเอียดของโครงการ / กิจกรรม | D8: งบประมาณ ( บาท) | E8: สถานที่ ดำเนินการ | F8: หน่วย ดำเนินการ | G8: 2562 | J8: 2563
G9: ต.ค. | H9: พ.ย | I9: ธ.ค. | J9: ม.ค. | K9: ก.พ. | L9: มี.ค. | M9: เม.ย. | N9: พ.ค. | O9: มิ.ย. | P9: ก.ค. | Q9: ส.ค. | R9: ก.ย.
A10: 1 | B10: ค่าตอบแทนผู้ปฎิบัติราชการอันเป็นประโยชน์แก่องค์กรปกครองส่วนท้องถิ่น | C10: เพื่อจ่ายเป็นค่าตอบแทนผู้ปฎิบัติราชการอันเป็นประโยชน์แก่ อบต. ตามระเบียบกำหนด | D10: 45000 | E10: - | F10: สำนักงาน ปลัด อบต.
A11: 2 | B11: โครงการกิจกรรมถนนปลอดภัย | C11: เพื่อจ่ายเป็นค่าใช้จ่ายตามโครงการกิจกรรมถนนปลอดภัย | D11: 30000 | E11: สี่แยกสวนป่า | F11: สำนักงาน ปลัด อบต.
A12: 3 | B12: โครงการสนับสนุนการปฎิบัติการแพทย์ฉุกเฉินเบื้องต้น อบต.วังหิน | C12: เพื่อจ่ายเป็นค่าใช้จ่ายตามโครงการ สนับสนุนการปฎิบัติการแพทย์ฉุกเฉินเบื้องต้น อบต.วังหิน | D12: 20000 | F12: สำนักงาน ปลัด อบต.
A13: 4 | B13: โครงการฝึกอบรมให้ความรู้เตรียมความพร้อมในการป้องกันและบรรเทาสาธารณภัย | C13: เพื่อจ่ายเป็นค่าใช้จ่ายตามโครงการ ฝึกอบรมให้ความรู้เตรียมความพร้อมในการป้องกันและบรรเทาสาธารณภัย | D13: 50000 | F13: สำนักงาน ปลัด อบต.
A14: 5 | B14: ค่าวัสดุยานพาหนะ | C14: เพื่อจ่ายเป็นค่าจัดซื้อยานพาหนะและขนส่ง | D14: 5000 | F14: สำนักงานปลัด อบต.
A15: 6 | B15: ค่าวัสดุเครื่องแต่งกาย | C15: เพื่อจ่ายเป็นค่าวัสดุเครื่องแต่งกาย | D15: 30000 | F15: สำนักงานปลัด อบต.
A16: 7 | B16: ค่าวัสดุเครื่องดับเพลิง | C16: เพื่อจ่ายเป็นค่าจัดซื้อวัสดุเครื่องดับเพลิง | D16: 5000 | F16: สำนักงานปลัด อบต.
A17: รวม | D17: =D10+D11+D12+D13+D14+D15+D16 -> 185000
A21: ที่ | B21: โครงการ / กิจกรรม | C21: รายละเอียดของโครงการ / กิจกรรม | D21: งบประมาณ ( บาท) | E21: สถานที่ ดำเนินการ | F21: หน่วย ดำเนินการ | G21: 2562 | J21: 2563
G22: ต.ค. | H22: พ.ย | I22: ธ.ค. | J22: ม.ค. | K22: ก.พ. | L22: มี.ค. | M22: เม.ย. | N22: พ.ค. | O22: มิ.ย. | P22: ก.ค. | Q22: ส.ค. | R22: ก.ย.
A23: 8 | B23: จัดซื้อเลื่อยยนต์ | C23: เพื่อจ่ายเป็นค่าจัดซื้อเลื่อยยนต์ จำนวน 1 | D23: 30000 | F23: สำนักงาน ปลัด อบต.
A24: รวม | D24: =D23 -> 30000
A25: รวม ( แผนงานการรักษาความสงบภายใน ) | D25: =D24+D17 -> 215000 | E25: =BAHTTEXT(D25) -> สองแสนหนึ่งหมื่นห้าพันบาทถ้วน
A44: ภายใต้ยุทธศาสตร์ ที่ 5 ด้านพัฒนาคุณภาพชีวิตและสังคม
A45: แผนงาน สาธารณสุข
A46: งาน บริการสาธารณสุขและงานสาธารณสุขอื่น
A47: ที่ | B47: โครงการ / กิจกรรม | C47: รายละเอียดของโครงการ / กิจกรรม | D47: งบประมาณ ( บาท) | E47: สถานที่ ดำเนินการ | F47: หน่วย ดำเนินการ | G47: 2562 | J47: 2563
G48: ต.ค. | H48: พ.ย | I48: ธ.ค. | J48: ม.ค. | K48: ก.พ. | L48: มี.ค. | M48: เม.ย. | N48: พ.ค. | O48: มิ.ย. | P48: ก.ค. | Q48: ส.ค. | R48: ก.ย.
A49: 1 | B49: โครงการจัดการและบริการด้านสุขภาพเชิงรุกตลอดจนอบรมประชาสัมพันธ์รวมถึงการป้องกันยาเสพติด | C49: เพื่อจ่ายเป็นค่าใช้จ่ายตามโครงการ จัดการและบริการด้านสุขภาพเชิงรุกตลอดจนอบรมประชาสัมพันธ์รวมถึงการป้องกันยาเสพติด | D49: 50000 | E49: - | F49: สำนักงาน ปลัด อบต.
A50: 2 | B50: โครงการป้องกันและระงับโรคไข้เลือดออก | C50: เพื่อจ่ายเป็นค่าใช้จ่ายตามโครงการ ป้องกันและระงับโรคไข้เลือดออก | D50: 30000 | F50: สำนักงาน ปลัด อบต.
A51: 3 | B51: โครงการป้องกันและระงับโรคติดต่อ | C51: เพื่อจ่ายเป็นค่าใช้จ่ายตามโครงการ ป้องกันและระงับโรคติดต่อ | D51: 10000 | F51: สำนักงาน ปลัด อบต.
A52: 4 | B52: โครงการสัตว์ปลอดโรค คนปลอดภัย จากโรคพิษสุนัขบ้า | C52: เพื่อจ่ายเป็นค่าใช้จ่ายตามโครงการ สัตว์ปลอดโรค คนปลอดภัย จากโรคพิษสุนัขบ้า | D52: 120000 | F52: สำนักงาน ปลัด อบต.
A53: 5 | B53: วัสดุวิทยาศาสตร์หรือการแพทย์ | C53: เพื่อจ่ายเป็นค่าจัดซื้อวัสดุวิทยาศาสตร์หรือการแพทย์ | D53: 30000 | F53: สำนักงาน ปลัด อบต.
A54: 6 | B54: โครงการตามแนวพระราชดำริด้านสาธารณสุข หมู่ที่ 10 | C54: เพื่ออุดหนุนแก่คณะกรรมการหมู่บ้าน หมู่ที่ 10 สำหรับขับเคลื่อนโครงการตามแนวพระราชดำริด้านสาธารณสุข จำนวน 3 โครงการ | D54: 20000 | E54: หมู่ที่ 10 | F54: สำนักงาน ปลัด อบต.
A55: 7 | B55: โครงการตามแนวพระราชดำริด้านสาธารณสุข หมู่ที่ 11 | C55: เพื่ออุดหนุนแก่คณะกรรมการหมู่บ้าน หมู่ที่ 11 สำหรับขับเคลื่อนโครงการตามแนวพระราชดำริด้านสาธารณสุข จำนวน 3 โครงการ | D55: 20000 | E55: หมู่ที่ 11 | F55: สำนักงาน ปลัด อบต.
A56: รวม | D56: =D49+D50+D51+D52+D53+D54+D55 -> 280000
A59: ที่ | B59: โครงการ / กิจกรรม | C59: รายละเอียดของโครงการ / กิจกรรม | D59: งบประมาณ ( บาท) | E59: สถานที่ ดำเนินการ | F59: หน่วย ดำเนินการ | G59: 2562 | J59: 2563
G60: ต.ค. | H60: พ.ย | I60: ธ.ค. | J60: ม.ค. | K60: ก.พ. | L60: มี.ค. | M60: เม.ย. | N60: พ.ค. | O60: มิ.ย. | P60: ก.ค. | Q60: ส.ค. | R60: ก.ย.
A61: 8 | B61: โครงการตามแนวพระราชดำริด้านสาธารณสุข หมู่ที่ 12 | C61: เพื่ออุดหนุนแก่คณะกรรมการหมู่บ้าน หมู่ที่ 12 สำหรับขับเคลื่อนโครงการตามแนวพระราชดำริด้านสาธารณสุข จำนวน 3 โครงการ | D61: 20000 | E61: หมู่ที่ 12 | F61: สำนักงาน ปลัด อบต.
A62: 9 | B62: โครงการตามแนวพระราชดำริด้านสาธารณสุข หมู่ที่ 13 | C62: เพื่ออุดหนุนแก่คณะกรรมการหมู่บ้าน หมู่ที่ 13 สำหรับขับเคลื่อนโครงการตามแนวพระราชดำริด้านสาธารณสุข จำนวน 3 โครงการ | D62: 20000 | E62: หมู่ที่ 13 | F62: สำนักงาน ปลัด อบต.
A63: 10 | B63: โครงการตามแนวพระราชดำริด้านสาธารณสุข หมู่ที่ 3 | C63: เพื่ออุดหนุนแก่คณะกรรมการหมู่บ้าน หมู่ที่ 13 สำหรับขับเคลื่อนโครงการตามแนวพระราชดำริด้านสาธารณสุข จำนวน 3 โครงการ | D63: 20000 | E63: หมู่ที่ 3 | F63: สำนักงาน ปลัด อบต.
A64: 11 | B64: โครงการตามแนวพระราชดำริด้านสาธารณสุข หมู่ที่ 4 | C64: เพื่ออุดหนุนแก่คณะกรรมการหมู่บ้าน หมู่ที่ 4 สำหรับขับเคลื่อนโครงการตามแนวพระราชดำริด้านสาธารณสุข จำนวน 3 โครงการ | D64: 20000 | E64: หมู่ที่ 4 | F64: สำนักงาน ปลัด อบต.
A65: 12 | B65: โครงการตามแนวพระราชดำริด้านสาธารณสุข หมู่ที่ 5 | C65: เพื่ออุดหนุนแก่คณะกรรมการหมู่บ้าน หมู่ที่ 5 สำหรับขับเคลื่อนโครงการตามแนวพระราชดำริด้านสาธารณสุข จำนวน 3 โครงการ | D65: 20000 | E65: หมู่ที่ 5 | F65: สำนักงาน ปลัด อบต.
A66: รวม | D66: =D61+D62+D63+D64+D65 -> 100000
A70: ที่ | B70: โครงการ / กิจกรรม | C70: รายละเอียดของโครงการ / กิจกรรม | D70: งบประมาณ ( บาท) | E70: สถานที่ ดำเนินการ | F70: หน่วย ดำเนินการ | G70: 2562 | J70: 2563
G71: ต.ค. | H71: พ.ย | I71: ธ.ค. | J71: ม.ค. | K71: ก.พ. | L71: มี.ค. | M71: เม.ย. | N71: พ.ค. | O71: มิ.ย. | P71: ก.ค. | Q71: ส.ค. | R71: ก.ย.
A72: 13 | B72: โครงการตามแนวพระราชดำริด้านสาธารณสุข หมู่ที่ 6 | C72: เพื่ออุดหนุนแก่คณะกรรมการหมู่บ้าน หมู่ที่ 6 สำหรับขับเคลื่อนโครงการตามแนวพระราชดำริด้านสาธารณสุข จำนวน 3 โครงการ | D72: 20000 | E72: หมู่ที่ 6 | F72: สำนักงาน ปลัด อบต.
A73: 14 | B73: โครงการตามแนวพระราชดำริด้านสาธารณสุข หมู่ที่ 7 | C73: เพื่ออุดหนุนแก่คณะกรรมการหมู่บ้าน หมู่ที่ 7 สำหรับขับเคลื่อนโครงการตามแนวพระราชดำริด้านสาธารณสุข จำนวน 3 โครงการ | D73: 20000 | E73: หมู่ที่ 7 | F73: สำนักงาน ปลัด อบต.
A74: 15 | B74: โครงการตามแนวพระราชดำริด้านสาธารณสุข หมู่ที่ 8 | C74: เพื่ออุดหนุนแก่คณะกรรมการหมู่บ้าน หมู่ที่ 8 สำหรับขับเคลื่อนโครงการตามแนวพระราชดำริด้านสาธารณสุข จำนวน 3 โครงการ | D74: 20000 | E74: หมู่ที่ 8 | F74: สำนักงาน ปลัด อบต.
A75: 16 | B75: โครงการตามแนวพระราชดำริด้านสาธารณสุข หมู่ที่ 9 | C75: เพื่ออุดหนุนแก่คณะกรรมการหมู่บ้าน หมู่ที่ 9 สำหรับขับเคลื่อนโครงการตามแนวพระราชดำริด้านสาธารณสุข จำนวน 3 โครงการ | D75: 20000 | E75: หมู่ที่ 9 | F75: สำนักงาน ปลัด อบต.
A76: 17 | B76: โครงการตามแนวพระราชดำริด้านสาธารณสุข หมู่ที่ 1 | C76: เพื่ออุดหนุนแก่คณะกรรมการหมู่บ้าน หมู่ที่ 1 สำหรับขับเคลื่อนโครงการตามแนวพระราชดำริด้านสาธารณสุข จำนวน 3 โครงการ | D76: 20000 | E76: หมู่ที่ 1 | F76: สำนักงาน ปลัด อบต.
A77: รวม | D77: =D72+D73+D74+D75+D76 -> 100000
A81: ที่ | B81: โครงการ / กิจกรรม | C81: รายละเอียดของโครงการ / กิจกรรม | D81: งบประมาณ ( บาท) | E81: สถานที่ ดำเนินการ | F81: หน่วย ดำเนินการ | G81: 2562 | J81: 2563
G82: ต.ค. | H82: พ.ย | I82: ธ.ค. | J82: ม.ค. | K82: ก.พ. | L82: มี.ค. | M82: เม.ย. | N82: พ.ค. | O82: มิ.ย. | P82: ก.ค. | Q82: ส.ค. | R82: ก.ย.
A83: 18 | B83: โครงการตามแนวพระราชดำริด้านสาธารณสุข หมู่ที่ 2 | C83: เพื่ออุดหนุนแก่คณะกรรมการหมู่บ้าน หมู่ที่ 2 สำหรับขับเคลื่อนโครงการตามแนวพระราชดำริด้านสาธารณสุข จำนวน 3 โครงการ | D83: 20000 | E83: หมู่ที่ 2 | F83: สำนักงาน ปลัด อบต.
A84: รวม | D84: =D83 -> 20000
A85: รวม ( งานบริการสาธารณสุขและงานสาธารณสุขอื่น) | D85: =D84+D77+D66+D56 -> 500000
A86: รวม ( แผนงานสาธารณสุข ) | D86: =D85 -> 500000 | E86: =BAHTTEXT(D86) -> ห้าแสนบาทถ้วน
A101: ภายใต้ยุทธศาสตร์ ที่ 5 ด้านพัฒนาคุณภาพชีวิตและสังคม
A102: แผนงาน สังคมสงเคราะห์
A103: งาน สวัสดิการสังคมสงเคราะห์
A104: ที่ | B104: โครงการ / กิจกรรม | C104: รายละเอียดของโครงการ / กิจกรรม | D104: งบประมาณ ( บาท) | E104: สถานที่ ดำเนินการ | F104: หน่วย ดำเนินการ | G104: 2562 | J104: 2563
G105: ต.ค. | H105: พ.ย | I105: ธ.ค. | J105: ม.ค. | K105: ก.พ. | L105: มี.ค. | M105: เม.ย. | N105: พ.ค. | O105: มิ.ย. | P105: ก.ค. | Q105: ส.ค. | R105: ก.ย.
A106: 1 | B106: โครงการปรับปรุงที่อยู่อาศัยให้แก่ผู้ยากไร้และผู้ด้อยโอกาสทางสังคม | C106: เพื่อจ่ายเป็นค่าใช้จ่ายตามโครงการปรับปรุงที่อยู่อาศัยให้แก่ผู้ยากไร้และผู้ด้อยโอกาสทางสังคม | D106: 20000 | F106: สำนักงาน ปลัด อบต.
A107: 2 | B107: โครงการสนับสนุนศูนย์พัฒนาครอบครัว | C107: เพื่อจ่ายเป็นค่าใช้จ่ายตามโครงการสนับสนุนศูนย์พัฒนาครอบครัว | D107: 20000 | F107: สำนักงาน ปลัด อบต.
A108: รวม | D108: =D106+D107 -> 40000
A109: รวม ( งานสวัสดิการสังคมสงเคราะห์) | D109: =D106+D107 -> 40000
A110: รวม ( แผนงานสังคมสงเคราะห์) | D110: =D109 -> 40000 | E110: =BAHTTEXT(D110) -> สี่หมื่นบาทถ้วน
A124: ภายใต้ยุทธศาสตร์ ที่ 5 ด้านพัฒนาคุณภาพชีวิตและสังคม
A125: แผนงาน สร้างความเข้มแข็งของชุมชน
A126: งาน ส่งเสริมและสนับสนุนความเข้มแข็งชุมชน
A127: ที่ | B127: โครงการ / กิจกรรม | C127: รายละเอียดของโครงการ / กิจกรรม | D127: งบประมาณ ( บาท) | E127: สถานที่ ดำเนินการ | F127: หน่วย ดำเนินการ | G127: 2562 | J127: 2563
G128: ต.ค. | H128: พ.ย | I128: ธ.ค. | J128: ม.ค. | K128: ก.พ. | L128: มี.ค. | M128: เม.ย. | N128: พ.ค. | O128: มิ.ย. | P128: ก.ค. | Q128: ส.ค. | R128: ก.ย.
A129: 1 | B129: โครงการฝึกอบรม/ สัมมนา/ ศึกษาดูงาน | C129: เพื่อจ่ายเป็นค่าใช้จ่ายตามโครงการฝึกอบรม /สัมมนา / ศึกษาดูงาน | D129: 400000 | F129: สำนักงาน ปลัด อบต.
A130: 2 | B130: โครงการเศรษฐพอเพียง แลกเปลี่ยนเรียนรู้ภูมิปัญญาท้องถิ่น | C130: เพื่อจ่ายเป็นค่าใช้จ่ายตามโครงการเศรษฐกิจพอเพียง แลกเปลี่ยนเรียนรู้ภูมิปัญญาท้องถิ่น | D130: 20000 | F130: สำนักงาน ปลัด อบต.
A131: 3 | B131: โครงการส่งเสริมการผลิตสินค้าพื้นบ้าน หนึ่งหมู่บ้านหนึ่งผลิตภัณฑ์ | C131: เพื่อจ่ายเป็นค่าใช้จ่ายตามโครงการส่งเสริมการผลิตสินค้าพื้นบ้าน หนึ่งหมูบ้านหนึ่งผลิตภัณฑ์ | D131: 30000 | F131: สำนักงาน ปลัด อบต.
A132: 4 | B132: โครงการส่งเสริมอาชีพ / สวัสดิการ/ ส่งเสริมกลุ่มสตรี / กลุ่มประเพณีวัฒนธรรม/ กลุ่มอาชีพ/ กลุ่มเกษตรกร | C132: เพื่อจ่ายเป็นค่าใช้จ่ายตามโครงการ ส่งเสริมอาชีพ / สวัสดิการ/ ส่งเสริมกลุ่มสตรี / กลุ่มประเพณีวัฒนธรรม/ กลุ่มอาชีพ/ กลุ่มเกษตรกร | D132: 30000 | F132: สำนักงาน ปลัด อบต.
A133: รวม | D133: =D129+D130+D131+D132 -> 480000
A134: รวม ( งานส่งเสริมและสนับสนุนความเข้มแข็งชุมชน) | D134: =D133 -> 480000
A135: รวม ( แผนงานสร้างความเข้มแข็งของชุมชน) | D135: =D134 -> 480000 | E135: =BAHTTEXT(D135) -> สี่แสนแปดหมื่นบาทถ้วน
A142: ภายใต้ยุทธศาสตร์ ที่ 5 ด้านพัฒนาคุณภาพชีวิตและสังคม
A143: แผนงาน งบกลาง
A144: งาน งบกลาง
A145: ที่ | B145: โครงการ / กิจกรรม | C145: รายละเอียดของโครงการ / กิจกรรม | D145: งบประมาณ ( บาท) | E145: สถานที่ ดำเนินการ | F145: หน่วย ดำเนินการ | G145: 2562 | J145: 2563
G146: ต.ค. | H146: พ.ย | I146: ธ.ค. | J146: ม.ค. | K146: ก.พ. | L146: มี.ค. | M146: เม.ย. | N146: พ.ค. | O146: มิ.ย. | P146: ก.ค. | Q146: ส.ค. | R146: ก.ย.
A147: 1 | B147: เบี้ยยังชีพผู้สูงอายุ | C147: เพื่อจ่ายเป็นเงินค่าเบี้ยยังชีพผู้สูงอายุในพื้นที่ อบต.วังหิน | D147: 8566600 | F147: สำนักงาน ปลัด อบต.
A148: 2 | B148: เบี้ยยังชีพคนพิการ | C148: เพื่อจ่ายเป็นเงินค่าเบี้ยยังชีพคนพิการในเขตพื้นที่ อบต.วังหิน | D148: 2169600 | F148: สำนักงาน ปลัด อบต.
A149: 3 | B149: เบี้ยยังชีพผู้ป่วยเอดส์ | C149: เพื่อจ่ายเป็นเงินสค่าเบี้ยยังชีพผู้สูงป่วยเอดส์ในเขตพื้นที่ อบต.วังหิน | D149: 150000 | F149: สำนักงาน ปลัด อบต.
A150: 4 | B150: สมทบกองทุนหลักประกันสุขภาพ ( สปสช. ) | C150: เพื่อจ่ายเป็นเงินสมทบกองทุนหลักประกันสุขภาพ อบต.วังหิน | D150: 170000 | F150: สำนักงาน ปลัด อบต.
A151: รวม | D151: =D147+D148+D149+D150 -> 11056200
A152: รวม ( งานงบกลาง) | D152: =D151 -> 11056200
A153: รวม (แผนงานงบกลาง) | D153: =D152 -> 11056200 | E153: =BAHTTEXT(D153) -> สิบเอ็ดล้านห้าหมื่นหกพันสองร้อยบาทถ้วน

Sheet ผด2 ( ย.6) 
A1: บัญชีโครงการ / กิจกรรม / งบประมาณ
A2: แผนการดำเนินงาน ประจำปีงบประมาณ พ.ศ.2563
A3: องค์การบริหารส่วนตำบลวังหิน อำเภอบางขัน จังหวัดนครศรีธรรมราช
A4: ภายใต้ยุทธศาสตร์ ที่ 6 ด้านการเมืองการปกครองการบริหารจัดการองค์กรภายใต้ระบบธรรมาภิบาล
A5: แผนงาน บริหารงานทั่วไป
A6: งาน บริหารทั่วไป
A7: ที่ | B7: โครงการ / กิจกรรม | C7: รายละเอียดของโครงการ / กิจกรรม | D7: งบประมาณ ( บาท) | E7: สถานที่ ดำเนินการ | F7: หน่วย ดำเนินการ | G7: 2562 | J7: 2563
G8: ต.ค. | H8: พ.ย | I8: ธ.ค. | J8: ม.ค. | K8: ก.พ. | L8: มี.ค. | M8: เม.ย. | N8: พ.ค. | O8: มิ.ย. | P8: ก.ค. | Q8: ส.ค. | R8: ก.ย.
A9: 1 | B9: เงินเดือนนายก / รองนายก | C9: เพื่อจ่ายเป็นค่าตอบแทนรายเดือนนายก อบต. และ รองนายก อบต. | D9: 514080 | E9: - | F9: สำนักงาน ปลัด อบต.
A10: 2 | B10: เงินค่าตอบแทนประจำตำแหน่งนายก / รองนายก | C10: เพื่อจ่ายเป็นค่าตอบแทนประจำตำแหน่ง นายก / รองนายก | D10: 42120 | E10: - | F10: สำนักงาน ปลัด อบต.
A11: 3 | B11: เงินค่าตอบแทนพิเศษนายก / รองนายก | C11: เพื่อจ่ายเป็นค่าตอบแทนพิเศษนายก / รองนายก | D11: 42120 | E11: - | F11: สำนักงาน ปลัด อบต.
A12: 4 | B12: เงินค่าตอบแทนเลขานุการ / ที่ปรึกษานายกเทศมนตรี นายกองค์การบริหารส่วนตำบล | C12: เพื่อจ่ายเป็นค่าตอบแทนรายเดือนให้แก่ เลขานุการนายก อบต. | D12: 86400 | E12: - | F12: สำนักงาน ปลัด อบต.
A13: 5 | B13: เงินค่าตอบแทนสมาชิกสภาองค์กรปกครองส่วนท้องถิ่น | C13: เพื่อจ่ายเป็นค่าตอบแทนรายเดือน ให้แก่ ประธานสภา รองประธานสภา สมาชิกสภา และเลขานุการสภา อบต. | D13: 1627200 | F13: สำนักงาน ปลัด อบต.
A14: 6 | B14: เงินเดือนพนักงาน | C14: เพื่อจ่ายเป็นค่าเงินเดือนและเงินปรับปรุงเงินเดือนให้แก่พนักงานส่วนตำบล สังกัดสำนักงานปลัด อบต. | D14: 3510660 | E14: - | F14: สำนักงาน ปลัด อบต.
A15: รวม | D15: =D9+D10+D11+D12+D13+D14 -> 5822580
A19: ที่ | B19: โครงการ / กิจกรรม | C19: รายละเอียดของโครงการ / กิจกรรม | D19: งบประมาณ ( บาท) | E19: สถานที่ ดำเนินการ | F19: หน่วย ดำเนินการ | G19: 2562 | J19: 2563
G20: ต.ค. | H20: พ.ย | I20: ธ.ค. | J20: ม.ค. | K20: ก.พ. | L20: มี.ค. | M20: เม.ย. | N20: พ.ค. | O20: มิ.ย. | P20: ก.ค. | Q20: ส.ค. | R20: ก.ย.
A21: 7 | B21: เงินเพิ่มต่างๆ ของพนักงาน | C21: เพื่อจ่ายเป็นเงินเพิ่มต่างๆ ให้แก่พนักงานส่วนตำบลที่มีสิทธิ์ได้รับเงินเพิ่ม | D21: 108000 | E21: - | F21: สำนักงาน ปลัด อบต.
A22: 8 | B22: เงินประจำตำแหน่ง | C22: เพื่อจ่ายเป็นเงินประจำตำแหน่ง ให้แก่ ปลัด อบต. รองปลัด อบต. และหัวหน้าสำนักปลัด อบต. | D22: 168000 | E22: - | F22: สำนักงาน ปลัด อบต.
A23: 9 | B23: ค่าจ้างลูกจ้างประจำ | C23: เพื่อจ่ายเป็นเงินค่าจ้างลูกจ้างประจำ สังกัดสำนักงานงานปลัด อบต. | D23: 275640 | E23: - | F23: สำนักงาน ปลัด อบต.
A24: 10 | B24: ค่าตอบแทนพนักงานจ้าง | C24: เพื่อจ่ายเป็นค่าตอบแทนพนักงานจ้างตามภารกิจ | D24: 1614600 | E24: - | F24: สำนักงาน ปลัด อบต.
A25: 11 | B25: เงินเพิ่มต่างๆ ของพนักงานจ้าง | C25: เพื่อจ่ายเป็นเงินเพิ่มค่าครองชีพและเงินเพิ่มต่างๆ ของพนักงานจ้าง | D25: 68280 | E25: - | F25: สำนักงาน ปลัด อบต.
A26: 12 | B26: ค่าตอบแทนผู้ปฎิบัติการอันเป็นประโยชน์แก่องค์กรปกครองส่วนท้องถิ่น | C26: เพื่อจ่ายเป็นค่าตอบแทนผู้ปฎิบัติการอันเป็นประโยชน์แก่องค์กรปกครองส่วนท้องถิ่น | D26: 460000 | E26: - | F26: สำนักงาน ปลัด อบต.
A27: 13 | B27: ค่าตอบแทนการปฎิบัติงานนอกเวลาราชการ | C27: เพื่อจ่ายเป็นค่าตอบการปฎิบัติงานนอกเวลาราชการ | D27: 20000 | E27: - | F27: สำนักงาน ปลัด อบต.
A28: 14 | B28: ค่าเช่าบ้าน | C28: เพื่อจ่ายเป็นค่าเช่าบ้าน ค่าเช่าซื้อบ้าน ค่ากู้ยืมเงินเพื่อชำระค่าบ้าน ให้แก่ พนักงานส่วนตำบล | D28: 200000 | E28: - | F28: สำนักงาน ปลัด อบต.
A29: 15 | B29: เงินช่วยเหลือการศึกษาบุตร | C29: เพื่อจ่ายเป็นเงินช่วยเหลือการศึกษาของบุตรพนักงานส่วนตำบล ลูกจ้างประจำ คณะผู้บริหาร ฯลฯ | D29: 100000 | E29: - | F29: สำนักงาน ปลัด อบต.
A30: รวม | D30: =D21+D22+D23+D24+D25+D26+D27+D28+D29 -> 3014520
A33: ที่ | B33: โครงการ / กิจกรรม | C33: รายละเอียดของโครงการ / กิจกรรม | D33: งบประมาณ ( บาท) | E33: สถานที่ ดำเนินการ | F33: หน่วย ดำเนินการ | G33: 2562 | J33: 2563
G34: ต.ค. | H34: พ.ย | I34: ธ.ค. | J34: ม.ค. | K34: ก.พ. | L34: มี.ค. | M34: เม.ย. | N34: พ.ค. | O34: มิ.ย. | P34: ก.ค. | Q34: ส.ค. | R34: ก.ย.
A35: 16 | B35: รายจ่ายเพื่อให้ได้มาซึ่งบริการ | C35: เพื่อจ่ายเป็นค่าเช่าบ้าน ค่าเช่าซื้อบ้าน ค่ากู้ยืมเงินเพื่อชำระค่าบ้าน ให้แก่ พนักงานส่วนตำบล | D35: 350000 | F35: สำนักงาน ปลัด อบต.
A36: 17 | B36: รายจ่ายเกี่ยวกับการรับรองและพิธีการ | C36: เพื่อจ่ายเป็นรายจ่ายเกี่ยวกับการรับรองและพิธีการ | D36: 50000 | F36: สำนักงาน ปลัด อบต.
A37: 18 | B37: ค่าใช้จ่ายในการเดินทางไปราชการในและนอกราชอาณาจักร | C37: เพื่อจ่ายเป็นค่าใช้จ่ายในการเดินทางไปราชการในและนอกราชอาณาจักร | D37: 200000 | F37: สำนักงาน ปลัด อบต.
A38: 19 | B38: ค่าใช้จ่ายในการเลือกตั้งสมาชิกสภาองค์การบริหารส่วนตำบล และ นายกองค์การบริหารส่วนตำบล | C38: เพื่อจ่ายเป็นค่าใช้จ่ายในการเลือกตั้งสมาชิกสภาองค์การบริหารส่วนตำบล และ นายกองค์การบริหารส่วนตำบล | D38: 800000 | F38: สำนักงาน ปลัด อบต.
A39: 20 | B39: โครงการอบรมสัมมนา / ศึกษาดูงาน เพื่อพัฒนาความรู้ให้แก่ คณะผู้บริหาร ส.อบต. พนักงานส่วนตำบล , ลูกจ้างประจำ และพนักงานจ้าง | C39: เพื่อจ่ายเป็นค่าใช้จ่ายตามโครงการอบรมสัมมนา / ศึกษาดูงาน เพื่อพัฒนาความรู้ให้แก่ คณะผู้บริหาร ส.อบต. พนักงานส่วนตำบล , ลูกจ้างประจำ และพนักงานจ้าง | D39: 150000 | F39: สำนักงาน ปลัด อบต.
A40: 21 | B40: ค่าบำรุงรักษาและซ่อมแซม | C40: เพื่อจ่ายเป็นค่าใช้จ่ายในการซ่อมแซม | D40: 100000 | F40: สำนักงาน ปลัด อบต.
A41: 22 | B41: วัสดุสำนักงาน | C41: เพื่อจ่ายเป็นค่าจัดซื้อวัสดุสำนักงาน | D41: 40000 | F41: สำนักงาน ปลัด อบต.
A42: 23 | B42: วัสดุไฟฟ้าและวิทยุ | C42: เพื่อจ่ายเป็นค่าจัดซื้อวัสดุไฟฟ้าและวิทยุ | D42: 10000 | F42: สำนักงาน ปลัด อบต.
A43: 24 | B43: วัสดุงานบ้านงานครัว | C43: เพื่อจ่ายเป็นค่าจัดซื้อวัสดุงานบ้าน งานครัว | D43: 30000 | F43: สำนักงาน ปลัด อบต.
A44: รวม | D44: =D35+D36+D37+D38+D39+D40+D41+D42+D43 -> 1730000
A49: ที่ | B49: โครงการ / กิจกรรม | C49: รายละเอียดของโครงการ / กิจกรรม | D49: งบประมาณ ( บาท) | E49: สถานที่ ดำเนินการ | F49: หน่วย ดำเนินการ | G49: 2562 | J49: 2563
G50: ต.ค. | H50: พ.ย | I50: ธ.ค. | J50: ม.ค. | K50: ก.พ. | L50: มี.ค. | M50: เม.ย. | N50: พ.ค. | O50: มิ.ย. | P50: ก.ค. | Q50: ส.ค. | R50: ก.ย.
A51: 25 | B51: วัสดุยานพาหนะและขนส่ง | C51: เพื่อจ่ายเป็นค่าวัสดุยานหาหนะและขนส่ง | D51: 30000 | F51: สำนักงาน ปลัด อบต.
A52: 26 | B52: วัสดเชื้อเพลิงและหล่อลื่น | C52: เพื่อจ่ายเป็นค่าจัดซื้อวัสดุเชื้อเพลิงและหล่อลื่น | D52: 150000 | F52: สำนักงาน ปลัด อบต.
A53: 27 | B53: วัสดุการเกษตร | C53: เพื่อจ่ายเป็นค่าจัดซื้อวัสดุการเกษตร | D53: 10000 | F53: สำนักงาน ปลัด อบต.
A54: 28 | B54: วัสดุโฆษณาและเผยแพร่ | C54: เพื่อจ่ายเป็นค่าวัสดุโฆษณาและเผยแพร่ | D54: 10000 | F54: สำนักงาน ปลัด อบต.
A55: 29 | B55: วัสดุคอมพิวเตอร์ | C55: เพื่อจ่ายเป็นค่าจัดซื้อวัสดุคอมพิวเตอรฺ | D55: 30000 | F55: สำนักงาน ปลัด อบต.
A56: 30 | B56: วัสดุอื่น | C56: เพื่อจ่ายเป็นค่าจัดซื้อวัสดุอื่น | D56: 10000 | F56: สำนักงาน ปลัด อบต.
A57: 31 | B57: ค่าไฟฟ้า | C57: เพื่อจ่ายเป็นค่าไฟฟ้าสำหรับที่ทำการ อบต.วังหิน | D57: 200000 | F57: สำนักงาน ปลัด อบต.
A58: 32 | B58: ค่าบริการโทรศัพท์ | C58: เพื่อจ่ายเป็นค่าโทรศัพท์ - โทรสาร ที่ใช้ในการติดต่อราชการ ของ อบต.วังหิน | D58: 30000 | F58: สำนักงาน ปลัด อบต.
A59: 33 | B59: ค่าไปรษณีย์ | C59: เพื่อจ่ายเป็นค่าไปรษณีย์ ค่าธนานัติ | D59: 20000 | F59: สำนักงาน ปลัด อบต.
A60: 34 | B60: ค่าบริการสื่อสารและโทรคมนาคม | C60: เพื่อจ่ายเป็นค่าบริการสื่อสารและโทรคมนาคม | D60: 50000 | F60: สำนักงาน ปลัด อบต.
A61: 35 | B61: จัดซื้อเครื่องฉีดน้ำแรงดันสูง | C61: เพื่อจ่ายเป็นค่าจัดซื้อเครื่องฉีดน้ำแรงดันสูง จำนวน 1 เครื่อง | D61: 25000 | F61: สำนักงาน ปลัด อบต.
A62: 36 | B62: จัดซื้อเครื่องคอมพิวเตอร์โน้ตบุ๊ก | C62: เพื่อจ่ายเป็นค่าจัดซื้อเครื่องคอมพิวเตอร์โน๊ตบุ๊ก จำนวน 2 เครื่อง | D62: 38000 | F62: สำนักงาน ปลัด อบต.
A63: 37 | B63: ค่าใช้จ่ายในการดำเนินการจัดจ้างที่ปรึกษาสำรวจความพึงพอใจในการให้บริการของ อบต.วังหิน | C63: เพื่อจ่ายเป็นค่าจ้างองค์กรหรือสถาบันการศึกษาเพื่อประเมินความพึงพอใจของประชาชนที่มีต่อคุณภาพการบริการของ อบต.วังหิน | D63: 30000 | F63: สำนักงาน ปลัด อบต.
A64: รวม | D64: =D51+D52+D53+D54+D55+D56+D57+D58+D59+D60+D61+D62+D63 -> 633000
A65: รวม ( งานบริหารทั่วไป ) | D65: =D64+D44+D30+D15 -> 11200100 | E65: =BAHTTEXT(D65) -> สิบเอ็ดล้านสองแสนหนึ่งร้อยบาทถ้วน
A66: ภายใต้ยุทธศาสตร์ ที่ 6 ด้านการเมืองการปกครองการบริหารจัดการองค์กรภายใต้ระบบธรรมาภิบาล
A67: แผนงาน บริหารงานทั่วไป
A68: งาน บริหารงานคลัง
A69: ที่ | B69: โครงการ / กิจกรรม | C69: รายละเอียดของโครงการ / กิจกรรม | D69: งบประมาณ ( บาท) | E69: สถานที่ ดำเนินการ | F69: หน่วย ดำเนินการ | G69: 2562 | J69: 2563
G70: ต.ค. | H70: พ.ย | I70: ธ.ค. | J70: ม.ค. | K70: ก.พ. | L70: มี.ค. | M70: เม.ย. | N70: พ.ค. | O70: มิ.ย. | P70: ก.ค. | Q70: ส.ค. | R70: ก.ย.
A71: 1 | B71: เงินเดือนพนักงาน | C71: เพื่อจ่ายเป็นเงินเดือนและเงินปรับปรุงเงินเดือนให้แก่พนักงานส่วนตำบล สังกัด กองคลัง | D71: 1608420 | E71: - | F71: กองคลัง อบต.วังหิน
A72: 2 | B72: เงินเพิ่มต่างๆ ของพนักงาน | C72: เพื่อจ่ายเป็นเงินเพิ่มต่างๆ ของพนักงานส่วนตำบล | D72: 6780 | E72: - | F72: กองคลัง อบต.วังหิน
A73: 3 | B73: เงินประจำตำแหน่ง | C73: เพื่อจ่ายเป็นเงินประจำตำแหน่งให้แก่ ผู้อำนวยการกองคลัง | D73: 42000 | E73: - | F73: กองคลัง อบต.วังหิน
A74: 4 | B74: ค่าตอบแทนพนักงานจ้าง | C74: เพื่อจ่ายเป็นค่าตอบแทนพนักงานจ้าง | D74: 127080 | E74: - | F74: กองคลัง อบต.วังหิน
A75: 5 | B75: เงินเพิ่มต่างๆ ของพนักงานจ้าง | C75: เพื่อจ่ายเป็นเงินเพิ่มต่างๆ ของพนักงานจ้าง | D75: 24000 | E75: - | F75: กองคลัง อบต.วังหิน
A76: 6 | B76: ค่าตอบแทนผู้ปฎิบัติราชการอันเป็นประโยชน์แก่องค์กรปกครองส่วนท้องถิ่น | C76: เพื่อจ่ายเป็นค่าตอบแทนผู้ปฎิบัติราชการอันเป็นประโยชน์แก่องค์กรปกครองส่วนท้องถิ่น | D76: 350000 | E76: - | F76: กองคลัง อบต.วังหิน
A77: 7 | B77: ค่าตอบแทนการปฎิบัติงานนอกเวลาราชการ | C77: เพื่อจ่ายเป็นค่าตอบแทนการปฎิบัติงานนอกเวลาราชการ | D77: 6100 | E77: - | F77: กองคลัง อบต.วังหิน
A78: 8 | B78: ค่าเช่าบ้าน | C78: เพื่อจ่ายเป็นค่าเช่าบ้าน ค่าเช่าซื้อบ้าน ค่ากู้ยืมเงินเพื่อชำระราคาบ้าน | D78: 138000 | E78: - | F78: กองคลัง อบต.วังหิน
A79: 9 | B79: เงินช่วยเหลือการศึกษาบุตร | C79: เพื่อจ่ายเป็นเงินช่วยเหลือการศึกษาบุตร | D79: 60000 | E79: - | F79: กองคลัง อบต.วังหิน
A80: รวม | D80: =D71+D72+D73+D74+D75+D76+D77+D78+D79 -> 2362380
A86: ที่ | B86: โครงการ / กิจกรรม | C86: รายละเอียดของโครงการ / กิจกรรม | D86: งบประมาณ ( บาท) | E86: สถานที่ ดำเนินการ | F86: หน่วย ดำเนินการ | G86: 2562 | J86: 2563
G87: ต.ค. | H87: พ.ย | I87: ธ.ค. | J87: ม.ค. | K87: ก.พ. | L87: มี.ค. | M87: เม.ย. | N87: พ.ค. | O87: มิ.ย. | P87: ก.ค. | Q87: ส.ค. | R87: ก.ย.
A88: 10 | B88: รายจ่ายเพื่อให้ได้มาซึ่งบริการ | C88: เพื่อจ่ายเป็นรายจ่ายให้ได้มาซึ่งบริการ | D88: 10000 | F88: กองคลัง อบต.วังหิน
A89: 11 | B89: ค่าใช้จ่ายในการเดินทางไปราชการในและนอกราชอาณาจักร | C89: เพื่อจ่ายเป็นค่าใช้จ่ายในการเดินทางไปราชการในและนอกราชอาณาจักร | D89: 100000 | F89: กองคลัง อบต.วังหิน
A90: 12 | B90: ค่าบำรุงรักษาและซ่อมแซม | C90: เพื่อจ่ายเป็นค่าบำรุงรักษาและซ่อมแซม | D90: 20000 | F90: กองคลัง อบต.วังหิน
A91: 13 | B91: วัสดุสำนักงาน | C91: เพื่อจ่ายเป็นค่าจัดซื้อวัสดุสำนักงาน | D91: 30000 | F91: กองคลัง อบต.วังหิน
A92: 14 | B92: วัสดุโฆษณาและเผยแพร่ | C92: เพื่อจ่ายเป็นค่าจัดซื้อ จัดจ้าง สั่งซื้อ สั่งจ้าง เพื่อให้ได้มาซึ่งวัสดุโฆษณาและเผยแพร่ | D92: 20000 | F92: กองคลัง อบต.วังหิน
A93: 15 | B93: วัสดุคอมพิวเตอร์ | C93: เพื่อจ่ายเป็นค่าจัดซื้อวัสดุคอมพิวเตอร์ | D93: 40000 | F93: กองคลัง อบต.วังหิน
A94: 16 | B94: จัดซื้อคอมพิวเตอร์ | C94: เพื่อจ่ายเป็นค่าจัดซื้อเครื่องคอมพิวเตอร์ All In One สำหรับงานประมวลผล จำนวน 1 เครื่อง | D94: 23000 | F94: กองคลัง อบต.วังหิน
A95: 17 | B95: จัดซื้อเครื่องพิมพ์ | C95: เพื่อจ่ายเป็นค่าจัดซื้อเครื่อมพิมพ์ Multifunction เลเซอร์ หรือ LED ขาวดำ จำนวน 1 เครื่อง | D95: 9000 | F95: กองคลัง อบต.วังหิน
A96: รวม | D96: =D88+D89+D90+D91+D92+D93+D94+D95 -> 252000
A97: รวม (งานบริหารงานคลัง) | D97: =D96+D80 -> 2614380
A98: รวม ( แผนงานบริหารงานทั่วไป ) | D98: =D97+D65 -> 13814480 | E98: =BAHTTEXT(D98) -> สิบสามล้านแปดแสนหนึ่งหมื่นสี่พันสี่ร้อยแปดสิบบาทถ้วน
A103: ภายใต้ยุทธศาสตร์ ที่ 6 ด้านการเมืองการปกครองการบริหารจัดการองค์กรภายใต้ระบบธรรมาภิบาล
A104: แผนงาน สร้างความเข้มแข็งของชุมชน
A105: งาน ส่งเสริมและสนับสนุนความเข้มแข็งของชุมชน
A106: ที่ | B106: โครงการ / กิจกรรม | C106: รายละเอียดของโครงการ / กิจกรรม | D106: งบประมาณ ( บาท) | E106: สถานที่ ดำเนินการ | F106: หน่วย ดำเนินการ | G106: 2562 | J106: 2563
G107: ต.ค. | H107: พ.ย | I107: ธ.ค. | J107: ม.ค. | K107: ก.พ. | L107: มี.ค. | M107: เม.ย. | N107: พ.ค. | O107: มิ.ย. | P107: ก.ค. | Q107: ส.ค. | R107: ก.ย.
A108: 1 | B108: โครงการส่งเสริมและสนับสนุนการจัดทำแผนพัฒนาท้องถิ่น | C108: เพื่อจ่ายเป็นค่าใช้จ่ายตามโครงการ ส่งเสริมและสนับสนุนการจัดทำแผนพัฒนาท้องถิ่น | D108: 15000 | F108: สำนักงานปลัด อบต.วังหิน
A109: 2 | B109: โครงการส่งเสริมและสนับสนุนการจัดทำแผนพัฒนาหมู่บ้าน แผนชุมชน และแผนพัฒนาตำบลวังหิน | C109: เพื่อจ่ายเป็นค่าใช้จ่ายตามโครงการส่งเสริมและสนับสนุนการจัดทำแผนพัฒนาหมู่บ้าน แผนชุมชน และแผนพัฒนาตำบลวังหิน | D109: 30000 | F109: สำนักงานปลัด อบต.วังหิน
A110: รวม | D110: =D108+D109 -> 45000
A111: รวม ( งานส่งเสริมและสนับสนุนความเข้มแข็งของชุมชน) | D111: =D110 -> 45000
A112: รวม ( แผนงานสร้างความเข้มแข็งของชุมชน ) | D112: =D111 -> 45000 | E112: =BAHTTEXT(D112) -> สี่หมื่นห้าพันบาทถ้วน
A125: ภายใต้ยุทธศาสตร์ ที่ 6 ด้านการเมืองการปกครองการบริหารจัดการองค์กรภายใต้ระบบธรรมาภิบาล
A126: แผนงาน งบกลาง
A127: งาน งบกลาง
A128: ที่ | B128: โครงการ / กิจกรรม | C128: รายละเอียดของโครงการ / กิจกรรม | D128: งบประมาณ ( บาท) | E128: สถานที่ ดำเนินการ | F128: หน่วย ดำเนินการ | G128: 2562 | J128: 2563
G129: ต.ค. | H129: พ.ย | I129: ธ.ค. | J129: ม.ค. | K129: ก.พ. | L129: มี.ค. | M129: เม.ย. | N129: พ.ค. | O129: มิ.ย. | P129: ก.ค. | Q129: ส.ค. | R129: ก.ย.
A130: 1 | B130: เงินสมทบกองทุนประกันสังคม | C130: เพื่อจ่ายเป็นเงินสมทบกองทุนประกันสังคม ในอัตราร้อยละ 5 ของค่าตอบแทนพนักงานจ้าง ของ อบต.วังหิน | D130: 141000 | F130: สำนักงานปลัด อบต.วังหิน
...

Sheet Sheet2

Sheet Sheet3
