Workbook

Sheet บัญชีสรุป
A1: บัญชีสรุปจำนวนโครงการและงบประมาณ
A2: แผนการดำเนินงาน ประจำปีงบประมาณ พ.ศ.2563
A3: องค์การบริหารส่วนตำบลวังหิน อำเภอบางขัน จังหวัดนครศรีธรรมราช
A5: ยุทธศาสตร์ / แนวทาง | B5: จำนวนโครงการ ที่ดำเนินงาน | C5: คิดเป็นร้อยละ ของโครงการทั้งหมด | D5: จำนวน งบประมาณ | E5: ร้อยละ ของงบประมาณ | F5: หน่วยงาน ที่ดำเนินงาน
A6: 1. ยุทธศาสตร์การพัฒนาด้านโครงสร้างพื้นฐาน | F6: กองช่าง
A7: 1.1 แผนงานอุตสาหกรรมการโยธา | B7: ='ผด2 ( ย.1 )'!A55 -> 14 | C7: =B7*100/B43 -> 9.0322581 | D7: ='ผด2 ( ย.1 )'!D57 -> 8112000 | E7: =D7*100/D43 -> 15.84375
A8: 1.2 แผนงานเคหะและชุมชน | B8: ='ผด2 ( ย.1 )'!A85 -> 17 | C8: =B8*100/B43 -> 10.967742 | D8: ='ผด2 ( ย.1 )'!D88 -> 2445160 | E8: =D8*100/D43 -> 4.7757031
A9: รวม | B9: =SUM(B7:B8) -> 31 | C9: =C7+C8 -> 20 | D9: =D7+D8 -> 10557160 | E9: =E7+E8 -> 20.619453
A10: 2. ยุทธศาสตร์การพัฒนาด้านเศรษฐกิจและการท่องเที่ยว | F10: สำนักงานปลัดฯ
A11: 2.1 แผนงานการศาสนาวัฒนธรรมและนันทนาการ | B11: ='ผด2 ( ย .2 )'!A10 -> 1 | C11: =B11*100/B43 -> 0.64516129 | D11: ='ผด2 ( ย .2 )'!D12 -> 250000 | E11: =D11*100/D43 -> 0.48828125
A12: รวม | B12: =B11 -> 1 | C12: =C11 -> 0.64516129 | D12: =D11 -> 250000 | E12: =E11 -> 0.48828125
A13: 3. ยุทธศาสตร์การพัฒนาด้านการศึกษา ศาสนา ศิลปวัฒนธรรม | F13: สำนักงานปลัดฯ
A14: 3.1 แผนงานการศึกษา | B14: ='ผด2 ( ย.3)'!A32+'ผด2 ( ย.3)'!A57 -> 20 | C14: =B14*100/B43 -> 12.903226 | D14: ='ผด2 ( ย.3)'!D60 -> 11666503 | E14: =D14*100/D43 -> 22.786139
A15: 3.2 แผนงานการศาสนาวัฒนธรรมและนันทนาการ | B15: ='ผด2 ( ย .2 )'!A10 -> 1 | C15: =B15*100/B43 -> 0.64516129 | D15: ='ผด2 ( ย.3)'!D113 -> 695000 | E15: =D15*100/D43 -> 1.3574219
A16: รวม | B16: =B14+B15 -> 21 | C16: =C14+C15 -> 13.548387 | D16: =D14+D15 -> 12361503 | E16: =E14+E15 -> 24.143561
A17: 4. ยุทธศาสตร์การพัฒนาด้านสิ่งแวดล้อมและการจัดการทรัพยากรธรรมชาติ | F17: สำนักงานปลัด ฯ
A18: 4.1 แผนงานการเกษตร | B18: 3 | C18: =B18*10/B32 -> 1.6666667 | D18: ='ผด2 ( ย.4) '!D35 -> 50000 | E18: =D18*100/D32 -> 10
A19: 4.2 แผนงานสาธารณสุข | B19: 1 | C19: =B19*100/B43 -> 0.64516129 | D19: ='ผด2 ( ย.4) '!D58 -> 60000 | E19: =D19*100/D43 -> 0.1171875
A20: รวม | B20: =B18+B19 -> 4 | C20: =C18+C19 -> 2.311828 | D20: =D18+D19 -> 110000 | E20: =E18+E19 -> 10.117188
A25: บัญชีสรุปจำนวนโครงการและงบประมาณ
A26: แผนการดำเนินงาน ประจำปีงบประมาณ พ.ศ.2563
A27: องค์การบริหารส่วนตำบลวังหิน อำเภอบางขัน จังหวัดนครศรีธรรมราช
A29: ยุทธศาสตร์ / แนวทาง | B29: จำนวนโครงการ ที่ดำเนินงาน | C29: คิดเป็นร้อยละ ของโครงการทั้งหมด | D29: จำนวน งบประมาณ | E29: ร้อยละ ของงบประมาณ | F29: หน่วยงาน ที่ดำเนินงาน
A30: 5. ยุทธศาสตร์การพัฒนาด้านคุณภาพชีวิตและสังคม | F30: สำนักงานปลัด ฯ
A31: 5.1 แผนงานการรักษาความสงบภายใน | B31: ='ผด2 ( ย.5) '!A23 -> 8 | C31: =B31*100/B43 -> 5.1612903 | D31: ='ผด2 ( ย.5) '!D25 -> 215000 | E31: =D31*10/D43 -> 0.041992188
A32: 5.2 แผนงานสาธารณสุข | B32: ='ผด2 ( ย.5) '!A83 -> 18 | C32: =B32*100/B43 -> 11.612903 | D32: ='ผด2 ( ย.5) '!D86 -> 500000 | E32: =D32*100/D43 -> 0.9765625
A33: 5.3 แผนงานสังคมสงเคราะห์ | B33: ='ผด2 ( ย.5) '!A107 -> 2 | C33: =B33*100/B43 -> 1.2903226 | D33: ='ผด2 ( ย.5) '!D110 -> 40000 | E33: =D33*100/D43 -> 0.078125
A34: 5.4 แผนงานสร้างความเข้มแข็งของชุมชน | B34: ='ผด2 ( ย.5) '!A132 -> 4 | C34: =B34*100/B43 -> 2.5806452 | D34: ='ผด2 ( ย.5) '!D135 -> 480000 | E34: =D34*100/D43 -> 0.9375
A35: 5.5 แผนงานงบกลาง | B35: ='ผด2 ( ย.5) '!A150 -> 4 | C35: =B35*100/B43 -> 2.5806452 | D35: ='ผด2 ( ย.5) '!D153 -> 11056200 | E35: =D35*100/D43 -> 21.594141
A36: รวม | B36: =B31+B32+B33+B34+B35 -> 36 | C36: =C31+C32+C33+C34+C35 -> 23.225806 | D36: =SUM(D31:D35) -> 12291200 | E36: =E31+E32+E33+E34+E35 -> 23.62832
A37: 6. ยุทธศาสตร์การพัฒนาด้านการเมืองการปกครอง การบริหารจัดการองค์กรภายใต้ระบบธรรมาภิบาล | F37: สำนักงานปลัด ฯ กองคลัง กองช่าง
A38: 6.1 แผนงานบริหารทั่วไป | B38: ='ผด2 ( ย.6) '!A63 -> 37 | C38: =B38*100/B43 -> 23.870968 | D38: ='ผด2 ( ย.6) '!D65 -> 11200100 | E38: =D38*100/D43 -> 21.875195
A39: 6.2 แผนงานบริหารงานคลัง | B39: ='ผด2 ( ย.6) '!A95 -> 17 | C39: =B39*100/B43 -> 10.967742 | D39: ='ผด2 ( ย.6) '!D97 -> 2614380 | E39: =D39*100/D43 -> 5.1062109
A40: 6.2 แผนงานสร้างความเข้มแข็งของชุมชน | B40: ='ผด2 ( ย.6) '!A109 -> 2 | C40: =B40*100/B43 -> 1.2903226 | D40: ='ผด2 ( ย.6) '!D112 -> 45000 | E40: =D40*100/D43 -> 0.087890625
A41: 6.3 แผนงานงบกลาง | B41: ='ผด2 ( ย.6) '!A135 -> 6 | C41: =B41*100/B43 -> 3.8709677 | D41: ='ผด2 ( ย.6) '!D138 -> 1770657 | E41: =D41*100/D43 -> 3.4583145
A42: รวม | B42: =B38+B39+B40+B41 -> 62 | C42: =C38+C39+C40+C41 -> 40 | D42: =SUM(D38:D41) -> 15630137 | E42: =D42*100/D43 -> 30.527611
A43: รวมทั้งหมด | B43: =B42+B36+B20+B16+B12+B9 -> 155 | C43: =B43*100/B43 -> 100 | D43: =D42+D36+D20+D16+D12+D9 -> 51200000 | E43: =D43*100/D43 -> 100

Sheet ผด2 ( ย.1 )
A1: บัญชีโครงการ / กิจกรรม / งบประมาณ
A2: แผนการดำเนินงาน ประจำปีงบประมาณ พ.ศ.2563
A3: องค์การบริหารส่วนตำบลวังหิน อำเภอบางขัน จังหวัดนครศรีธรรมราช
A4: ภายใต้ยุทธศาสตร์ ที่ 1 ด้านโครงสร้างพื้นฐาน
A5: แผนงาน อุตสาหกรรมการโยธา
A6: งาน ก่อสร้างโครงสร้างพื้นฐาน
A7: ที่ | B7: โครงการ / กิจกรรม | C7: รายละเอียดของโครงการ / กิจกรรม | D7: งบประมาณ ( บาท) | E7: สถานที่ ดำเนินการ | F7: หน่วย ดำเนินการ | G7: 2562 | J7: 2563
G8: ต.ค. | H8: พ.ย | I8: ธ.ค. | J8: ม.ค. | K8: ก.พ. | L8: มี.ค. | M8: เม.ย. | N8: พ.ค. | O8: มิ.ย. | P8: ก.ค. | Q8: ส.ค. | R8: ก.ย.
A9: 1 | B9: โครงการก่อสร้างถนนคอนกรีต เสริมเหล็ก สายซอย 3/5 หมู่ที่ 3 | C9: เพื่อจ่ายเป็นค่าก่อสร้างถนนคอนกรีต เสริมเหล็ก สายซอย 3/5 หมู่ที่ 3 - ระยะทางถนนยาว 250 เมตร กว้าง 4 เมตร หนา 0.15 เมตร ไหล่ทางตามสภาพของพื้นที่ หรือ มีพื้นที่ คอนกรีตไม่น้อยกว่า 1,000 ตารางเมตร จำนวน 1 สาย พร้อมป้ายโครงการ จำนวน 1 ป้าย รายละเอียดแบบแปลน เป็นไปตาม อบต.วังหิน กำหนด | D9: 729000 | E9: หมู่ที่ 3 | F9: กองช่าง
A10: 2 | B10: โครงการก่อสร้างถนนคอนกรีต เสริมเหล็ก สายบ้านสวน - ป่าแก่ หมู่ที่ 6 | C10: เพื่อจ่ายเป็นค่าก่อสร้างถนนคอนกรีต เสริมเหล็ก สายบ้านสวน - ป่าแก่ หมู่ที่ 6 - ระยะทางถนนยาว 200 เมตร ถนนกว้าง 5 เมตร หนา 0.15 เมตร ไหล่ทางข้างละ 0.50 เมตร หรือ มีพื้นที่ คอนกรีตไม่น้อยกว่า 1,000 ตารางเมตร จำนวน 1 สาย พร้อมป้ายโครงการ จำนวน 1 ป้าย รายละเอียดแบบแปลน เป็นไปตาม อบต.วังหิน กำหนด | D10: 682000 | E10: หมู่ที่ 6 | F10: กองช่าง
A11: รวม | D11: =D9+D10 -> 1411000
A14: ที่ | B14: โครงการ / กิจกรรม | C14: รายละเอียดของโครงการ / กิจกรรม | D14: งบประมาณ ( บาท) | E14: สถานที่ ดำเนินการ | F14: หน่วย ดำเนินการ | G14: 2562 | J14: 2563
G15: ต.ค. | H15: พ.ย | I15: ธ.ค. | J15: ม.ค. | K15: ก.พ. | L15: มี.ค. | M15: เม.ย. | N15: พ.ค. | O15: มิ.ย. | P15: ก.ค. | Q15: ส.ค. | R15: ก.ย.
A16: 3 | B16: โครงการก่อสร้างถนนคอนกรีต เสริมเหล็ก สายหนองเจ - บนควน (ตอนที่ 3 ) หมู่ที่ 1 | C16: เพื่อจ่ายเป็นค่าก่อสร้างถนนคอนกรีต เสริมเหล็ก สายหนองเจ - บนควน (ตอนที่ 3 ) หมู่ที่ 1 - ระยะทางถนนยาว 200 เมตร ถนนกว้าง 5 เมตร หนา 0.15 เมตร ไหล่ทางข้างละ 0.50 เมตร หรือ มีพื้นที่ คอนกรีตไม่น้อยกว่า 1,000 ตารางเมตร จำนวน 1 สาย พร้อมป้ายโครงการ จำนวน 1 ป้าย รายละเอียดแบบแปลน เป็นไปตาม อบต.วังหิน กำหนด | D16: 682000 | E16: หมู่ที่ 1 | F16: กองช่าง
A17: 4 | B17: โครงการก่อสร้างถนนลาดยาง แบบแอสฟัลท์ติกคอนกรีต ถนนสายทับควาย -ไสยาสน์ หมู่ที่ 8 | C17: เพื่อจ่ายเป็นค่าก่อสร้างถนนลาดยาง แบบแอสฟัลท์ติกคอนกรีต ถนนสายทับควาย -ไสยาสน์ หมู่ที่ 8 - ระยะทางถนนยาว 220 เมตร ถนนกว้าง 5 เมตร ผิวจราจร 5 เมตรหนา 0.05 เมตร หรือ มีพื้นที่ลาดยาง ไม่น้อยกว่า 1,100 ตารางเมตร จำนวน 1 สาย พร้อมป้ายโครงการ จำนวน 1 ป้าย รายละเอียดแบบแปลน เป็นไปตาม อบต.วังหิน กำหนด | D17: 609000 | E17: หมู่ที่ 8 | F17: กองช่าง
A18: รวม | D18: =D16+D17 -> 1291000
A22: ที่ | B22: โครงการ / กิจกรรม | C22: รายละเอียดของโครงการ / กิจกรรม | D22: งบประมาณ ( บาท) | E22: สถานที่ ดำเนินการ | F22: หน่วย ดำเนินการ | G22: 2562 | J22: 2563
G23: ต.ค. | H23: พ.ย | I23: ธ.ค. | J23: ม.ค. | K23: ก.พ. | L23: มี.ค. | M23: เม.ย. | N23: พ.ค. | O23: มิ.ย. | P23: ก.ค. | Q23: ส.ค. | R23: ก.ย.
A24: 5 | B24: โครงการก่อสร้างถนนลาดยาง แบบแอสฟัลท์ติกคอนกรีต ถนนสายสี่แยกสวนป่า - ด่านปริง หมู่ที่ 7 | C24: เพื่อจ่ายเป็นค่าก่อสร้างถนนลาดยาง แบบแอสฟัลท์ติกคอนกรีต ถนนสายสี่แยกสวนป่า-ด่านปริง หมู่ที่ 7 - ระยะทางถนนยาว 220 เมตร ถนนกว้าง 5 เมตร ผิวจราจร 5 เมตรหนา 0.05 เมตร หรือ มีพื้นที่ลาดยาง ไม่น้อยกว่า 1,100 ตารางเมตร จำนวน 1 สาย พร้อมป้ายโครงการ จำนวน 1 ป้าย รายละเอียดแบบแปลน เป็นไปตาม อบต.วังหิน กำหนด | D24: 609000 | E24: หมู่ที่ 7 | F24: กองช่าง
A25: 6 | B25: โครงการก่อสร้างถนนลาดยาง แบบแอสฟัลท์ติกคอนกรีต ถนนสายไสปง - ไสกรูด หมู่ที่ 9 | C25: เพื่อจ่ายเป็นค่าก่อสร้างถนนลาดยาง แบบแอสฟัลท์ติกคอนกรีต ถนนสายไสปง - ไสกรูด หมู่ที่ 9 - ระยะทางถนนยาว 220 เมตร ถนนกว้าง 5 เมตร ผิวจราจร 5 เมตรหนา 0.05 เมตร หรือ มีพื้นที่ลาดยาง ไม่น้อยกว่า 1,100 ตารางเมตร จำนวน 1 สาย พร้อมป้ายโครงการ จำนวน 1 ป้าย รายละเอียดแบบแปลน เป็นไปตาม อบต.วังหิน กำหนด | D25: 609000 | E25: หมู่ที่ 9 | F25: กองช่าง
A26: รวม | D26: =D24+D25 -> 1218000
A30: ที่ | B30: โครงการ / กิจกรรม | C30: รายละเอียดของโครงการ / กิจกรรม | D30: งบประมาณ ( บาท) | E30: สถานที่ ดำเนินการ | F30: หน่วย ดำเนินการ | G30: 2562 | J30: 2563
G31: ต.ค. | H31: พ.ย | I31: ธ.ค. | J31: ม.ค. | K31: ก.พ. | L31: มี.ค. | M31: เม.ย. | N31: พ.ค. | O31: มิ.ย. | P31: ก.ค. | Q31: ส.ค. | R31: ก.ย.
A32: 7 | B32: โครงการก่อสร้างถนนลาดยาง แบบแอสฟัลท์ติกคอนกรีต ถนนสายหลัก หมู่ที่ 3-4-6-13 ช่วงหมู่ที่ 4 | C32: เพื่อจ่ายเป็นค่าก่อสร้างถนนลาดยาง แบบแอสฟัลท์ติกคอนกรีต ถนนสายหลัก หมู่ที่ 3-4-6-13 ช่วงหมู่ที่ 4 - ระยะทางถนนยาว 220 เมตร ถนนกว้าง 5 เมตร ผิวจราจร 5 เมตรหนา 0.05 เมตร หรือ มีพื้นที่ลาดยาง ไม่น้อยกว่า 1,100 ตารางเมตร จำนวน 1 สาย พร้อมป้ายโครงการ จำนวน 1 ป้าย รายละเอียดแบบแปลน เป็นไปตาม อบต.วังหิน กำหนด | D32: 609000 | E32: หมู่ที่ 4 | F32: กองช่าง
A33: 8 | B33: โครงการก่อสร้างถนนลาดยาง แบบแอสฟัลท์ติกคอนกรีต ถนนสายสามแยกบ้านลุงเท่ง - หมู่ที่ 3 บ้านวังหิน | C33: เพื่อจ่ายเป็นค่าก่อสร้างถนนลาดยาง แบบแอสฟัลท์ติกคอนกรีต ถนนสายสามแยกบ้านลุงเท่ง - หมู่ที่ 3 บ้านวังหิน - ระยะทางถนนยาว 220 เมตร ถนนกว้าง 5 เมตร ผิวจราจร 5 เมตรหนา 0.05 เมตร หรือ มีพื้นที่ลาดยาง ไม่น้อยกว่า 1,100 ตารางเมตร จำนวน 1 สาย พร้อมป้ายโครงการ จำนวน 1 ป้าย รายละเอียดแบบแปลน เป็นไปตาม อบต.วังหิน กำหนด | D33: 609000 | E33: หมู่ที่ 13 | F33: กองช่าง
A34: รวม | D34: =D32+D33 -> 1218000
A37: ที่ | B37: โครงการ / กิจกรรม | C37: รายละเอียดของโครงการ / กิจกรรม | D37: งบประมาณ ( บาท) | E37: สถานที่ ดำเนินการ | F37: หน่วย ดำเนินการ | G37: 2562 | J37: 2563
G38: ต.ค. | H38: พ.ย | I38: ธ.ค. | J38: ม.ค. | K38: ก.พ. | L38: มี.ค. | M38: เม.ย. | N38: พ.ค. | O38: มิ.ย. | P38: ก.ค. | Q38: ส.ค. | R38: ก.ย.
A39: 9 | B39: โครงการก่อสร้างถนนลาดยาง แบบแอสฟัลท์ติกคอนกรีต ถนนสายหนองเจ - บางพงษ์ หมู่ที่ 10 | C39: เพื่อจ่ายเป็นค่าก่อสร้างถนนลาดยาง แบบแอสฟัลท์ติกคอนกรีต ถนนสายหนองเจ - บางพงษ์ หมู่ที่ 10 - ระยะทางถนนยาว 220 เมตร ถนนกว้าง 5 เมตร ผิวจราจร 5 เมตรหนา 0.05 เมตร หรือ มีพื้นที่ลาดยาง ไม่น้อยกว่า 1,100 ตารางเมตร จำนวน 1 สาย พร้อมป้ายโครงการ จำนวน 1 ป้าย รายละเอียดแบบแปลน เป็นไปตาม อบต.วังหิน กำหนด | D39: 609000 | E39: หมู่ที่ 10 | F39: กองช่าง
A40: 10 | B40: โครงการก่อสร้างถนนลาดยาง แบบแอสฟัลท์ติกคอนกรีต ถนนสายหน้าควน - ไสปง หมู่ที่ 12 | C40: เพื่อจ่ายเป็นค่าก่อสร้างถนนลาดยาง แบบแอสฟัลท์ติกคอนกรีต ถนนสายหน้าควน - ไสปง หมู่ที่ 12 - ระยะทางถนนยาว 220 เมตร ถนนกว้าง 5 เมตร ผิวจราจร 5 เมตรหนา 0.05 เมตร หรือ มีพื้นที่ลาดยาง ไม่น้อยกว่า 1,100 ตารางเมตร จำนวน 1 สาย พร้อมป้ายโครงการ จำนวน 1 ป้าย รายละเอียดแบบแปลน เป็นไปตาม อบต.วังหิน กำหนด | D40: 609000 | E40: หมู่ที่ 12 | F40: กองช่าง
A41: รวม | D41: =D39+D40 -> 1218000
A45: ที่ | B45: โครงการ / กิจกรรม | C45: รายละเอียดของโครงการ / กิจกรรม | D45: งบประมาณ ( บาท) | E45: สถานที่ ดำเนินการ | F45: หน่วย ดำเนินการ | G45: 2562 | J45: 2563
G46: ต.ค. | H46: พ.ย | I46: ธ.ค. | J46: ม.ค. | K46: ก.พ. | L46: มี.ค. | M46: เม.ย. | N46: พ.ค. | O46: มิ.ย. | P46: ก.ค. | Q46: ส.ค. | R46: ก.ย.
A47: 11 | B47: โครงการก่อสร้างถนนลาดยาง แบบแอสฟัลท์ติกคอนกรีต ถนนสายบางพงศ์-สะพานคลองลำตัง(ตอนที่ 3 ) เชื่อมต่อหมู่ที่ 13 ตำบลบ้านนิคม หมู่ที่ 2 | C47: เพื่อจ่ายเป็นค่าก่อสร้างถนนลาดยาง แบบแอสฟัลท์ติกคอนกรีต ถนนสายบางพงศ์ - สะพานคลองลำตัง (ตอนที่ 3 ) เชื่อมต่อหมู่ที่ 13 ตำบลบ้านนิคม หมู่ที่ 2 - ระยะทางถนนยาว 220 เมตร ถนนกว้าง 5 เมตร ผิวจราจร 5 เมตรหนา 0.05 เมตร หรือ มีพื้นที่ลาดยาง ไม่น้อยกว่า 1,100 ตารางเมตร จำนวน 1 สาย พร้อมป้ายโครงการ จำนวน 1 ป้าย รายละเอียดแบบแปลน เป็นไปตาม อบต.วังหิน กำหนด | D47: 609000 | E47: หมู่ที่ 2 | F47: กองช่าง
A48: 12 | B48: โครงการปรับปรุงขยายไหล่ทางยกระดับตามสภาพถนน สายวังเนียง - หน้าวัด หมู่ที่ 5 | C48: เพื่อจ่ายเป็นค่าปรับปรุงขยายไหล่ทางยกระดับตามสภาพถนนสายวังเนียง - หน้าวัด หมู่ที่ 5 - ระยะทางถนนยาว 720 เมตร ถนนกว้างโดยเฉลี่ย 6.40 เมตร พร้อม ฝังท่อระบายน้ำ คสล. มอก.3 ขนาด 0.80 เมตร จำนวน 3 จุด จุดละ 8 ท่อน จำนวน 1 สาย พร้อมป้ายโครงการ จำนวน 1 ป้าย รายละเอียดแบบแปลน เป็นไปตาม อบต.วังหิน กำหนด | D48: 738000 | E48: หมู่ที่ 5 | F48: กองช่าง
A49: รวม | D49: =D47+D48 -> 1347000
A52: ที่ | B52: โครงการ / กิจกรรม | C52: รายละเอียดของโครงการ / กิจกรรม | D52: งบประมาณ ( บาท) | E52: สถานที่ ดำเนินการ | F52: หน่วย ดำเนินการ | G52: 2562 | J52: 2563
G53: ต.ค. | H53: พ.ย | I53: ธ.ค. | J53: ม.ค. | K53: ก.พ. | L53: มี.ค. | M53: เม.ย. | N53: พ.ค. | O53: มิ.ย. | P53: ก.ค. | Q53: ส.ค. | R53: ก.ย.
A54: 13 | B54: โครงการยกระดับถนนสายไสใคร หมู่ที่ 11 | C54: เพื่อจ่ายเป็นค่ายกระดับถนนสายไสไคร หมู่ที่ 11 - ระยะทางรวม 275 เมตร ถนนกว้างโดยเฉลี่ย 5 เมตร พร้อม ฝังท่อระบายน้ำ คสล. มอก.3 จำนวน 4 จุด จุดละ 2 ท่อน จำนวน 1 สาย พร้อมป้ายโครงการ จำนวน 1 ป้าย รายละเอียดแบบแปลน เป็นไปตาม อบต.วังหิน กำหนด | D54: 200000 | E54: หมู่ที่ 11 | F54: กองช่าง
A55: 14 | B55: โครงการยกระดับถนนสาย หินครกเบือ จำนวน 2 จุด | C55: เพื่อจ่ายเป็นค่ายกระดับถนนสายหินครกเบือ จำนวน 2 จุด ดังนี้ จุดที่ 1 - ระยะทางยาว 75 เมตร ถนนกว้างโดยเฉลี่ย 5 เมตร พร้อมฝังท่อระบายน้ำ คสล. มอก.3ขนาด 0.80 x 1.00 เมตร จำนวน 1 จุด จุดละ 8 ท่อน จุดที่ 2 - ระยะทางยาว 200 เมตร ถนนกว้างโดยเฉลี่ย 5 เมตร พร้อมฝังท่อระบายน้ำ คสล. มอก.3 ขนาด 0.80 x 1.00 เมตร จำนวน 2 จุด จุดละ 8 ท่อน | D55: 209000 | E55: หมู่ที่ 11 | F55: กองช่าง
...

Sheet ผด2 ( ย .2 )
A1: บัญชีโครงการ / กิจกรรม / งบประมาณ
A2: แผนการดำเนินงาน ประจำปีงบประมาณ พ.ศ.2563
A3: องค์การบริหารส่วนตำบลวังหิน อำเภอบางขัน จังหวัดนครศรีธรรมราช
A5: ภายใต้ยุทธศาสตร์ ที่ 2 ด้านการพัฒนาเศรษฐกิจและการท่องเที่ยว
A6: แผนงาน การศาสนาวัฒนธรรมและนันทนาการ
A7: งาน วิชาการวางแผนและส่งเสริมการท่องเที่ยว
A8: ที่ | B8: โครงการ / กิจกรรม | C8: รายละเอียดของโครงการ / กิจกรรม | D8: งบประมาณ ( บาท) | E8: สถานที่ ดำเนินการ | F8: หน่วย ดำเนินการ | G8: 2562 | J8: 2563
G9: ต.ค. | H9: พ.ย | I9: ธ.ค. | J9: ม.ค. | K9: ก.พ. | L9: มี.ค. | M9: เม.ย. | N9: พ.ค. | O9: มิ.ย. | P9: ก.ค. | Q9: ส.ค. | R9: ก.ย.
A10: 1 | B10: โครงการส่งเสริมและสนับสนุนการท่องเที่ยว | C10: เพื่อจ่ายเป็นค่าใช้จ่ายตามโครงการส่งเสริมและสนับสนุนการท่องเที่ยว | D10: 250000 | E10: อุทยาน บ่อน้ำร้อน | F10: สำนักงาน ปลัด อบต.
A11: รวม | D11: =D10 -> 250000
A12: รวม ( แผนงานการศาสนาวัฒนธรรมและนันทนาการ ) | D12: =D11 -> 250000 | E12: =BAHTTEXT(D12) -> สองแสนห้าหมื่นบาทถ้วน

Sheet ผด2 ( ย.3)
A1: บัญชีโครงการ / กิจกรรม / งบประมาณ
A2: แผนการดำเนินงาน ประจำปีงบประมาณ พ.ศ.2563
A3: องค์การบริหารส่วนตำบลวังหิน อำเภอบางขัน จังหวัดนครศรีธรรมราช
A5: ภายใต้ยุทธศาสตร์ ที่ 3 ด้านการศึกษา ศาสนา ศิลปวัฒนธรรม
A6: แผนงาน การศึกษา
A7: งาน บริหารทั่วไปเกี่ยวกับการศึกษา
A8: ที่ | B8: โครงการ / กิจกรรม | C8: รายละเอียดของโครงการ / กิจกรรม | D8: งบประมาณ ( บาท) | E8: สถานที่ ดำเนินการ | F8: หน่วย ดำเนินการ | G8: 2562 | J8: 2563
G9: ต.ค. | H9: พ.ย | I9: ธ.ค. | J9: ม.ค. | K9: ก.พ. | L9: มี.ค. | M9: เม.ย. | N9: พ.ค. | O9: มิ.ย. | P9: ก.ค. | Q9: ส.ค. | R9: ก.ย.
A10: 1 | B10: เงินเดือนพนักงาน | C10: เพื่อจ่ายเป็นค่าเงินเดือนและเงินปรับปรุงเงินเดือนให้แก่พนักงานครู สังกัด อบต.วังหิน จำนวน 12 อัตรา | D10: 3471540 | E10: - | F10: สำนักงาน ปลัด อบต.
A11: 2 | B11: เงินวิทยะฐานะ | C11: เพื่อจ่ายเป็นเงินวิทยะฐานะชำนาญการ ให้แก่พนักงานครู สังกัด อบต.วังหิน | D11: 587300 | E11: - | F11: สำนักงาน ปลัด อบต.
A12: 3 | B12: ค่าตอบแทนพนักงานจ้าง | C12: เพื่อจ่ายเป็นเงินค่าตอบแทนพนักงานจ้าง ตามภารกิจตำแหน่ง ผู้ดูแลเด็ก (ทักษะ) จำนวน 5 อัตรา | D12: 793680 | E12: - | F12: สำนักงาน ปลัด อบต.
A13: 4 | B13: เงินเพิ่มต่างๆ ของพนักงานจ้าง | C13: เพื่อจ่ายเป็นเงินเพิ่มค่าครองชีพและเงิน เพิ่มต่างๆ ของพนักงานจ้าง ให้แก่ พนักงานจ้าง ตำแหน่ง ผู้ดูแลเด็ก(ทักษะ) สังกัด อบต.วังหิน | D13: 20280 | E13: - | F13: สำนักงาน ปลัด อบต.
A14: รวม | D14: =SUM(D10:D13) -> 4872800
A20: ที่ | B20: โครงการ / กิจกรรม | C20: รายละเอียดของโครงการ / กิจกรรม | D20: งบประมาณ ( บาท) | E20: สถานที่ ดำเนินการ | F20: หน่วย ดำเนินการ | G20: 2562 | J20: 2563
G21: ต.ค. | H21: พ.ย | I21: ธ.ค. | J21: ม.ค. | K21: ก.พ. | L21: มี.ค. | M21: เม.ย. | N21: พ.ค. | O21: มิ.ย. | P21: ก.ค. | Q21: ส.ค. | R21: ก.ย.
A22: 5 | B22: ค่าตอบแทนผู้ปฎิบัติราชการ อันเป็นประโยชน์แก่องค์กรปกครอง ส่วนท้องถิ่น | C22: เพื่อจ่ายเป็นค่าตอบแทนผู้ปฎิบัติราชการอันเป็นประโยชน์แก่องค์การบริหารส่วนตำบล ตามระเบียบกำหนด เช่น กรรมการสอบ คณะกรรมการประเมินบุคคล ค่าเงินประโยชน์ตอบแทนอื่น เป็นกรณีพิเศษ ( เงินรางวัลประจำปี ) สำหรับพนักงานส่วนท้องถิ่น | D22: 361000 | E22: - | F22: สำนักงาน ปลัด อบต.
A23: 6 | B23: ค่าตอบแทนการปฎิบัติงานนอกเวลาราชการ | C23: เพื่อจ่ายเป็นค่าตอบแทนการปฎิบัติงานนอกเวลาราชการ ให้แก่ พนักงานส่วนตำบล ลูกจ้างประจำ พนักงานจ้าง และบุคคลที่ได้รับการแต่งตั้งให้มาปฎิบัติงานนอกเวลาราชการ | D23: 10000 | E23: - | F23: สำนักงาน ปลัด อบต.
A24: 7 | B24: เงินช่วยเหลือการศึกษาบุตร | C24: เพื่อจ่ายเป็นเงินช่วยเหลือการศึกษาบุตรของพนักงานส่วนตำบล และผู้มีสิทธิได้รับเงินค่าช่วยเหลือการศึกษาบุตร ตามระเบียบกำหนด | D24: 80000 | E24: - | F24: สำนักงาน ปลัด อบต.
A25: 8 | B25: ค่าใช้จ่ายสำหรับการจัดงานราชพิธี หรือวันสำคัญของสถาบันพระมหากษัตริย์ | C25: เพื่อจ่ายเป็นค่าใช้จ่ายสำหรับการจัดงานราชพิธี หรือวันสำคัญของสถาบันพระมหากษัตริย์ และวันสำคัญทางราชการ เช่น ค่าจ้างทำพานพุ่ม ค่าเช่าเต็นท์ โต๊ะ เก้าอี้ ค่าเวทีพร้อมเครื่องเสียง ค่าตกแต่งสถานที่ ค่าป้ายไวนิล ฯลฯ | D25: 50000 | E25: ที่ทำการ อำเภอบางขัน | F25: สำนักงาน ปลัด อบต.
A26: รวม | D26: =SUM(D22:D25) -> 501000
A29: ที่ | B29: โครงการ / กิจกรรม | C29: รายละเอียดของโครงการ / กิจกรรม | D29: งบประมาณ ( บาท) | E29: สถานที่ ดำเนินการ | F29: หน่วย ดำเนินการ | G29: 2562 | J29: 2563
G30: ต.ค. | H30: พ.ย | I30: ธ.ค. | J30: ม.ค. | K30: ก.พ. | L30: มี.ค. | M30: เม.ย. | N30: พ.ค. | O30: มิ.ย. | P30: ก.ค. | Q30: ส.ค. | R30: ก.ย.
A31: 9 | B31: โครงการวันท้องถิ่นไทย | C31: เพื่อจ่ายเป็นค่าใช้จ่ายตามโครงการ วันท้องถิ่นไทย ฯลฯ | D31: 20000 | E31: ที่ทำการ อำเภอบางขัน | F31: สำนักงาน ปลัด อบต.
A32: 10 | B32: ค่าบำรุงรักษาและซ่อมแซม | C32: - เพื่อจ่ายเป็นรายจ่ายให้มาซึ่งของที่มีลักษณะโดยสภาพไม่คงทนถาวร หรือ ตามปกติ ที่มีอายุการใช้งานไม่ยืนนาน สิ้นเปลืองหมดไป หรือ เปลี่ยนสภาพไปในระยะเวลาอันสั้น - เพื่อจ่ายเป็นรายจ่ายให้มาซึ่งการจัดหาโปรแกรมคอมพิวเตอร์ที่มีราคาต่อหน่วยหรือ ต่อชุดไม่เกิน 20,0000 บาท - เพื่อจ่ายเป็นรายจ่ายให้มาซึ่งการจัดหาสิ่งของที่ใช้ในการซ่อมแซมบำรุงรักษาทรัพย์สินให้สามารถใช้งาน ได้ตามปกติ - เพื่อจ่ายเป็นรายจ่ายให้มาซึ่งการบำรุงรักษาซ่อมแซมครุภัณฑ์ เครื่องปรับอากาศ เครื่องคอมพิวเตอร์ เครื่องถ่ายเอกสาร ครุภัณฑ์สำนักงาน ฯลฯ | D32: 100000 | E32: - | F32: สำนักงาน ปลัด อบต.
A33: รวม | D33: =D31+D32 -> 120000
A34: รวม (งาน บริหารทั่วไปเกี่ยวกับการศึกษา ) | D34: =D33+D26+D14 -> 5493800 | E34: =BAHTTEXT(D34) -> ห้าล้านสี่แสนเก้าหมื่นสามพันแปดร้อยบาทถ้วน
A37: ภายใต้ยุทธศาสตร์ ที่ 3 ด้านการศึกษา ศาสนา ศิลปวัฒนธรรม
A38: แผนงาน การศึกษา
A39: งาน ระดับก่อนวัยเรียนและประถมศึกษา
A40: ที่ | B40: โครงการ / กิจกรรม | C40: รายละเอียดของโครงการ / กิจกรรม | D40: งบประมาณ ( บาท) | E40: สถานที่ ดำเนินการ | F40: หน่วย ดำเนินการ | G40: 2562 | J40: 2563
G41: ต.ค. | H41: พ.ย | I41: ธ.ค. | J41: ม.ค. | K41: ก.พ. | L41: มี.ค. | M41: เม.ย. | N41: พ.ค. | O41: มิ.ย. | P41: ก.ค. | Q41: ส.ค. | R41: ก.ย.
A42: 1 | B42: โครงการสนับสนุนค่าใช้จ่ายในการบริหารสถานศึกษา ( อุดหนุนอาหารกลางวัน ศพด.) | C42: เพื่อจ่ายเป็นค่าใช้จ่ายตามโครงการสนับสนุนค่าใช้จ่ายการบริหารสถานศึกษา(อุดหนุนอาหารกลางวัน ศพด.) | D42: 950600 | E42: - | F42: สำนักงาน ปลัด อบต.
A43: 2 | B43: โครงการกิจกรรมเพื่อเด็กและเยาวชน | C43: เพื่อจ่ายเป็นค่าใช้จ่ายตามโครงการกิจกรรมเพื่อเด็กและเยาวชน ฯลฯ | D43: 40000 | E43: - | F43: สำนักงาน ปลัด อบต.
A44: 3 | B44: โครงการกีฬาอนุบาลสัมพันธ์ | C44: เพื่อจ่ายเป็นค่าใช้จ่ายตามโครงการกีฬาอนุบาลสัมพันธ์ ฯลฯ | D44: 40000 | E44: สนามกีฬากลาง หมู่ที่ 8 ต.วังหิน | F44: สำนักงาน ปลัด อบต.
A45: 4 | B45: โครงการแข่งขันทักษะทางวิชาการ | C45: เพื่อจ่ายเป็นค่าใช้จ่ายตามโครงการแข่งขันทักษะทางวิชาการ ฯลฯ | D45: 30000 | E45: ศูนย์ ประชาสัมพันธ์ อุทยานบ่อน้ำร้อน | F45: สำนักงาน ปลัด อบต.
A46: 5 | B46: โครงการสนับสนุนค่าใช้จ่ายการ บริหารสถานศึกษา ( เงินอุดหนุน สำหรับสนับสนุนค่าใช้จ่ายในการ จัดการศึกษาสำหรับ ศพด.) | C46: เพื่อจ่ายเป็นค่าสนับสนุนค่าใช้จ่ายการ บริหารสถานศึกษา ( เงินอุดหนุน สำหรับสนับสนุนค่าใช้จ่ายในการ จัดการศึกษาสำหรับ ศพด.) | D46: 219220 | E46: - | F46: สำนักงาน ปลัด อบต.
A47: 6 | B47: โครงการสนับสนุนค่าใช้จ่ายการ บริหารสถานศึกษา ( เงินอุดหนุน สำหรับสนับสนุนค่าจัดการเรียนการสอนของ ศพด. (รายหัว ) | C47: เพื่อจ่ายเป็นค่าสนับสนุนค่าใช้จ่ายการ บริหารสถานศึกษา ( เงินอุดหนุน สำหรับสนับสนุนค่าจัดการเรียนการสอนของ ศพด. (รายหัว ) | D47: 329800 | E47: - | F47: สำนักงาน ปลัด อบต.
A48: รวม | D48: =SUM(D42:D47) -> 1609620
A52: ที่ | B52: โครงการ / กิจกรรม | C52: รายละเอียดของโครงการ / กิจกรรม | D52: งบประมาณ ( บาท) | E52: สถานที่ ดำเนินการ | F52: หน่วย ดำเนินการ | G52: 2562 | J52: 2563
G53: ต.ค. | H53: พ.ย | I53: ธ.ค. | J53: ม.ค. | K53: ก.พ. | L53: มี.ค. | M53: เม.ย. | N53: พ.ค. | O53: มิ.ย. | P53: ก.ค. | Q53: ส.ค. | R53: ก.ย.
...

Sheet ผด2 ( ย.4) 
A1: บัญชีโครงการ / กิจกรรม / งบประมาณ
A2: แผนการดำเนินงาน ประจำปีงบประมาณ พ.ศ.2563
A3: องค์การบริหารส่วนตำบลวังหิน อำเภอบางขัน จังหวัดนครศรีธรรมราช
A4: ภายใต้ยุทธศาสตร์ ที่ 4 ด้านสิ่งแวดล้อมและการจัดการทรัพยากรธรรมชาติ
A5: แผนงาน การเกษตร
A6: งาน อนุรักษ์แหล่งน้ำและป่าไม้
A7: ที่ | B7: โครงการ / กิจกรรม | C7: รายละเอียดของโครงการ / กิจกรรม | D7: งบประมาณ ( บาท) | E7: สถานที่ ดำเนินการ | F7: หน่วย ดำเนินการ | G7: 2562 | J7: 2563
G8: ต.ค. | H8: พ.ย | I8: ธ.ค. | J8: ม.ค. | K8: ก.พ. | L8: มี.ค. | M8: เม.ย. | N8: พ.ค. | O8: มิ.ย. | P8: ก.ค. | Q8: ส.ค. | R8: ก.ย.
A9: 1 | B9: โครงการปลูกหญ้าแฝกเฉลิมพระเกียรติเพื่ออนุรักษ์ดินและน้ำ | C9: เพื่อจ่ายเป็นค่าใช้จ่ายตามโครงการปลูกหญ้าแฝกเฉลิมพระเกียรติเพื่อการอนุรักษ์ดินและน้ำ | D9: 20000 | E9: - | F9: สำนักงาน ปลัด อบต.
A10: 2 | B10: โครงการพัฒนาแหล่งเรียนรู้ ทางการเกษตรเชิงอนุรักษ์ | C10: เพื่อจ่ายเป็นค่าใช้จ่ายตามโครงการพัฒนาแหล่งเรียนรู้ทางการเกษตรเชิงอนุรักษ์ | D10: 20000 | E10: - | F10: สำนักงาน ปลัด อบต.
A11: รวม | D11: =D9+D10 -> 40000
A12: รวม ( งานอนุรักษ์แหล่งน้ำและป่าไม้ ) | D12: =D9+D10 -> 40000
A27: ภายใต้ยุทธศาสตร์ ที่ 4 ด้านสิ่งแวดล้อมและการจัดการทรัพยากรธรรมชาติ
A28: แผนงาน การเกษตร
A29: งาน ส่งเสริมการเกษตร
A30: ที่ | B30: โครงการ / กิจกรรม | C30: รายละเอียดของโครงการ / กิจกรรม | D30: งบประมาณ ( บาท) | E30: สถานที่ ดำเนินการ | F30: หน่วย ดำเนินการ | G30: 2562 | J30: 2563
G31: ต.ค. | H31: พ.ย | I31: ธ.ค. | J31: ม.ค. | K31: ก.พ. | L31: มี.ค. | M31: เม.ย. | N31: พ.ค. | O31: มิ.ย. | P31: ก.ค. | Q31: ส.ค. | R31: ก.ย.
A32: 1 | B32: โครงการปรับปรุงและสนับสนุนการดำเนินงานของศูนย์บริการถ่ายทอดเทคโนโลยีการเกษตร | C32: เพื่อจ่ายเป็นค่าใช้จ่ายตามโครงการปรับปรุงและสนับสนุนการดำเนินงานของศูนย์บริการถ่ายทอดเทคโนโลยีการเกษตร | D32: 10000 | F32: สำนักงาน ปลัด อบต.
A33: รวม | D33: =D32 -> 10000
A34: รวม ( ส่งเสริมการเกษตร ) | D34: =D33 -> 10000
A35: รวม ( แผนงานการเกษตร ) | D35: =D34+D12 -> 50000 | E35: =BAHTTEXT(D35) -> ห้าหมื่นบาทถ้วน
A50: ภายใต้ยุทธศาสตร์ ที่ 4 ด้านสิ่งแวดล้อมและการจัดการทรัพยากรธรรมชาติ
A51: แผนงาน สาธารณสุข
A52: งาน บริการสาธารณสุขและงานสาธารณสุขอื่น
A53: ที่ | B53: โครงการ / กิจกรรม | C53: รายละเอียดของโครงการ / กิจกรรม | D53: งบประมาณ ( บาท) | E53: สถานที่ ดำเนินการ | F53: หน่วย ดำเนินการ | G53: 2562 | J53: 2563
G54: ต.ค. | H54: พ.ย | I54: ธ.ค. | J54: ม.ค. | K54: ก.พ. | L54: มี.ค. | M54: เม.ย. | N54: พ.ค. | O54: มิ.ย. | P54: ก.ค. | Q54: ส.ค. | R54: ก.ย.
A55: 1 | B55: โครงการบริหารจัดการขยะในชุมชนของตำบลวังหิน | C55: เพื่อจ่ายเป็นค่าใช้จ่ายตามโครงการบริหารจัดการขยะในชุมชนของตำบล วังหิน | D55: 60000 | F55: สำนักงาน ปลัด อบต.
A56: รวม | D56: =D55 -> 60000
A57: รวม ( งานบริการสาธารณสุขและงานสาธารณสุขอื่น ) | D57: =D56 -> 60000
A58: รวม ( แผนงานสาธารณสุข ) | D58: =D57+D41 -> 60000 | E58: =BAHTTEXT(D58) -> หกหมื่นบาทถ้วน

Sheet ผด2 ( ย.5) 
A1: บัญชีโครงการ / กิจกรรม / งบประมาณ
A2: แผนการดำเนินงาน ประจำปีงบประมาณ พ.ศ.2563
A3: องค์การบริหารส่วนตำบลวังหิน อำเภอบางขัน จังหวัดนครศรีธรรมราช
A5: ภายใต้ยุทธศาสตร์ ที่ 5 ด้านพัฒนาคุณภาพชีวิตและสังคม
A6: แผนงาน การรักษาความสงบภายใน
A7: งาน ป้องกันภัยฝ่ายพลเรือนและระงับอัคคีภัย
A8: ที่ | B8: โครงการ / กิจกรรม | C8: รายละเอียดของโครงการ / กิจกรรม | D8: งบประมาณ ( บาท) | E8: สถานที่ ดำเนินการ | F8: หน่วย ดำเนินการ | G8: 2562 | J8: 2563
G9: ต.ค. | H9: พ.ย | I9: ธ.ค. | J9: ม.ค. | K9: ก.พ. | L9: มี.ค. | M9: เม.ย. | N9: พ.ค. | O9: มิ.ย. | P9: ก.ค. | Q9: ส.ค. | R9: ก.ย.
A10: 1 | B10: ค่าตอบแทนผู้ปฎิบัติราชการอันเป็นประโยชน์แก่องค์กรปกครองส่วนท้องถิ่น | C10: เพื่อจ่ายเป็นค่าตอบแทนผู้ปฎิบัติราชการอันเป็นประโยชน์แก่ อบต. ตามระเบียบกำหนด | D10: 45000 | E10: - | F10: สำนักงาน ปลัด อบต.
A11: 2 | B11: โครงการกิจกรรมถนนปลอดภัย | C11: เพื่อจ่ายเป็นค่าใช้จ่ายตามโครงการกิจกรรมถนนปลอดภัย | D11: 30000 | E11: สี่แยกสวนป่า | F11: สำนักงาน ปลัด อบต.
A12: 3 | B12: โครงการสนับสนุนการปฎิบัติการแพทย์ฉุกเฉินเบื้องต้น อบต.วังหิน | C12: เพื่อจ่ายเป็นค่าใช้จ่ายตามโครงการ สนับสนุนการปฎิบัติการแพทย์ฉุกเฉินเบื้องต้น อบต.วังหิน | D12: 20000 | F12: สำนักงาน ปลัด อบต.
A13: 4 | B13: โครงการฝึกอบรมให้ความรู้เตรียมความพร้อมในการป้องกันและบรรเทาสาธารณภัย | C13: เพื่อจ่ายเป็นค่าใช้จ่ายตามโครงการ ฝึกอบรมให้ความรู้เตรียมความพร้อมในการป้องกันและบรรเทาสาธารณภัย | D13: 50000 | F13: สำนักงาน ปลัด อบต.
A14: 5 | B14: ค่าวัสดุยานพาหนะ | C14: เพื่อจ่ายเป็นค่าจัดซื้อยานพาหนะและขนส่ง | D14: 5000 | F14: สำนักงานปลัด อบต.
A15: 6 | B15: ค่าวัสดุเครื่องแต่งกาย | C15: เพื่อจ่ายเป็นค่าวัสดุเครื่องแต่งกาย | D15: 30000 | F15: สำนักงานปลัด อบต.
A16: 7 | B16: ค่าวัสดุเครื่องดับเพลิง | C16: เพื่อจ่ายเป็นค่าจัดซื้อวัสดุเครื่องดับเพลิง | D16: 5000 | F16: สำนักงานปลัด อบต.
A17: รวม | D17: =D10+D11+D12+D13+D14+D15+D16 -> 185000
A21: ที่ | B21: โครงการ / กิจกรรม | C21: รายละเอียดของโครงการ / กิจกรรม | D21: งบประมาณ ( บาท) | E21: สถานที่ ดำเนินการ | F21: หน่วย ดำเนินการ | G21: 2562 | J21: 2563
G22: ต.ค. | H22: พ.ย | I22: ธ.ค. | J22: ม.ค. | K22: ก.พ. | L22: มี.ค. | M22: เม.ย. | N22: พ.ค. | O22: มิ.ย. | P22: ก.ค. | Q22: ส.ค. | R22: ก.ย.
A23: 8 | B23: จัดซื้อเลื่อยยนต์ | C23: เพื่อจ่ายเป็นค่าจัดซื้อเลื่อยยนต์ จำนวน 1 | D23: 30000 | F23: สำนักงาน ปลัด อบต.
A24: รวม | D24: =D23 -> 30000
A25: รวม ( แผนงานการรักษาความสงบภายใน ) | D25: =D24+D17 -> 215000 | E25: =BAHTTEXT(D25) -> สองแสนหนึ่งหมื่นห้าพันบาทถ้วน
A44: ภายใต้ยุทธศาสตร์ ที่ 5 ด้านพัฒนาคุณภาพชีวิตและสังคม
A45: แผนงาน สาธารณสุข
A46: งาน บริการสาธารณสุขและงานสาธารณสุขอื่น
A47: ที่ | B47: โครงการ / กิจกรรม | C47: รายละเอียดของโครงการ / กิจกรรม | D47: งบประมาณ ( บาท) | E47: สถานที่ ดำเนินการ | F47: หน่วย ดำเนินการ | G47: 2562 | J47: 2563
G48: ต.ค. | H48: พ.ย | I48: ธ.ค. | J48: ม.ค. | K48: ก.พ. | L48: มี.ค. | M48: เม.ย. | N48: พ.ค. | O48: มิ.ย. | P48: ก.ค. | Q48: ส.ค. | R48: ก.ย.
A49: 1 | B49: โครงการจัดการและบริการด้านสุขภาพเชิงรุกตลอดจนอบรมประชาสัมพันธ์รวมถึงการป้องกันยาเสพติด | C49: เพื่อจ่ายเป็นค่าใช้จ่ายตามโครงการ จัดการและบริการด้านสุขภาพเชิงรุกตลอดจนอบรมประชาสัมพันธ์รวมถึงการป้องกันยาเสพติด | D49: 50000 | E49: - | F49: สำนักงาน ปลัด อบต.
A50: 2 | B50: โครงการป้องกันและระงับโรคไข้เลือดออก | C50: เพื่อจ่ายเป็นค่าใช้จ่ายตามโครงการ ป้องกันและระงับโรคไข้เลือดออก | D50: 30000 | F50: สำนักงาน ปลัด อบต.
A51: 3 | B51: โครงการป้องกันและระงับโรคติดต่อ | C51: เพื่อจ่ายเป็นค่าใช้จ่ายตามโครงการ ป้องกันและระงับโรคติดต่อ | D51: 10000 | F51: สำนักงาน ปลัด อบต.
A52: 4 | B52: โครงการสัตว์ปลอดโรค คนปลอดภัย จากโรคพิษสุนัขบ้า | C52: เพื่อจ่ายเป็นค่าใช้จ่ายตามโครงการ สัตว์ปลอดโรค คนปลอดภัย จากโรคพิษสุนัขบ้า | D52: 120000 | F52: สำนักงาน ปลัด อบต.
A53: 5 | B53: วัสดุวิทยาศาสตร์หรือการแพทย์ | C53: เพื่อจ่ายเป็นค่าจัดซื้อวัสดุวิทยาศาสตร์หรือการแพทย์ | D53: 30000 | F53: สำนักงาน ปลัด อบต.
A54: 6 | B54: โครงการตามแนวพระราชดำริด้านสาธารณสุข หมู่ที่ 10 | C54: เพื่ออุดหนุนแก่คณะกรรมการหมู่บ้าน หมู่ที่ 10 สำหรับขับเคลื่อนโครงการตามแนวพระราชดำริด้านสาธารณสุข จำนวน 3 โครงการ | D54: 20000 | E54: หมู่ที่ 10 | F54: สำนักงาน ปลัด อบต.
A55: 7 | B55: โครงการตามแนวพระราชดำริด้านสาธารณสุข หมู่ที่ 11 | C55: เพื่ออุดหนุนแก่คณะกรรมการหมู่บ้าน หมู่ที่ 11 สำหรับขับเคลื่อนโครงการตามแนวพระราชดำริด้านสาธารณสุข จำนวน 3 โครงการ | D55: 20000 | E55: หมู่ที่ 11 | F55: สำนักงาน ปลัด อบต.
A56: รวม | D56: =D49+D50+D51+D52+D53+D54+D55 -> 280000
A59: ที่ | B59: โครงการ / กิจกรรม | C59: รายละเอียดของโครงการ / กิจกรรม | D59: งบประมาณ ( บาท) | E59: สถานที่ ดำเนินการ | F59: หน่วย ดำเนินการ | G59: 2562 | J59: 2563
G60: ต.ค. | H60: พ.ย | I60: ธ.ค. | J60: ม.ค. | K60: ก.พ. | L60: มี.ค. | M60: เม.ย. | N60: พ.ค. | O60: มิ.ย. | P60: ก.ค. | Q60: ส.ค. | R60: ก.ย.
A61: 8 | B61: โครงการตามแนวพระราชดำริด้านสาธารณสุข หมู่ที่ 12 | C61: เพื่ออุดหนุนแก่คณะกรรมการหมู่บ้าน หมู่ที่ 12 สำหรับขับเคลื่อนโครงการตามแนวพระราชดำริด้านสาธารณสุข จำนวน 3 โครงการ | D61: 20000 | E61: หมู่ที่ 12 | F61: สำนักงาน ปลัด อบต.
A62: 9 | B62: โครงการตามแนวพระราชดำริด้านสาธารณสุข หมู่ที่ 13 | C62: เพื่ออุดหนุนแก่คณะกรรมการหมู่บ้าน หมู่ที่ 13 สำหรับขับเคลื่อนโครงการตามแนวพระราชดำริด้านสาธารณสุข จำนวน 3 โครงการ | D62: 20000 | E62: หมู่ที่ 13 | F62: สำนักงาน ปลัด อบต.
A63: 10 | B63: โครงการตามแนวพระราชดำริด้านสาธารณสุข หมู่ที่ 3 | C63: เพื่ออุดหนุนแก่คณะกรรมการหมู่บ้าน หมู่ที่ 13 สำหรับขับเคลื่อนโครงการตามแนวพระราชดำริด้านสาธารณสุข จำนวน 3 โครงการ | D63: 20000 | E63: หมู่ที่ 3 | F63: สำนักงาน ปลัด อบต.
A64: 11 | B64: โครงการตามแนวพระราชดำริด้านสาธารณสุข หมู่ที่ 4 | C64: เพื่ออุดหนุนแก่คณะกรรมการหมู่บ้าน หมู่ที่ 4 สำหรับขับเคลื่อนโครงการตามแนวพระราชดำริด้านสาธารณสุข จำนวน 3 โครงการ | D64: 20000 | E64: หมู่ที่ 4 | F64: สำนักงาน ปลัด อบต.
...

Sheet ผด2 ( ย.6) 
A1: บัญชีโครงการ / กิจกรรม / งบประมาณ
A2: แผนการดำเนินงาน ประจำปีงบประมาณ พ.ศ.2563
A3: องค์การบริหารส่วนตำบลวังหิน อำเภอบางขัน จังหวัดนครศรีธรรมราช
A4: ภายใต้ยุทธศาสตร์ ที่ 6 ด้านการเมืองการปกครองการบริหารจัดการองค์กรภายใต้ระบบธรรมาภิบาล
A5: แผนงาน บริหารงานทั่วไป
A6: งาน บริหารทั่วไป
A7: ที่ | B7: โครงการ / กิจกรรม | C7: รายละเอียดของโครงการ / กิจกรรม | D7: งบประมาณ ( บาท) | E7: สถานที่ ดำเนินการ | F7: หน่วย ดำเนินการ | G7: 2562 | J7: 2563
G8: ต.ค. | H8: พ.ย | I8: ธ.ค. | J8: ม.ค. | K8: ก.พ. | L8: มี.ค. | M8: เม.ย. | N8: พ.ค. | O8: มิ.ย. | P8: ก.ค. | Q8: ส.ค. | R8: ก.ย.
A9: 1 | B9: เงินเดือนนายก / รองนายก | C9: เพื่อจ่ายเป็นค่าตอบแทนรายเดือนนายก อบต. และ รองนายก อบต. | D9: 514080 | E9: - | F9: สำนักงาน ปลัด อบต.
A10: 2 | B10: เงินค่าตอบแทนประจำตำแหน่งนายก / รองนายก | C10: เพื่อจ่ายเป็นค่าตอบแทนประจำตำแหน่ง นายก / รองนายก | D10: 42120 | E10: - | F10: สำนักงาน ปลัด อบต.
A11: 3 | B11: เงินค่าตอบแทนพิเศษนายก / รองนายก | C11: เพื่อจ่ายเป็นค่าตอบแทนพิเศษนายก / รองนายก | D11: 42120 | E11: - | F11: สำนักงาน ปลัด อบต.
A12: 4 | B12: เงินค่าตอบแทนเลขานุการ / ที่ปรึกษานายกเทศมนตรี นายกองค์การบริหารส่วนตำบล | C12: เพื่อจ่ายเป็นค่าตอบแทนรายเดือนให้แก่ เลขานุการนายก อบต. | D12: 86400 | E12: - | F12: สำนักงาน ปลัด อบต.
A13: 5 | B13: เงินค่าตอบแทนสมาชิกสภาองค์กรปกครองส่วนท้องถิ่น | C13: เพื่อจ่ายเป็นค่าตอบแทนรายเดือน ให้แก่ ประธานสภา รองประธานสภา สมาชิกสภา และเลขานุการสภา อบต. | D13: 1627200 | F13: สำนักงาน ปลัด อบต.
A14: 6 | B14: เงินเดือนพนักงาน | C14: เพื่อจ่ายเป็นค่าเงินเดือนและเงินปรับปรุงเงินเดือนให้แก่พนักงานส่วนตำบล สังกัดสำนักงานปลัด อบต. | D14: 3510660 | E14: - | F14: สำนักงาน ปลัด อบต.
A15: รวม | D15: =D9+D10+D11+D12+D13+D14 -> 5822580
A19: ที่ | B19: โครงการ / กิจกรรม | C19: รายละเอียดของโครงการ / กิจกรรม | D19: งบประมาณ ( บาท) | E19: สถานที่ ดำเนินการ | F19: หน่วย ดำเนินการ | G19: 2562 | J19: 2563
G20: ต.ค. | H20: พ.ย | I20: ธ.ค. | J20: ม.ค. | K20: ก.พ. | L20: มี.ค. | M20: เม.ย. | N20: พ.ค. | O20: มิ.ย. | P20: ก.ค. | Q20: ส.ค. | R20: ก.ย.
A21: 7 | B21: เงินเพิ่มต่างๆ ของพนักงาน | C21: เพื่อจ่ายเป็นเงินเพิ่มต่างๆ ให้แก่พนักงานส่วนตำบลที่มีสิทธิ์ได้รับเงินเพิ่ม | D21: 108000 | E21: - | F21: สำนักงาน ปลัด อบต.
A22: 8 | B22: เงินประจำตำแหน่ง | C22: เพื่อจ่ายเป็นเงินประจำตำแหน่ง ให้แก่ ปลัด อบต. รองปลัด อบต. และหัวหน้าสำนักปลัด อบต. | D22: 168000 | E22: - | F22: สำนักงาน ปลัด อบต.
A23: 9 | B23: ค่าจ้างลูกจ้างประจำ | C23: เพื่อจ่ายเป็นเงินค่าจ้างลูกจ้างประจำ สังกัดสำนักงานงานปลัด อบต. | D23: 275640 | E23: - | F23: สำนักงาน ปลัด อบต.
A24: 10 | B24: ค่าตอบแทนพนักงานจ้าง | C24: เพื่อจ่ายเป็นค่าตอบแทนพนักงานจ้างตามภารกิจ | D24: 1614600 | E24: - | F24: สำนักงาน ปลัด อบต.
A25: 11 | B25: เงินเพิ่มต่างๆ ของพนักงานจ้าง | C25: เพื่อจ่ายเป็นเงินเพิ่มค่าครองชีพและเงินเพิ่มต่างๆ ของพนักงานจ้าง | D25: 68280 | E25: - | F25: สำนักงาน ปลัด อบต.
A26: 12 | B26: ค่าตอบแทนผู้ปฎิบัติการอันเป็นประโยชน์แก่องค์กรปกครองส่วนท้องถิ่น | C26: เพื่อจ่ายเป็นค่าตอบแทนผู้ปฎิบัติการอันเป็นประโยชน์แก่องค์กรปกครองส่วนท้องถิ่น | D26: 460000 | E26: - | F26: สำนักงาน ปลัด อบต.
A27: 13 | B27: ค่าตอบแทนการปฎิบัติงานนอกเวลาราชการ | C27: เพื่อจ่ายเป็นค่าตอบการปฎิบัติงานนอกเวลาราชการ | D27: 20000 | E27: - | F27: สำนักงาน ปลัด อบต.
A28: 14 | B28: ค่าเช่าบ้าน | C28: เพื่อจ่ายเป็นค่าเช่าบ้าน ค่าเช่าซื้อบ้าน ค่ากู้ยืมเงินเพื่อชำระค่าบ้าน ให้แก่ พนักงานส่วนตำบล | D28: 200000 | E28: - | F28: สำนักงาน ปลัด อบต.
A29: 15 | B29: เงินช่วยเหลือการศึกษาบุตร | C29: เพื่อจ่ายเป็นเงินช่วยเหลือการศึกษาของบุตรพนักงานส่วนตำบล ลูกจ้างประจำ คณะผู้บริหาร ฯลฯ | D29: 100000 | E29: - | F29: สำนักงาน ปลัด อบต.
A30: รวม | D30: =D21+D22+D23+D24+D25+D26+D27+D28+D29 -> 3014520
A33: ที่ | B33: โครงการ / กิจกรรม | C33: รายละเอียดของโครงการ / กิจกรรม | D33: งบประมาณ ( บาท) | E33: สถานที่ ดำเนินการ | F33: หน่วย ดำเนินการ | G33: 2562 | J33: 2563
G34: ต.ค. | H34: พ.ย | I34: ธ.ค. | J34: ม.ค. | K34: ก.พ. | L34: มี.ค. | M34: เม.ย. | N34: พ.ค. | O34: มิ.ย. | P34: ก.ค. | Q34: ส.ค. | R34: ก.ย.
A35: 16 | B35: รายจ่ายเพื่อให้ได้มาซึ่งบริการ | C35: เพื่อจ่ายเป็นค่าเช่าบ้าน ค่าเช่าซื้อบ้าน ค่ากู้ยืมเงินเพื่อชำระค่าบ้าน ให้แก่ พนักงานส่วนตำบล | D35: 350000 | F35: สำนักงาน ปลัด อบต.
A36: 17 | B36: รายจ่ายเกี่ยวกับการรับรองและพิธีการ | C36: เพื่อจ่ายเป็นรายจ่ายเกี่ยวกับการรับรองและพิธีการ | D36: 50000 | F36: สำนักงาน ปลัด อบต.
A37: 18 | B37: ค่าใช้จ่ายในการเดินทางไปราชการในและนอกราชอาณาจักร | C37: เพื่อจ่ายเป็นค่าใช้จ่ายในการเดินทางไปราชการในและนอกราชอาณาจักร | D37: 200000 | F37: สำนักงาน ปลัด อบต.
A38: 19 | B38: ค่าใช้จ่ายในการเลือกตั้งสมาชิกสภาองค์การบริหารส่วนตำบล และ นายกองค์การบริหารส่วนตำบล | C38: เพื่อจ่ายเป็นค่าใช้จ่ายในการเลือกตั้งสมาชิกสภาองค์การบริหารส่วนตำบล และ นายกองค์การบริหารส่วนตำบล | D38: 800000 | F38: สำนักงาน ปลัด อบต.
A39: 20 | B39: โครงการอบรมสัมมนา / ศึกษาดูงาน เพื่อพัฒนาความรู้ให้แก่ คณะผู้บริหาร ส.อบต. พนักงานส่วนตำบล , ลูกจ้างประจำ และพนักงานจ้าง | C39: เพื่อจ่ายเป็นค่าใช้จ่ายตามโครงการอบรมสัมมนา / ศึกษาดูงาน เพื่อพัฒนาความรู้ให้แก่ คณะผู้บริหาร ส.อบต. พนักงานส่วนตำบล , ลูกจ้างประจำ และพนักงานจ้าง | D39: 150000 | F39: สำนักงาน ปลัด อบต.
A40: 21 | B40: ค่าบำรุงรักษาและซ่อมแซม | C40: เพื่อจ่ายเป็นค่าใช้จ่ายในการซ่อมแซม | D40: 100000 | F40: สำนักงาน ปลัด อบต.
A41: 22 | B41: วัสดุสำนักงาน | C41: เพื่อจ่ายเป็นค่าจัดซื้อวัสดุสำนักงาน | D41: 40000 | F41: สำนักงาน ปลัด อบต.
A42: 23 | B42: วัสดุไฟฟ้าและวิทยุ | C42: เพื่อจ่ายเป็นค่าจัดซื้อวัสดุไฟฟ้าและวิทยุ | D42: 10000 | F42: สำนักงาน ปลัด อบต.
A43: 24 | B43: วัสดุงานบ้านงานครัว | C43: เพื่อจ่ายเป็นค่าจัดซื้อวัสดุงานบ้าน งานครัว | D43: 30000 | F43: สำนักงาน ปลัด อบต.
A44: รวม | D44: =D35+D36+D37+D38+D39+D40+D41+D42+D43 -> 1730000
A49: ที่ | B49: โครงการ / กิจกรรม | C49: รายละเอียดของโครงการ / กิจกรรม | D49: งบประมาณ ( บาท) | E49: สถานที่ ดำเนินการ | F49: หน่วย ดำเนินการ | G49: 2562 | J49: 2563
...

Sheet Sheet2

Sheet Sheet3
